Workbook

Sheet RESUMEN PUNTUACION  (2)
B1: Nº ALTERNATIVA | C1: PUNTUACION PONDERADA
A2: INDIVIDUALES | B2: 1 | C2: 94.49 | D2: 94.1
A3: CROSSPOINT | B3: 2 | C3: 94.5 | D3: 94.5
A4: CROSSPOINT | B4: 3 | C4: 95.02 | D4: 95.02
A5: CROSSPOINT | B5: 4 | C5: 94.49 | D5: 94.49
A6: CROSSPOINT | B6: 5 | C6: 95.01 | D6: 85.32
A7: CROSSPOINT | B7: 6 | C7: 94.49 | D7: 94.49
A8: CROSSPOINT | B8: 7 | C8: 95.01 | D8: 85.32
A9: CROSSPOINT | B9: 8 | C9: 93.31 | D9: 93.31
A10: CROSSPOINT | B10: 9 | C10: 93.93 | D10: 84.14
A11: CROSSPOINT | B11: 10 | C11: 94.5
A12: CROSSPOINT | B12: 11 | C12: 94.49
A13: CROSSPOINT | B13: 12 | C13: 94.49
A14: CROSSPOINT | B14: 13 | C14: 93.31
A15: CROSSPOINT | B15: 14 | C15: 93.77
A16: CROSSPOINT | B16: 15 | C16: 95.01
A17: CROSSPOINT | B17: 16 | C17: 95.01
A18: CROSSPOINT | B18: 17 | C18: 93.83
A19: RETEVISION | B19: 18 | C19: 92.59 | D19: 92.59
A20: RETEVISION | B20: 19 | C20: 94.23 | D20: 88.44

Sheet ALTERNATIVA ADJUDICADA
A2: =valoración!A3 -> PROPUESTA DE ADJUDICACIÓN DEL EXPEDIENTE S-01350-2022
A3: =valoración!A4 -> "Servicios CDN"
A4: =valoración!A5 -> RESUMEN PUNTUACIÓN TÉCNICA Y ECONÓMICA
E9: Alternativa 2: oferta conjunta "CROSSPOINT" por dos lotes (2% lote 2 y 3% lote 7)
A10: Lotes | B10: Ofertas | C10: Valor estimado | D10: Puntuación técnica | E10: Baja oferta conjunta | F10: Importe Oferta | G10: Puntuación económica | H10: Total Puntuación | I10: Oferta seleccionada | J10: Factor de ponderación | K10: Valoración ponderada | L10: % Ahorro s/ licitación
A11: LOTE 1: Servicios de aceleración Web-servicios ESI AVANZADOS | B11: TELEFONICA SOLUCIONES INFORMATICA Y COMUNICACIONES ESPAÑA,S.AU | C11: 178838.4 | D11: 30 | F11: 162801.6 | G11: 70 | H11: 100 | I11: 1 | J11: 0.11365279 | K11: 11.365279 | L11: =100-($F11*100/$C11) -> 8.9672017
B12: GLOBAL INCUBATOR | C12: 178838.4 | D12: Excluida por no superar las pruebas técnicas
A13: LOTE 2: Servicios de aceleración Web-WAF | B13: TRANSPARENT EDGE SERVICES | C13: 36272 | D13: 26 | F13: 30985 | G13: 70 | H13: 96 | J13: 0 | K13: 0 | L13: =100-($F13*100/$C13) -> 14.575981
B14: CROSSPOINT | C14: 36272 | D14: 30 | E14: 0.02 | F14: 32615.968 | G14: 66.315386 | H14: 96.315386 | I14: 1 | J14: 0.023051057 | K14: 2.2201715 | L14: =100-($F14*100/$C14) -> 10.079488
B15: GLOBAL INCUBATOR | C15: 36272 | D15: Excluida la propuesta técnica no cumple con todos los requisitos establecidos en el pliego de condiciones técnicas.
A16: LOTE3 : Lote principal de servicios de distribución de contenido web estatico | B16: TRANSPARENT EDGE SERVICES | C16: 80000 | D16: 23 | F16: 75960 | G16: 57.944444 | H16: 80.944444 | J16: 0 | K16: 0 | L16: =100-($F16*100/$C16) -> 5.05
B17: EVOLUTIO CLOUD ENABLER,S.A. | C17: 80000 | D17: 17 | F17: 76000 | G17: 57.901235 | H17: 74.901235 | J17: 0 | K17: 0 | L17: =100-($F17*100/$C17) -> 5
B18: CROSSPOINT | C18: 80000 | D18: 30 | F18: 64800 | G18: 70 | H18: 100 | I18: 1 | J18: 0.050840443 | K18: 5.0840443 | L18: =100-($F18*100/$C18) -> 19
B19: GLOBAL INCUBATOR | C19: 80000 | D19: Excluida la propuesta técnica no cumple con todos los requisitos establecidos en el pliego de condiciones técnicas.
B20: RETEVISION | C20: 80000 | D20: No supera el corte del 50% de la puntuación según figura en el P.C.G.
A21: LOTE 4: Lote secundario de servicios de distribución de contenido web estatico | B21: TRANSPARENT EDGE SERVICES | C21: 40000 | D21: 23 | F21: 39400 | G21: 61.647727 | H21: 84.647727 | I21: 1 | J21: 0.025420222 | K21: 2.151764 | L21: =100-($F21*100/$C21) -> 1.5
B22: CROSSPOINT | C22: 40000 | D22: 30 | F22: 35200 | G22: 70 | H22: 100 | L22: =100-($F22*100/$C22) -> 12
B23: GLOBAL INCUBATOR,S.L | C23: Excluida la propuesta técnica no cumple con todos los requisitos establecidos en el pliego de condiciones técnicas.
B24: RETEVISION | C24: No supera el corte del 50% de la puntuación según figura en el P.C.G.
B25: FLUMOTION | C25: No supera el corte del 50% de la puntuación según figura en el P.C.G.
A26: LOTE 5: Lote principal de servicios de distribución de audio y video en directo | B26: TELEFONICA SOLUCIONES INFORMATICA Y COMUNICACIONES ESPAÑA,S.AU | C26: 413440 | D26: 15 | F26: 394240 | G26: 70 | H26: 85 | I26: 1 | J26: 0.26274341 | K26: 22.33319 | L26: =100-($F26*100/$C26) -> 4.6439628
B27: RETEVISION | C27: Excluida no ha supera las pruebas técnicas
A28: LOTE 6: Lote secundario de servicios de distribución de audio y video en directo | B28: CROSSPOINT | C28: 116000 | D28: 15 | F28: 106720 | G28: 55.109091 | H28: 70.109091 | J28: 0 | K28: 0 | L28: =100-($F28*100/$C28) -> 8
B29: RETEVISION | C29: 116000 | D29: 17 | F29: 88000 | G29: 70 | H29: 87 | I29: 1 | J29: 0.073718643 | K29: 6.4135219 | L29: =100-($F29*100/$C29) -> 24.137931
B30: FLUMOTION | C30: No ha superado las pruebas técnicas
A31: LOTE 7: Lote principal de servicios de distribución de audio y video bajo demanda | B31: CROSSPOINT | C31: 411400 | D31: 30 | E31: 0.03 | F31: 269364.15 | G31: 70 | H31: 100 | I31: 1 | J31: 0.26144698 | K31: 26.144698 | L31: =100-($F31*100/$C31) -> 34.525
B32: RETEVISION | C32: 411400 | D32: 25 | F32: 292600 | G32: 63.96167 | H32: 88.96167 | J32: 0 | K32: 0 | L32: =100-($F32*100/$C32) -> 28.877005
B33: TELEFONICA SOLUCIONES INFORMATICA Y COMUNICACIONES ESPAÑA,S.AU | C33: 411400 | D33: 20 | F33: 385000 | G33: 39.949566 | H33: 59.949566 | L33: =100-($F33*100/$C33) -> 6.4171123 | N33: =H33+H32 -> 148.91124 | O33: =N33/2 -> 74.455618 | P33: =H31-O33 -> 25.544382
A34: LOTE 8: Lote secundario de servicios de distribución de video y audio bajo demanda | B34: CROSSPOINT | C34: 278400 | D34: 30 | F34: 174000 | G34: 67.083333 | H34: 97.083333 | L34: =100-($F34*100/$C34) -> 37.5
B35: RETEVISION | C35: 278400 | D35: 25 | F35: 167040 | G35: 70 | H35: 95 | I35: 1 | J35: 0.17692474 | K35: 16.807851 | L35: =100-($F35*100/$C35) -> 40
B36: FLUMOTION | C36: No ha superado las pruebas técnicas
A37: LOTE 9: Servicios de transcodificación de vídeo en directo | B37: FLUMOTION | C37: 19200 | D37: 30 | F37: 16320 | G37: 70 | H37: 100 | I37: 1 | J37: 0.012201706 | K37: 1.2201706 | L37: =100-($F37*100/$C37) -> 15
B38: TELEFONICA SOLUCIONES INFORMATICA Y COMUNICACIONES ESPAÑA,S.AU | C38: 19200 | D38: 30 | F38: 19200 | G38: 57.647059 | H38: 87.647059 | L38: =100-($F38*100/$C38) -> 0
B39: Valor estimado total: | C39: =C11+C13+C16+C21+C26+C28+C31+C34+C37 -> 1573550.4 | J39: Puntuación total ponderada | K39: =K11+K14+K18+K21+K26+K29+K31+K35+K37 -> 93.74069
A41: los lotes 3 y 4 - 5 y 6 - 7 y 8 no pueden ser adjudicados al mismo proveedor según consta en el P.C.G.
A43: De conformidad con los criterios de valoración establecidos en el Pliego de Condiciones Generales de Contratación de este Expediente.
A44: Madrid, a 09 de junio de 2022

Sheet valoración
CE1: FÓRMULA PUNTUACIÓN ECONÓMICA: Adaptar a cada lote, estará condicionada por el número de ofertas y por los puntos que se dan a la oferta económica.
CE2: Celda contigua: incluir puntuación económica indicada en los pliegos. Si los lotes se valoran con diferente puntuación económica hay que tenerlo en cuenta en la fórmula. | CF2: 70
A3: PROPUESTA DE ADJUDICACIÓN DEL EXPEDIENTE S-01350-2022 | CE3: Adaptar la tabla al número de lotes y ofertas recibidas, insertando o eliminando filas, tener en cuenta si se desestima una oferta, indicar los motivos..
A4: "Servicios CDN"
A5: RESUMEN PUNTUACIÓN TÉCNICA Y ECONÓMICA
E7: Alternativa 1: ofertas individuales | K7: Alternativa 2: oferta conjunta "CROSSPOINT" por dos lotes (2% lote 2 y 3% lote 7) | S7: Alternativa 3: oferta conjunta "CROSSPOINT" por dos lotes (2% lote 2 y 5% lote 8) | Y7: ='DTº OFERTAS CONJUNTAS'!J8 -> Alternativa 4: oferta conjunta "CROSSPOINT" por dos lotes (1% lote 3 y 3% lote 7) | AF7: ='DTº OFERTAS CONJUNTAS'!J9 -> Alternativa 5: oferta conjunta "CROSSPOINT" por dos lotes (1% lote 3 y 5% lote 8) | AM7: Alternativa 6: oferta conjunta "CROSSPOINT" por dos lotes (0,5% lote 4 y 3% lote 7) | AT7: Alternativa 7: oferta conjunta "CROSSPOINT" por dos lotes (0,5% lote 4 y 5% lote 8) | BA7: Alternativa 8: oferta conjunta "CROSSPOINT" por dos lotes (1% lote 6 y 3% lote 7) | BH7: Alternativa 9: oferta conjunta "CROSSPOINT" por dos lotes (1% lote 6 y 5% lote8) | BO7: Alternativa 10: oferta conjunta "RETEVISION" por dos lotes (2 lote 6 y 2% lote7) | BV7: Alternativa11: oferta conjunta "RETEVISION" por dos lotes (2% lote 6 y 2% lote8)
A8: Lotes | B8: Ofertas | C8: Valor estimado | D8: Puntuación técnica | E8: Importe Oferta (Contrato 1 AÑO) | F8: Puntuación económica | G8: Puntuación Total | H8: Oferta seleccionada | I8: Factor de ponderación | J8: Valoración ponderada | K8: Baja oferta conjunta | L8: Importe Oferta (Contrato + prorroga/s) | M8: Puntuación económica | N8: Total Puntuación | O8: Oferta seleccionada | P8: Factor de ponderación | Q8: Valoración ponderada | R8: Baja oferta conjunta | S8: Importe Oferta (Contrato 1 AÑO) | T8: Puntuación económica | U8: Puntuación Total | V8: Oferta seleccionada | W8: Factor de ponderación | X8: Valoración ponderada | Y8: Baja oferta conjunta | Z8: Importe Oferta (Contrato + prorroga/s) | AA8: Puntuación económica | AB8: Total Puntuación | AC8: Oferta seleccionada | AD8: Factor de ponderación | AE8: Valoración ponderada | AF8: Baja oferta conjunta | AG8: Importe Oferta (Contrato + prorroga/s) | AH8: Puntuación económica | AI8: Total Puntuación | AJ8: Oferta seleccionada | AK8: Factor de ponderación | AL8: Valoración ponderada | AM8: Baja oferta conjunta | AN8: Importe Oferta (Contrato + prorroga/s) | AO8: Puntuación económica | AP8: Total Puntuación | AQ8: Oferta seleccionada | AR8: Factor de ponderación | AS8: Valoración ponderada | AT8: Baja oferta conjunta | AU8: Importe Oferta (Contrato + prorroga/s) | AV8: Puntuación económica | AW8: Total Puntuación | AX8: Oferta seleccionada | AY8: Factor de ponderación | AZ8: Valoración ponderada | BA8: Baja oferta conjunta | BB8: Importe Oferta (Contrato + prorroga/s) | BC8: Puntuación económica | BD8: Total Puntuación | BE8: Oferta seleccionada | BF8: Factor de ponderación | BG8: Valoración ponderada | BH8: Baja oferta conjunta | BI8: Importe Oferta (Contrato + prorroga/s) | BJ8: Puntuación económica | BK8: Total Puntuación | BL8: Oferta seleccionada | BM8: Factor de ponderación | BN8: Valoración ponderada | BO8: Baja oferta conjunta | BP8: Importe Oferta (Contrato + prorroga/s) | BQ8: Puntuación económica | BR8: Total Puntuación | BS8: Oferta seleccionada | BT8: Factor de ponderación | BU8: Valoración ponderada | BV8: Baja oferta conjunta | BW8: Importe Oferta (Contrato + prorroga/s) | BX8: Puntuación económica | BY8: Total Puntuación | BZ8: Oferta seleccionada | CA8: Factor de ponderación | CB8: Valoración ponderada
A9: LOTE 1: Servicios de aceleración Web-servicios ESI AVANZADOS | B9: TELEFONICA SOLUCIONES INFORMATICA Y COMUNICACIONES ESPAÑA,S.AU | C9: 178838.4 | D9: 30 | E9: 162801.6 | F9: =$CF$2*(2-E9/MIN(E$9:E$9)) -> 70 | G9: =$D$9+F9 -> 100 | H9: 1 | I9: =+$C9/$C$37*H9 -> 0.11365279 | J9: =+G9*I9 -> 11.365279 | L9: 162801.6 | M9: =$CF$2*(2-L9/MIN(L$9:L$9)) -> 70 | N9: =$D9+M9 -> 100 | O9: 1 | P9: =+$C9/$C$37*O9 -> 0.11365279 | Q9: =+N9*P9 -> 11.365279 | S9: 162801.6 | T9: =$CF$2*(2-S9/MIN(S$9:S$9)) -> 70 | U9: =$D9+T9 -> 100 | V9: 1 | W9: =+$C9/$C$37*V9 -> 0.11365279 | X9: =+U9*W9 -> 11.365279 | Z9: 162801.6 | AA9: =$CF$2*(2-Z9/MIN(Z$9:Z$9)) -> 70 | AB9: =$D9+AA9 -> 100 | AC9: 1 | AD9: =+$C9/$C$37*AC9 -> 0.11365279 | AE9: =+AB9*AD9 -> 11.365279 | AG9: 162801.6 | AH9: =$CF$2*(2-AG9/MIN(AG$9:AG$9)) -> 70 | AI9: =$D9+AH9 -> 100 | AJ9: 1 | AK9: =+$C9/$C$37*AJ9 -> 0.11365279 | AL9: =+AI9*AK9 -> 11.365279 | AN9: 162801.6 | AO9: =$CF$2*(2-AN9/MIN(AN$9:AN$9)) -> 70 | AP9: =$D9+AO9 -> 100 | AQ9: 1 | AR9: =+$C9/$C$37*AQ9 -> 0.11365279 | AS9: =+AP9*AR9 -> 11.365279 | AU9: 162801.6 | AV9: =$CF$2*(2-AU9/MIN(AU$9:AU$9)) -> 70 | AW9: =$D9+AV9 -> 100 | AX9: 1 | AY9: =+$C9/$C$37*AX9 -> 0.11365279 | AZ9: =+AW9*AY9 -> 11.365279 | BB9: 162801.6 | BC9: =$CF$2*(2-BB9/MIN(BB$9:BB$9)) -> 70 | BD9: =$D9+BC9 -> 100 | BE9: 1 | BF9: =+$C9/$C$37*BE9 -> 0.11365279 | BG9: =+BD9*BF9 -> 11.365279 | BI9: 162801.6 | BJ9: =$CF$2*(2-BI9/MIN(BI$9:BI$9)) -> 70 | BK9: =$D9+BJ9 -> 100 | BL9: 1 | BM9: =+$C9/$C$37*BL9 -> 0.11365279 | BN9: =+BK9*BM9 -> 11.365279 | BP9: 162801.6 | BQ9: =$CF$2*(2-BP9/MIN(BP$9:BP$9)) -> 70 | BR9: =$D9+BQ9 -> 100 | BS9: 1 | BT9: =+$C9/$C$37*BS9 -> 0.11365279 | BU9: =+BR9*BT9 -> 11.365279 | BW9: 162801.6 | BX9: =$CF$2*(2-BW9/MIN(BW$9:BW$9)) -> 70 | BY9: =$D9+BX9 -> 100 | BZ9: 1 | CA9: =+$C9/$C$37*BZ9 -> 0.11365279 | CB9: =+BY9*CA9 -> 11.365279
B10: GLOBAL INCUBATOR | C10: 178838.4 | D10: Excluida por no superar las pruebas técnicas
A11: LOTE 2: Servicios de aceleración Web-WAF | B11: TRANSPARENT EDGE SERVICES,S.L | C11: 36272 | D11: 26 | E11: 30985 | F11: =$CF$2*(2-E11/MIN(E$11:E$12)) -> 70 | G11: =D11+F11 -> 96 | H11: 1 | I11: =+$C11/$C$37*H11 -> 0.023051057 | J11: =+G11*I11 -> 2.2129015 | L11: =+$E11*(1-K11) -> 30985 | M11: =$CF$2*(2-L11/MIN(L$11:L$12)) -> 70 | N11: =$D11+M11 -> 96 | P11: =+$C11/$C$37*O11 -> 0 | Q11: =+N11*P11 -> 0 | S11: 30985 | T11: =$CF$2*(2-S11/MIN(S$11:S$12)) -> 70 | U11: =$D11+T11 -> 96 | Z11: =+$E11*(1-Y11) -> 30985 | AA11: =$CF$2*(2-Z11/MIN(Z$11:Z$12)) -> 70 | AB11: =$D11+AA11 -> 96 | AC11: 1 | AD11: =+$C11/$C$37*AC11 -> 0.023051057 | AE11: =+AB11*AD11 -> 2.2129015 | AG11: =+$E11*(1-AF11) -> 30985 | AH11: =$CF$2*(2-AG11/MIN(AG$11:AG$12)) -> 70 | AI11: =$D11+AH11 -> 96 | AJ11: 1 | AK11: =+$C11/$C$37*AJ11 -> 0.023051057 | AL11: =+AI11*AK11 -> 2.2129015 | AN11: =+$E11*(1-AM11) -> 30985 | AO11: =$CF$2*(2-AN11/MIN(AN$11:AN$12)) -> 70 | AP11: =$D11+AO11 -> 96 | AQ11: 1 | AR11: =+$C11/$C$37*AQ11 -> 0.023051057 | AS11: =+AP11*AR11 -> 2.2129015 | AU11: =+$E11*(1-AT11) -> 30985 | AV11: =$CF$2*(2-AU11/MIN(AU$11:AU$12)) -> 70 | AW11: =$D11+AV11 -> 96 | AX11: 1 | AY11: =+$C11/$C$37*AX11 -> 0.023051057 | AZ11: =+AW11*AY11 -> 2.2129015 | BB11: =+$E11*(1-BA11) -> 30985 | BC11: =$CF$2*(2-BB11/MIN(BB$11:BB$12)) -> 70 | BD11: =$D11+BC11 -> 96 | BE11: 1 | BF11: =+$C11/$C$37*BE11 -> 0.023051057 | BG11: =+BD11*BF11 -> 2.2129015 | BI11: =+$E11*(1-BH11) -> 30985 | BJ11: =$CF$2*(2-BI11/MIN(BI$11:BI$12)) -> 70 | BK11: =$D11+BJ11 -> 96 | BL11: 1 | BM11: =+$C11/$C$37*BL11 -> 0.023051057 | BN11: =+BK11*BM11 -> 2.2129015 | BP11: =+$E11*(1-BO11) -> 30985 | BQ11: =$CF$2*(2-BP11/MIN(BP$11:BP$12)) -> 70 | BR11: =$D11+BQ11 -> 96 | BS11: 1 | BT11: =+$C11/$C$37*BS11 -> 0.023051057 | BU11: =+BR11*BT11 -> 2.2129015 | BW11: =+$E11*(1-BV11) -> 30985 | BX11: =$CF$2*(2-BW11/MIN(BW$11:BW$12)) -> 70 | BY11: =$D11+BX11 -> 96 | BZ11: 1 | CA11: =+$C11/$C$37*BZ11 -> 0.023051057 | CB11: =+BY11*CA11 -> 2.2129015
B12: CROSSPOINT | C12: 36272 | D12: 30 | E12: 33281.6 | F12: =$CF$2*(2-E12/MIN(E$11:E$12)) -> 64.811619 | G12: =D12+F12 -> 94.811619 | J12: =+G12*I12 -> 0 | K12: 0.02 | L12: =+$E12*(1-K12) -> 32615.968 | M12: =$CF$2*(2-L12/MIN(L$11:L$12)) -> 66.315386 | N12: =$D12+M12 -> 96.315386 | O12: 1 | P12: =+$C12/$C$37*O12 -> 0.023051057 | Q12: =+N12*P12 -> 2.2201715 | R12: 0.02 | S12: =+$E12*(1-R12) -> 32615.968 | T12: =$CF$2*(2-S12/MIN(S$11:S$12)) -> 66.315386 | U12: =$D12+T12 -> 96.315386 | V12: 1 | W12: =+$C12/$C$37*V12 -> 0.023051057 | X12: =+U12*W12 -> 2.2201715 | Z12: =+$E12*(1-Y12) -> 33281.6 | AA12: =$CF$2*(2-Z12/MIN(Z$11:Z$12)) -> 64.811619 | AB12: =$D12+AA12 -> 94.811619 | AD12: =+$C12/$C$37*AC12 -> 0 | AE12: =+AB12*AD12 -> 0 | AG12: =+$E12*(1-AF12) -> 33281.6 | AH12: =$CF$2*(2-AG12/MIN(AG$11:AG$12)) -> 64.811619 | AI12: =$D12+AH12 -> 94.811619 | AK12: =+$C12/$C$37*AJ12 -> 0 | AL12: =+AI12*AK12 -> 0 | AN12: =+$E12*(1-AM12) -> 33281.6 | AO12: =$CF$2*(2-AN12/MIN(AN$11:AN$12)) -> 64.811619 | AP12: =$D12+AO12 -> 94.811619 | AR12: =+$C12/$C$37*AQ12 -> 0 | AS12: =+AP12*AR12 -> 0 | AU12: =+$E12*(1-AT12) -> 33281.6 | AV12: =$CF$2*(2-AU12/MIN(AU$11:AU$12)) -> 64.811619 | AW12: =$D12+AV12 -> 94.811619 | AY12: =+$C12/$C$37*AX12 -> 0 | AZ12: =+AW12*AY12 -> 0 | BB12: =+$E12*(1-BA12) -> 33281.6 | BC12: =$CF$2*(2-BB12/MIN(BB$11:BB$12)) -> 64.811619 | BD12: =$D12+BC12 -> 94.811619 | BF12: =+$C12/$C$37*BE12 -> 0 | BG12: =+BD12*BF12 -> 0 | BI12: =+$E12*(1-BH12) -> 33281.6 | BJ12: =$CF$2*(2-BI12/MIN(BI$11:BI$12)) -> 64.811619 | BK12: =$D12+BJ12 -> 94.811619 | BM12: =+$C12/$C$37*BL12 -> 0 | BN12: =+BK12*BM12 -> 0 | BP12: =+$E12*(1-BO12) -> 33281.6 | BQ12: =$CF$2*(2-BP12/MIN(BP$11:BP$12)) -> 64.811619 | BR12: =$D12+BQ12 -> 94.811619 | BT12: =+$C12/$C$37*BS12 -> 0 | BU12: =+BR12*BT12 -> 0 | BW12: =+$E12*(1-BV12) -> 33281.6 | BX12: =$CF$2*(2-BW12/MIN(BW$11:BW$12)) -> 64.811619 | BY12: =$D12+BX12 -> 94.811619 | CA12: =+$C12/$C$37*BZ12 -> 0 | CB12: =+BY12*CA12 -> 0
B13: GLOBAL INCUBATOR | C13: 36272 | D13: Excluida la propuesta técnica no cumple con todos los requisitos establecidos en el pliego de condiciones técnicas.
A14: LOTE3 : Lote principal de servicios de distribución de contenido web estatico | B14: TRANSPARENT EDGE SERVICES,S.L | C14: 80000 | D14: 23 | E14: 75960 | F14: =$CF$2*(2-E14/MIN(E$14:E$16)) -> 57.944444 | G14: =D14+F14 -> 80.944444 | I14: =+$C14/$C$37*H14 -> 0 | J14: =+G14*I14 -> 0 | L14: =+$E14*(1-K14) -> 75960 | M14: =$CF$2*(2-L14/MIN(L$14:L$16)) -> 57.944444 | N14: =$D14+M14 -> 80.944444 | P14: =+$C14/$C$37*O14 -> 0 | Q14: =+N14*P14 -> 0 | S14: 75960 | T14: =$CF$2*(2-S14/MIN(S$14:S$16)) -> 57.944444 | U14: =$D14+T14 -> 80.944444 | W14: =+$C14/$C$37*V14 -> 0 | X14: =+U14*W14 -> 0 | Z14: =+$E14*(1-Y14) -> 75960 | AA14: =$CF$2*(2-Z14/MIN(Z$14:Z$16)) -> 57.1156 | AB14: =$D14+AA14 -> 80.1156 | AD14: =+$C14/$C$37*AC14 -> 0 | AE14: =+AB14*AD14 -> 0 | AG14: =+$E14*(1-AF14) -> 75960 | AH14: =$CF$2*(2-AG14/MIN(AG$14:AG$16)) -> 57.1156 | AI14: =$D14+AH14 -> 80.1156 | AK14: =+$C14/$C$37*AJ14 -> 0 | AL14: =+AI14*AK14 -> 0 | AN14: =+$E14*(1-AM14) -> 75960 | AO14: =$CF$2*(2-AN14/MIN(AN$14:AN$16)) -> 57.944444 | AP14: =$D14+AO14 -> 80.944444 | AQ14: 1 | AR14: =+$C14/$C$37*AQ14 -> 0.050840443 | AS14: =+AP14*AR14 -> 4.1152514 | AU14: =+$E14*(1-AT14) -> 75960 | AV14: =$CF$2*(2-AU14/MIN(AU$14:AU$16)) -> 57.944444 | AW14: =$D14+AV14 -> 80.944444 | AX14: 1 | AY14: =+$C14/$C$37*AX14 -> 0.050840443 | AZ14: =+AW14*AY14 -> 4.1152514 | BB14: =+$E14*(1-BA14) -> 75960 | BC14: =$CF$2*(2-BB14/MIN(BB$14:BB$16)) -> 57.944444 | BD14: =$D14+BC14 -> 80.944444 | BF14: =+$C14/$C$37*BE14 -> 0 | BG14: =+BD14*BF14 -> 0 | BI14: =+$E14*(1-BH14) -> 75960 | BJ14: =$CF$2*(2-BI14/MIN(BI$14:BI$16)) -> 57.944444 | BK14: =$D14+BJ14 -> 80.944444 | BM14: =+$C14/$C$37*BL14 -> 0 | BN14: =+BK14*BM14 -> 0 | BP14: =+$E14*(1-BO14) -> 75960 | BQ14: =$CF$2*(2-BP14/MIN(BP$14:BP$16)) -> 57.944444 | BR14: =$D14+BQ14 -> 80.944444 | BT14: =+$C14/$C$37*BS14 -> 0 | BU14: =+BR14*BT14 -> 0 | BW14: =+$E14*(1-BV14) -> 75960 | BX14: =$CF$2*(2-BW14/MIN(BW$14:BW$16)) -> 57.944444 | BY14: =$D14+BX14 -> 80.944444 | CA14: =+$C14/$C$37*BZ14 -> 0 | CB14: =+BY14*CA14 -> 0
B15: EVOLUTIO CLOUD ENABLER,S.A | C15: 80000 | D15: 17 | E15: 76000 | F15: =$CF$2*(2-E15/MIN(E$14:E$16)) -> 57.901235 | G15: =D15+F15 -> 74.901235 | I15: =+$C15/$C$37*H15 -> 0 | J15: =+G15*I15 -> 0 | L15: =+$E15*(1-K15) -> 76000 | M15: =$CF$2*(2-L15/MIN(L$14:L$16)) -> 57.901235 | N15: =$D15+M15 -> 74.901235 | P15: =+$C15/$C$37*O15 -> 0 | Q15: =+N15*P15 -> 0 | S15: 76000 | T15: =$CF$2*(2-S15/MIN(S$14:S$16)) -> 57.901235 | U15: =$D15+T15 -> 74.901235 | W15: =+$C15/$C$37*V15 -> 0 | X15: =+U15*W15 -> 0 | Z15: =+$E15*(1-Y15) -> 76000 | AA15: =$CF$2*(2-Z15/MIN(Z$14:Z$16)) -> 57.071954 | AB15: =$D15+AA15 -> 74.071954 | AD15: =+$C15/$C$37*AC15 -> 0 | AE15: =+AB15*AD15 -> 0 | AG15: =+$E15*(1-AF15) -> 76000 | AH15: =$CF$2*(2-AG15/MIN(AG$14:AG$16)) -> 57.071954 | AI15: =$D15+AH15 -> 74.071954 | AK15: =+$C15/$C$37*AJ15 -> 0 | AL15: =+AI15*AK15 -> 0 | AN15: =+$E15*(1-AM15) -> 76000 | AO15: =$CF$2*(2-AN15/MIN(AN$14:AN$16)) -> 57.901235 | AP15: =$D15+AO15 -> 74.901235 | AR15: =+$C15/$C$37*AQ15 -> 0 | AS15: =+AP15*AR15 -> 0 | AU15: =+$E15*(1-AT15) -> 76000 | AV15: =$CF$2*(2-AU15/MIN(AU$14:AU$16)) -> 57.901235 | AW15: =$D15+AV15 -> 74.901235 | AY15: =+$C15/$C$37*AX15 -> 0 | AZ15: =+AW15*AY15 -> 0 | BB15: =+$E15*(1-BA15) -> 76000 | BC15: =$CF$2*(2-BB15/MIN(BB$14:BB$16)) -> 57.901235 | BD15: =$D15+BC15 -> 74.901235 | BF15: =+$C15/$C$37*BE15 -> 0 | BG15: =+BD15*BF15 -> 0 | BI15: =+$E15*(1-BH15) -> 76000 | BJ15: =$CF$2*(2-BI15/MIN(BI$14:BI$16)) -> 57.901235 | BK15: =$D15+BJ15 -> 74.901235 | BM15: =+$C15/$C$37*BL15 -> 0 | BN15: =+BK15*BM15 -> 0 | BP15: =+$E15*(1-BO15) -> 76000 | BQ15: =$CF$2*(2-BP15/MIN(BP$14:BP$16)) -> 57.901235 | BR15: =$D15+BQ15 -> 74.901235 | BT15: =+$C15/$C$37*BS15 -> 0 | BU15: =+BR15*BT15 -> 0 | BW15: =+$E15*(1-BV15) -> 76000 | BX15: =$CF$2*(2-BW15/MIN(BW$14:BW$16)) -> 57.901235 | BY15: =$D15+BX15 -> 74.901235 | CA15: =+$C15/$C$37*BZ15 -> 0 | CB15: =+BY15*CA15 -> 0
B16: CROSSPOINT | C16: 80000 | D16: 30 | E16: 64800 | F16: =$CF$2*(2-E16/MIN(E$14:E$16)) -> 70 | G16: =D16+F16 -> 100 | H16: 1 | I16: =+$C16/$C$37*H16 -> 0.050840443 | J16: =+G16*I16 -> 5.0840443 | L16: =+$E16*(1-K16) -> 64800 | M16: =$CF$2*(2-L16/MIN(L$14:L$16)) -> 70 | N16: =$D16+M16 -> 100 | O16: 1 | P16: =+$C16/$C$37*O16 -> 0.050840443 | Q16: =+N16*P16 -> 5.0840443 | S16: 64800 | T16: =$CF$2*(2-S16/MIN(S$14:S$16)) -> 70 | U16: =$D16+T16 -> 100 | V16: 1 | W16: =+$C16/$C$37*V16 -> 0.050840443 | X16: =+U16*W16 -> 5.0840443 | Y16: 0.01 | Z16: =+$E16*(1-Y16) -> 64152 | AA16: =$CF$2*(2-Z16/MIN(Z$14:Z$16)) -> 70 | AB16: =$D16+AA16 -> 100 | AC16: 1 | AD16: =+$C16/$C$37*AC16 -> 0.050840443 | AE16: =+AB16*AD16 -> 5.0840443 | AF16: 0.01 | AG16: =+$E16*(1-AF16) -> 64152 | AH16: =$CF$2*(2-AG16/MIN(AG$14:AG$16)) -> 70 | AI16: =$D16+AH16 -> 100 | AJ16: 1 | AK16: =+$C16/$C$37*AJ16 -> 0.050840443 | AL16: =+AI16*AK16 -> 5.0840443 | AN16: =+$E16*(1-AM16) -> 64800 | AO16: =$CF$2*(2-AN16/MIN(AN$14:AN$16)) -> 70 | AP16: =$D16+AO16 -> 100 | AR16: =+$C16/$C$37*AQ16 -> 0 | AS16: =+AP16*AR16 -> 0 | AU16: =+$E16*(1-AT16) -> 64800 | AV16: =$CF$2*(2-AU16/MIN(AU$14:AU$16)) -> 70 | AW16: =$D16+AV16 -> 100 | BB16: =+$E16*(1-BA16) -> 64800 | BC16: =$CF$2*(2-BB16/MIN(BB$14:BB$16)) -> 70 | BD16: =$D16+BC16 -> 100 | BE16: 1 | BF16: =+$C16/$C$37*BE16 -> 0.050840443 | BG16: =+BD16*BF16 -> 5.0840443 | BI16: =+$E16*(1-BH16) -> 64800 | BJ16: =$CF$2*(2-BI16/MIN(BI$14:BI$16)) -> 70 | BK16: =$D16+BJ16 -> 100 | BL16: 1 | BM16: =+$C16/$C$37*BL16 -> 0.050840443 | BN16: =+BK16*BM16 -> 5.0840443 | BP16: =+$E16*(1-BO16) -> 64800 | BQ16: =$CF$2*(2-BP16/MIN(BP$14:BP$16)) -> 70 | BR16: =$D16+BQ16 -> 100 | BS16: 1 | BT16: =+$C16/$C$37*BS16 -> 0.050840443 | BU16: =+BR16*BT16 -> 5.0840443 | BW16: =+$E16*(1-BV16) -> 64800 | BX16: =$CF$2*(2-BW16/MIN(BW$14:BW$16)) -> 70 | BY16: =$D16+BX16 -> 100 | BZ16: 1 | CA16: =+$C16/$C$37*BZ16 -> 0.050840443 | CB16: =+BY16*CA16 -> 5.0840443
B17: GLOBAL INCUBATOR | C17: 80000 | D17: Excluida la propuesta técnica no cumple con todos los requisitos establecidos en el pliego de condiciones técnicas.
B18: RETEVISION | C18: 80000 | D18: No supera el corte del 50% de la puntuación según figura en el P.C.G.
A19: LOTE 4: Lote secundario de servicios de distribución de contenido web estatico | B19: TRANSPARENT EDGE SERVICES,S.L | C19: 40000 | D19: 23 | E19: 39400 | F19: =$CF$2*(2-E19/MIN(E$19:E$20)) -> 61.647727 | G19: =D19+F19 -> 84.647727 | H19: 1 | I19: =+$C19/$C$37*H19 -> 0.025420222 | J19: =+G19*I19 -> 2.151764 | L19: =+$E19*(1-K19) -> 39400 | M19: =$CF$2*(2-L19/MIN(L$19:L$20)) -> 61.647727 | N19: =$D19+M19 -> 84.647727 | O19: 1 | P19: =+$C19/$C$37*O19 -> 0.025420222 | Q19: =+N19*P19 -> 2.151764 | S19: 39400 | T19: =$CF$2*(2-S19/MIN(S$19:S$20)) -> 61.647727 | U19: =$D19+T19 -> 84.647727 | V19: 1 | W19: =+$C19/$C$37*V19 -> 0.025420222 | X19: =+U19*W19 -> 2.151764 | Z19: =+$E19*(1-Y19) -> 39400 | AA19: =$CF$2*(2-Z19/MIN(Z$19:Z$20)) -> 61.647727 | AB19: =$D19+AA19 -> 84.647727 | AC19: 1 | AD19: =+$C19/$C$37*AC19 -> 0.025420222 | AE19: =+AB19*AD19 -> 2.151764 | AG19: =+$E19*(1-AF19) -> 39400 | AH19: =$CF$2*(2-AG19/MIN(AG$19:AG$20)) -> 61.647727 | AI19: =$D19+AH19 -> 84.647727 | AJ19: 1 | AK19: =+$C19/$C$37*AJ19 -> 0.025420222 | AL19: =+AI19*AK19 -> 2.151764 | AN19: =+$E19*(1-AM19) -> 39400 | AO19: =$CF$2*(2-AN19/MIN(AN$19:AN$20)) -> 61.253997 | AP19: =$D19+AO19 -> 84.253997 | AR19: =+$C19/$C$37*AQ19 -> 0 | AS19: =+AP19*AR19 -> 0 | AU19: =+$E19*(1-AT19) -> 39400 | AV19: =$CF$2*(2-AU19/MIN(AU$19:AU$20)) -> 61.253997 | AW19: =$D19+AV19 -> 84.253997 | AY19: =+$C19/$C$37*AX19 -> 0 | AZ19: =+AW19*AY19 -> 0 | BB19: =+$E19*(1-BA19) -> 39400 | BC19: =$CF$2*(2-BB19/MIN(BB$19:BB$20)) -> 61.647727 | BD19: =$D19+BC19 -> 84.647727 | BE19: 1 | BF19: =+$C19/$C$37*BE19 -> 0.025420222 | BG19: =+BD19*BF19 -> 2.151764 | BI19: =+$E19*(1-BH19) -> 39400 | BJ19: =$CF$2*(2-BI19/MIN(BI$19:BI$20)) -> 61.647727 | BK19: =$D19+BJ19 -> 84.647727 | BL19: 1 | BM19: =+$C19/$C$37*BL19 -> 0.025420222 | BN19: =+BK19*BM19 -> 2.151764 | BP19: =+$E19*(1-BO19) -> 39400 | BQ19: =$CF$2*(2-BP19/MIN(BP$19:BP$20)) -> 61.647727 | BR19: =$D19+BQ19 -> 84.647727 | BS19: 1 | BT19: =+$C19/$C$37*BS19 -> 0.025420222 | BU19: =+BR19*BT19 -> 2.151764 | BW19: =+$E19*(1-BV19) -> 39400 | BX19: =$CF$2*(2-BW19/MIN(BW$19:BW$20)) -> 61.647727 | BY19: =$D19+BX19 -> 84.647727 | BZ19: 1 | CA19: =+$C19/$C$37*BZ19 -> 0.025420222 | CB19: =+BY19*CA19 -> 2.151764
B20: CROSSPOINT | C20: 40000 | D20: 30 | E20: 35200 | F20: =$CF$2*(2-E20/MIN(E$19:E$20)) -> 70 | G20: =D20+F20 -> 100 | L20: =+$E20*(1-K20) -> 35200 | M20: =$CF$2*(2-L20/MIN(L$19:L$20)) -> 70 | N20: =$D20+M20 -> 100 | S20: 35200 | T20: =$CF$2*(2-S20/MIN(S$19:S$20)) -> 70 | U20: =$D20+T20 -> 100 | Z20: =+$E20*(1-Y20) -> 35200 | AA20: =$CF$2*(2-Z20/MIN(Z$19:Z$20)) -> 70 | AB20: =$D20+AA20 -> 100 | AG20: =+$E20*(1-AF20) -> 35200 | AH20: =$CF$2*(2-AG20/MIN(AG$19:AG$20)) -> 70 | AI20: =$D20+AH20 -> 100 | AM20: 0.005 | AN20: =+$E20*(1-AM20) -> 35024 | AO20: =$CF$2*(2-AN20/MIN(AN$19:AN$20)) -> 70 | AP20: =$D20+AO20 -> 100 | AQ20: 1 | AR20: =+$C20/$C$37*AQ20 -> 0.025420222 | AS20: =+AP20*AR20 -> 2.5420222 | AT20: 0.005 | AU20: =+$E20*(1-AT20) -> 35024 | AV20: =$CF$2*(2-AU20/MIN(AU$19:AU$20)) -> 70 | AW20: =$D20+AV20 -> 100 | AX20: 1 | AY20: =+$C20/$C$37*AX20 -> 0.025420222 | AZ20: =+AW20*AY20 -> 2.5420222 | BB20: =+$E20*(1-BA20) -> 35200 | BC20: =$CF$2*(2-BB20/MIN(BB$19:BB$20)) -> 70 | BD20: =$D20+BC20 -> 100 | BF20: =+$C20/$C$37*BE20 -> 0 | BG20: =+BD20*BF20 -> 0 | BI20: =+$E20*(1-BH20) -> 35200 | BJ20: =$CF$2*(2-BI20/MIN(BI$19:BI$20)) -> 70 | BK20: =$D20+BJ20 -> 100 | BP20: =+$E20*(1-BO20) -> 35200 | BQ20: =$CF$2*(2-BP20/MIN(BP$19:BP$20)) -> 70 | BR20: =$D20+BQ20 -> 100 | BW20: =+$E20*(1-BV20) -> 35200 | BX20: =$CF$2*(2-BW20/MIN(BW$19:BW$20)) -> 70 | BY20: =$D20+BX20 -> 100
B21: GLOBAL INCUBATOR,S.L | C21: Excluida la propuesta técnica no cumple con todos los requisitos establecidos en el pliego de condiciones técnicas.
B22: RETEVISION | C22: No supera el corte del 50% de la puntuación según figura en el P.C.G.
B23: FLUMOTION | C23: No supera el corte del 50% de la puntuación según figura en el P.C.G.
A24: LOTE 5: Lote principal de servicios de distribución de audio y video en directo | B24: TELEFONICA SOLUCIONES INFORMATICA Y COMUNICACIONES ESPAÑA,S.AU | C24: 413440 | D24: 15 | E24: 394240 | F24: =$CF$2*(2-E24/MIN(E$24:E$24)) -> 70 | G24: =D24+F24 -> 85 | H24: 1 | I24: =+$C24/$C$37*H24 -> 0.26274341 | J24: =+G24*I24 -> 22.33319 | L24: =+$E24*(1-K24) -> 394240 | M24: =$CF$2*(2-L24/MIN(L$24:L$24)) -> 70 | N24: =$D24+M24 -> 85 | O24: 1 | P24: =+$C24/$C$37*O24 -> 0.26274341 | Q24: =+N24*P24 -> 22.33319 | S24: 394240 | T24: =$CF$2*(2-S24/MIN(S$24:S$24)) -> 70 | U24: =$D24+T24 -> 85 | V24: 1 | W24: =+$C24/$C$37*V24 -> 0.26274341 | X24: =+U24*W24 -> 22.33319 | Z24: =+$E24*(1-Y24) -> 394240 | AA24: =$CF$2*(2-Z24/MIN(Z$24:Z$24)) -> 70 | AB24: =$D24+AA24 -> 85 | AC24: 1 | AD24: =+$C24/$C$37*AC24 -> 0.26274341 | AE24: =+AB24*AD24 -> 22.33319 | AG24: =+$E24*(1-AF24) -> 394240 | AH24: =$CF$2*(2-AG24/MIN(AG$24:AG$24)) -> 70 | AI24: =$D24+AH24 -> 85 | AJ24: 1 | AK24: =+$C24/$C$37*AJ24 -> 0.26274341 | AL24: =+AI24*AK24 -> 22.33319 | AN24: =+$E24*(1-AM24) -> 394240 | AO24: =$CF$2*(2-AN24/MIN(AN$24:AN$24)) -> 70 | AP24: =$D24+AO24 -> 85 | AQ24: 1 | AR24: =+$C24/$C$37*AQ24 -> 0.26274341 | AS24: =+AP24*AR24 -> 22.33319 | AU24: =+$E24*(1-AT24) -> 394240 | AV24: =$CF$2*(2-AU24/MIN(AU$24:AU$24)) -> 70 | AW24: =$D24+AV24 -> 85 | AX24: 1 | AY24: =+$C24/$C$37*AX24 -> 0.26274341 | AZ24: =+AW24*AY24 -> 22.33319 | BB24: =+$E24*(1-BA24) -> 394240 | BC24: =$CF$2*(2-BB24/MIN(BB$24:BB$24)) -> 70 | BD24: =$D24+BC24 -> 85 | BE24: 1 | BF24: =+$C24/$C$37*BE24 -> 0.26274341 | BG24: =+BD24*BF24 -> 22.33319 | BI24: =+$E24*(1-BH24) -> 394240 | BJ24: =$CF$2*(2-BI24/MIN(BI$24:BI$24)) -> 70 | BK24: =$D24+BJ24 -> 85 | BL24: 1 | BM24: =+$C24/$C$37*BL24 -> 0.26274341 | BN24: =+BK24*BM24 -> 22.33319 | BP24: =+$E24*(1-BO24) -> 394240 | BQ24: =$CF$2*(2-BP24/MIN(BP$24:BP$24)) -> 70 | BR24: =$D24+BQ24 -> 85 | BS24: 1 | BT24: =+$C24/$C$37*BS24 -> 0.26274341 | BU24: =+BR24*BT24 -> 22.33319 | BW24: =+$E24*(1-BV24) -> 394240 | BX24: =$CF$2*(2-BW24/MIN(BW$24:BW$24)) -> 70 | BY24: =$D24+BX24 -> 85 | BZ24: 1 | CA24: =+$C24/$C$37*BZ24 -> 0.26274341 | CB24: =+BY24*CA24 -> 22.33319
B25: RETEVISION | C25: Excluida no ha supera las pruebas técnicas
A26: LOTE 6: Lote secundario de servicios de distribución de audio y video en directo | B26: CROSSPOINT | C26: 116000 | D26: 15 | E26: 106720 | F26: =$CF$2*(2-E26/MIN(E$26:E$27)) -> 55.109091 | G26: =D26+F26 -> 70.109091 | I26: =+$C26/$C$37*H26 -> 0 | J26: =+G26*I26 -> 0 | L26: =+$E26*(1-K26) -> 106720 | M26: =$CF$2*(2-L26/MIN(L$26:L$27)) -> 55.109091 | N26: =$D26+M26 -> 70.109091 | P26: =+$C26/$C$37*O26 -> 0 | Q26: =+N26*P26 -> 0 | S26: 106720 | T26: =$CF$2*(2-S26/MIN(S$26:S$27)) -> 55.109091 | U26: =$D26+T26 -> 70.109091 | W26: =+$C26/$C$37*V26 -> 0 | X26: =+U26*W26 -> 0 | Z26: =+$E26*(1-Y26) -> 106720 | AA26: =$CF$2*(2-Z26/MIN(Z$26:Z$27)) -> 55.109091 | AB26: =$D26+AA26 -> 70.109091 | AD26: =+$C26/$C$37*AC26 -> 0 | AE26: =+AB26*AD26 -> 0 | AG26: =+$E26*(1-AF26) -> 106720 | AH26: =$CF$2*(2-AG26/MIN(AG$26:AG$27)) -> 55.109091 | AI26: =$D26+AH26 -> 70.109091 | AK26: =+$C26/$C$37*AJ26 -> 0 | AL26: =+AI26*AK26 -> 0 | AN26: =+$E26*(1-AM26) -> 106720 | AO26: =$CF$2*(2-AN26/MIN(AN$26:AN$27)) -> 55.109091 | AP26: =$D26+AO26 -> 70.109091 | AR26: =+$C26/$C$37*AQ26 -> 0 | AS26: =+AP26*AR26 -> 0 | AU26: =+$E26*(1-AT26) -> 106720 | AV26: =$CF$2*(2-AU26/MIN(AU$26:AU$27)) -> 55.109091 | AW26: =$D26+AV26 -> 70.109091 | AY26: =+$C26/$C$37*AX26 -> 0 | AZ26: =+AW26*AY26 -> 0 | BA26: 0.01 | BB26: =+$E26*(1-BA26) -> 105652.8 | BC26: =$CF$2*(2-BB26/MIN(BB$26:BB$27)) -> 55.958 | BD26: =$D26+BC26 -> 70.958 | BE26: 1 | BF26: =+$C26/$C$37*BE26 -> 0.073718643 | BG26: =+BD26*BF26 -> 5.2309275 | BH26: 0.01 | BI26: =+$E26*(1-BH26) -> 105652.8 | BJ26: =$CF$2*(2-BI26/MIN(BI$26:BI$27)) -> 55.958 | BK26: =$D26+BJ26 -> 70.958 | BL26: 1 | BM26: =+$C26/$C$37*BL26 -> 0.073718643 | BN26: =+BK26*BM26 -> 5.2309275 | BP26: =+$E26*(1-BO26) -> 106720 | BQ26: =$CF$2*(2-BP26/MIN(BP$26:BP$27)) -> 53.376623 | BR26: =$D26+BQ26 -> 68.376623 | BT26: =+$C26/$C$37*BS26 -> 0 | BU26: =+BR26*BT26 -> 0 | BW26: =+$E26*(1-BV26) -> 106720 | BX26: =$CF$2*(2-BW26/MIN(BW$26:BW$27)) -> 53.376623 | BY26: =$D26+BX26 -> 68.376623 | CA26: =+$C26/$C$37*BZ26 -> 0 | CB26: =+BY26*CA26 -> 0
B27: RETEVISION | C27: 116000 | D27: 17 | E27: 88000 | F27: =$CF$2*(2-E27/MIN(E$26:E$27)) -> 70 | G27: =D27+F27 -> 87 | H27: 1 | I27: =+$C27/$C$37*H27 -> 0.073718643 | J27: =+G27*I27 -> 6.4135219 | L27: =+$E27*(1-K27) -> 88000 | M27: =$CF$2*(2-L27/MIN(L$26:L$27)) -> 70 | N27: =$D27+M27 -> 87 | O27: 1 | P27: =+$C27/$C$37*O27 -> 0.073718643 | Q27: =+N27*P27 -> 6.4135219 | S27: 88000 | T27: =$CF$2*(2-S27/MIN(S$26:S$27)) -> 70 | U27: =$D27+T27 -> 87 | V27: 1 | W27: =+$C27/$C$37*V27 -> 0.073718643 | X27: =+U27*W27 -> 6.4135219 | Z27: =+$E27*(1-Y27) -> 88000 | AA27: =$CF$2*(2-Z27/MIN(Z$26:Z$27)) -> 70 | AB27: =$D27+AA27 -> 87 | AC27: 1 | AD27: =+$C27/$C$37*AC27 -> 0.073718643 | AE27: =+AB27*AD27 -> 6.4135219 | AG27: =+$E27*(1-AF27) -> 88000 | AH27: =$CF$2*(2-AG27/MIN(AG$26:AG$27)) -> 70 | AI27: =$D27+AH27 -> 87 | AJ27: 1 | AK27: =+$C27/$C$37*AJ27 -> 0.073718643 | AL27: =+AI27*AK27 -> 6.4135219 | AN27: =+$E27*(1-AM27) -> 88000 | AO27: =$CF$2*(2-AN27/MIN(AN$26:AN$27)) -> 70 | AP27: =$D27+AO27 -> 87 | AQ27: 1 | AR27: =+$C27/$C$37*AQ27 -> 0.073718643 | AS27: =+AP27*AR27 -> 6.4135219 | AU27: =+$E27*(1-AT27) -> 88000 | AV27: =$CF$2*(2-AU27/MIN(AU$26:AU$27)) -> 70 | AW27: =$D27+AV27 -> 87 | AX27: 1 | AY27: =+$C27/$C$37*AX27 -> 0.073718643 | AZ27: =+AW27*AY27 -> 6.4135219 | BB27: =+$E27*(1-BA27) -> 88000 | BC27: =$CF$2*(2-BB27/MIN(BB$26:BB$27)) -> 70 | BD27: =$D27+BC27 -> 87 | BI27: =+$E27*(1-BH27) -> 88000 | BJ27: =$CF$2*(2-BI27/MIN(BI$26:BI$27)) -> 70 | BK27: =$D27+BJ27 -> 87 | BO27: 0.02 | BP27: =+$E27*(1-BO27) -> 86240 | BQ27: =$CF$2*(2-BP27/MIN(BP$26:BP$27)) -> 70 | BR27: =$D27+BQ27 -> 87 | BS27: 1 | BT27: =+$C27/$C$37*BS27 -> 0.073718643 | BU27: =+BR27*BT27 -> 6.4135219 | BV27: 0.02 | BW27: =+$E27*(1-BV27) -> 86240 | BX27: =$CF$2*(2-BW27/MIN(BW$26:BW$27)) -> 70 | BY27: =$D27+BX27 -> 87 | BZ27: 1 | CA27: =+$C27/$C$37*BZ27 -> 0.073718643 | CB27: =+BY27*CA27 -> 6.4135219
B28: FLUMOTION | C28: No ha superado las pruebas técnicas
A29: LOTE 7: Lote principal de servicios de distribución de audio y video bajo demanda | B29: CROSSPOINT | C29: 411400 | D29: 30 | E29: 277695 | F29: =$CF$2*(2-E29/MIN(E$29:E$31)) -> 70 | G29: =D29+F29 -> 100 | H29: 1 | I29: =+$C29/$C$37*H29 -> 0.26144698 | J29: =+G29*I29 -> 26.144698 | K29: 0.03 | L29: =+$E29*(1-K29) -> 269364.15 | M29: =$CF$2*(2-L29/MIN(L$29:L$31)) -> 70 | N29: =$D29+M29 -> 100 | O29: 1 | P29: =+$C29/$C$37*O29 -> 0.26144698 | Q29: =+N29*P29 -> 26.144698 | S29: 277695 | T29: =$CF$2*(2-S29/MIN(S$29:S$31)) -> 70 | U29: =$D29+T29 -> 100 | Y29: 0.03 | Z29: =+$E29*(1-Y29) -> 269364.15 | AA29: =$CF$2*(2-Z29/MIN(Z$29:Z$31)) -> 70 | AB29: =$D29+AA29 -> 100 | AC29: 1 | AD29: =+$C29/$C$37*AC29 -> 0.26144698 | AE29: =+AB29*AD29 -> 26.144698 | AG29: =+$E29*(1-AF29) -> 277695 | AH29: =$CF$2*(2-AG29/MIN(AG$29:AG$31)) -> 70 | AI29: =$D29+AH29 -> 100 | AM29: 0.03 | AN29: =+$E29*(1-AM29) -> 269364.15 | AO29: =$CF$2*(2-AN29/MIN(AN$29:AN$31)) -> 70 | AP29: =$D29+AO29 -> 100 | AQ29: 1 | AR29: =+$C29/$C$37*AQ29 -> 0.26144698 | AS29: =+AP29*AR29 -> 26.144698 | AU29: =+$E29*(1-AT29) -> 277695 | AV29: =$CF$2*(2-AU29/MIN(AU$29:AU$31)) -> 70 | AW29: =$D29+AV29 -> 100 | BA29: 0.03 | BB29: =+$E29*(1-BA29) -> 269364.15 | BC29: =$CF$2*(2-BB29/MIN(BB$29:BB$31)) -> 70 | BD29: =$D29+BC29 -> 100 | BE29: 1 | BF29: =+$C29/$C$37*BE29 -> 0.26144698 | BG29: =+BD29*BF29 -> 26.144698 | BI29: =+$E29*(1-BH29) -> 277695 | BJ29: =$CF$2*(2-BI29/MIN(BI$29:BI$31)) -> 70 | BK29: =$D29+BJ29 -> 100 | BP29: =+$E29*(1-BO29) -> 277695 | BQ29: =$CF$2*(2-BP29/MIN(BP$29:BP$31)) -> 70 | BR29: =$D29+BQ29 -> 100 | BT29: =+$C29/$C$37*BS29 -> 0 | BU29: =+BR29*BT29 -> 0 | BW29: =+$E29*(1-BV29) -> 277695 | BX29: =$CF$2*(2-BW29/MIN(BW$29:BW$31)) -> 70 | BY29: =$D29+BX29 -> 100 | BZ29: 1 | CA29: =+$C29/$C$37*BZ29 -> 0.26144698 | CB29: =+BY29*CA29 -> 26.144698
B30: RETEVISION | C30: 411400 | D30: 25 | E30: 292600 | F30: =$CF$2*(2-E30/MIN(E$29:E$31)) -> 66.24282 | G30: =D30+F30 -> 91.24282 | I30: =+$C30/$C$37*H30 -> 0 | J30: =+G30*I30 -> 0 | L30: =+$E30*(1-K30) -> 292600 | M30: =$CF$2*(2-L30/MIN(L$29:L$31)) -> 63.96167 | N30: =$D30+M30 -> 88.96167 | P30: =+$C30/$C$37*O30 -> 0 | Q30: =+N30*P30 -> 0 | S30: 292600 | T30: =$CF$2*(2-S30/MIN(S$29:S$31)) -> 66.24282 | U30: =$D30+T30 -> 91.24282 | V30: 1 | W30: =+$C30/$C$37*V30 -> 0.26144698 | X30: =+U30*W30 -> 23.85516 | Z30: =+$E30*(1-Y30) -> 292600 | AA30: =$CF$2*(2-Z30/MIN(Z$29:Z$31)) -> 63.96167 | AB30: =$D30+AA30 -> 88.96167 | AD30: =+$C30/$C$37*AC30 -> 0 | AE30: =+AB30*AD30 -> 0 | AG30: =+$E30*(1-AF30) -> 292600 | AH30: =$CF$2*(2-AG30/MIN(AG$29:AG$31)) -> 66.24282 | AI30: =$D30+AH30 -> 91.24282 | AJ30: 1 | AK30: =+$C30/$C$37*AJ30 -> 0.26144698 | AL30: =+AI30*AK30 -> 23.85516 | AN30: =+$E30*(1-AM30) -> 292600 | AO30: =$CF$2*(2-AN30/MIN(AN$29:AN$31)) -> 63.96167 | AP30: =$D30+AO30 -> 88.96167 | AR30: =+$C30/$C$37*AQ30 -> 0 | AS30: =+AP30*AR30 -> 0 | AU30: =+$E30*(1-AT30) -> 292600 | AV30: =$CF$2*(2-AU30/MIN(AU$29:AU$31)) -> 66.24282 | AW30: =$D30+AV30 -> 91.24282 | AX30: 1 | AY30: =+$C30/$C$37*AX30 -> 0.26144698 | AZ30: =+AW30*AY30 -> 23.85516 | BB30: =+$E30*(1-BA30) -> 292600 | BC30: =$CF$2*(2-BB30/MIN(BB$29:BB$31)) -> 63.96167 | BD30: =$D30+BC30 -> 88.96167 | BF30: =+$C30/$C$37*BE30 -> 0 | BG30: =+BD30*BF30 -> 0 | BI30: =+$E30*(1-BH30) -> 292600 | BJ30: =$CF$2*(2-BI30/MIN(BI$29:BI$31)) -> 66.24282 | BK30: =$D30+BJ30 -> 91.24282 | BL30: 1 | BM30: =+$C30/$C$37*BL30 -> 0.26144698 | BN30: =+BK30*BM30 -> 23.85516 | BO30: 0.02 | BP30: =+$E30*(1-BO30) -> 286748 | BQ30: =$CF$2*(2-BP30/MIN(BP$29:BP$31)) -> 67.717964 | BR30: =$D30+BQ30 -> 92.717964 | BS30: 1 | BT30: =+$C30/$C$37*BS30 -> 0.26144698 | BU30: =+BR30*BT30 -> 24.240832 | BW30: =+$E30*(1-BV30) -> 292600 | BX30: =$CF$2*(2-BW30/MIN(BW$29:BW$31)) -> 66.24282 | BY30: =$D30+BX30 -> 91.24282 | CA30: =+$C30/$C$37*BZ30 -> 0 | CB30: =+BY30*CA30 -> 0
B31: TELEFONICA SOLUCIONES INFORMATICA Y COMUNICACIONES ESPAÑA,S.AU | C31: 411400 | D31: 20 | E31: 385000 | F31: =$CF$2*(2-E31/MIN(E$29:E$31)) -> 42.951079 | G31: =D31+F31 -> 62.951079 | L31: =+$E31*(1-K31) -> 385000 | M31: =$CF$2*(2-L31/MIN(L$29:L$31)) -> 39.949566 | N31: =$D31+M31 -> 59.949566 | S31: 385000 | T31: =$CF$2*(2-S31/MIN(S$29:S$31)) -> 42.951079 | U31: =$D31+T31 -> 62.951079 | Z31: =+$E31*(1-Y31) -> 385000 | AA31: =$CF$2*(2-Z31/MIN(Z$29:Z$31)) -> 39.949566 | AB31: =$D31+AA31 -> 59.949566 | AG31: =+$E31*(1-AF31) -> 385000 | AH31: =$CF$2*(2-AG31/MIN(AG$29:AG$31)) -> 42.951079 | AI31: =$D31+AH31 -> 62.951079 | AN31: =+$E31*(1-AM31) -> 385000 | AO31: =$CF$2*(2-AN31/MIN(AN$29:AN$31)) -> 39.949566 | AP31: =$D31+AO31 -> 59.949566 | AU31: =+$E31*(1-AT31) -> 385000 | AV31: =$CF$2*(2-AU31/MIN(AU$29:AU$31)) -> 42.951079 | AW31: =$D31+AV31 -> 62.951079 | BB31: =+$E31*(1-BA31) -> 385000 | BC31: =$CF$2*(2-BB31/MIN(BB$29:BB$31)) -> 39.949566 | BD31: =$D31+BC31 -> 59.949566 | BI31: =+$E31*(1-BH31) -> 385000 | BJ31: =$CF$2*(2-BI31/MIN(BI$29:BI$31)) -> 42.951079 | BK31: =$D31+BJ31 -> 62.951079 | BP31: =+$E31*(1-BO31) -> 385000 | BQ31: =$CF$2*(2-BP31/MIN(BP$29:BP$31)) -> 42.951079 | BR31: =$D31+BQ31 -> 62.951079 | BW31: =+$E31*(1-BV31) -> 385000 | BX31: =$CF$2*(2-BW31/MIN(BW$29:BW$31)) -> 42.951079 | BY31: =$D31+BX31 -> 62.951079
A32: LOTE 8: Lote secundario de servicios de distribución de video y audio bajo demanda | B32: CROSSPOINT | C32: 278400 | D32: 30 | E32: 174000 | F32: =$CF$2*(2-E32/MIN(E$32:E$33)) -> 67.083333 | G32: =D32+F32 -> 97.083333 | L32: =+$E32*(1-K32) -> 174000 | M32: =$CF$2*(2-L32/MIN(L$32:L$33)) -> 67.083333 | N32: =$D32+M32 -> 97.083333 | R32: 0.05 | S32: =+$E32*(1-R32) -> 165300 | T32: =$CF$2*(2-S32/MIN(S$32:S$33)) -> 70 | U32: =$D32+T32 -> 100 | V32: 1 | W32: =+$C32/$C$37*V32 -> 0.17692474 | X32: =+U32*W32 -> 17.692474 | Z32: =+$E32*(1-Y32) -> 174000 | AA32: =$CF$2*(2-Z32/MIN(Z$32:Z$33)) -> 67.083333 | AB32: =$D32+AA32 -> 97.083333 | AF32: 0.05 | AG32: =+$E32*(1-AF32) -> 165300 | AH32: =$CF$2*(2-AG32/MIN(AG$32:AG$33)) -> 70 | AI32: =$D32+AH32 -> 100 | AJ32: 1 | AK32: =+$C32/$C$37*AJ32 -> 0.17692474 | AL32: =+AI32*AK32 -> 17.692474 | AN32: =+$E32*(1-AM32) -> 174000 | AO32: =$CF$2*(2-AN32/MIN(AN$32:AN$33)) -> 67.083333 | AP32: =$D32+AO32 -> 97.083333 | AT32: 0.05 | AU32: =+$E32*(1-AT32) -> 165300 | AV32: =$CF$2*(2-AU32/MIN(AU$32:AU$33)) -> 70 | AW32: =$D32+AV32 -> 100 | AX32: 1 | AY32: =+$C32/$C$37*AX32 -> 0.17692474 | AZ32: =+AW32*AY32 -> 17.692474 | BB32: =+$E32*(1-BA32) -> 174000 | BC32: =$CF$2*(2-BB32/MIN(BB$32:BB$33)) -> 67.083333 | BD32: =$D32+BC32 -> 97.083333 | BH32: 0.05 | BI32: =+$E32*(1-BH32) -> 165300 | BJ32: =$CF$2*(2-BI32/MIN(BI$32:BI$33)) -> 70 | BK32: =$D32+BJ32 -> 100 | BL32: 1 | BM32: =+$C32/$C$37*BL32 -> 0.17692474 | BN32: =+BK32*BM32 -> 17.692474 | BP32: =+$E32*(1-BO32) -> 174000 | BQ32: =$CF$2*(2-BP32/MIN(BP$32:BP$33)) -> 67.083333 | BR32: =$D32+BQ32 -> 97.083333 | BS32: 1 | BT32: =+$C32/$C$37*BS32 -> 0.17692474 | BU32: =+BR32*BT32 -> 17.176444 | BW32: =+$E32*(1-BV32) -> 174000 | BX32: =$CF$2*(2-BW32/MIN(BW$32:BW$33)) -> 65.595238 | BY32: =$D32+BX32 -> 95.595238
B33: RETEVISION | C33: 278400 | D33: 25 | E33: 167040 | F33: =$CF$2*(2-E33/MIN(E$32:E$33)) -> 70 | G33: =D33+F33 -> 95 | H33: 1 | I33: =+$C33/$C$37*H33 -> 0.17692474 | J33: =+G33*I33 -> 16.807851 | L33: =+$E33*(1-K33) -> 167040 | M33: =$CF$2*(2-L33/MIN(L$32:L$33)) -> 70 | N33: =$D33+M33 -> 95 | O33: 1 | P33: =+$C33/$C$37*O33 -> 0.17692474 | Q33: =+N33*P33 -> 16.807851 | S33: 167040 | T33: =$CF$2*(2-S33/MIN(S$32:S$33)) -> 69.263158 | U33: =$D33+T33 -> 94.263158 | W33: =+$C33/$C$37*V33 -> 0 | X33: =+U33*W33 -> 0 | Z33: =+$E33*(1-Y33) -> 167040 | AA33: =$CF$2*(2-Z33/MIN(Z$32:Z$33)) -> 70 | AB33: =$D33+AA33 -> 95 | AC33: 1 | AD33: =+$C33/$C$37*AC33 -> 0.17692474 | AE33: =+AB33*AD33 -> 16.807851 | AG33: =+$E33*(1-AF33) -> 167040 | AH33: =$CF$2*(2-AG33/MIN(AG$32:AG$33)) -> 69.263158 | AI33: =$D33+AH33 -> 94.263158 | AK33: =+$C33/$C$37*AJ33 -> 0 | AL33: =+AI33*AK33 -> 0 | AN33: =+$E33*(1-AM33) -> 167040 | AO33: =$CF$2*(2-AN33/MIN(AN$32:AN$33)) -> 70 | AP33: =$D33+AO33 -> 95 | AQ33: 1 | AR33: =+$C33/$C$37*AQ33 -> 0.17692474 | AS33: =+AP33*AR33 -> 16.807851 | AU33: =+$E33*(1-AT33) -> 167040 | AV33: =$CF$2*(2-AU33/MIN(AU$32:AU$33)) -> 69.263158 | AW33: =$D33+AV33 -> 94.263158 | AY33: =+$C33/$C$37*AX33 -> 0 | AZ33: =+AW33*AY33 -> 0 | BB33: =+$E33*(1-BA33) -> 167040 | BC33: =$CF$2*(2-BB33/MIN(BB$32:BB$33)) -> 70 | BD33: =$D33+BC33 -> 95 | BE33: 1 | BF33: =+$C33/$C$37*BE33 -> 0.17692474 | BG33: =+BD33*BF33 -> 16.807851 | BI33: =+$E33*(1-BH33) -> 167040 | BJ33: =$CF$2*(2-BI33/MIN(BI$32:BI$33)) -> 69.263158 | BK33: =$D33+BJ33 -> 94.263158 | BM33: =+$C33/$C$37*BL33 -> 0 | BN33: =+BK33*BM33 -> 0 | BP33: =+$E33*(1-BO33) -> 167040 | BQ33: =$CF$2*(2-BP33/MIN(BP$32:BP$33)) -> 70 | BR33: =$D33+BQ33 -> 95 | BT33: =+$C33/$C$37*BS33 -> 0 | BU33: =+BR33*BT33 -> 0 | BV33: 0.02 | BW33: =+$E33*(1-BV33) -> 163699.2 | BX33: =$CF$2*(2-BW33/MIN(BW$32:BW$33)) -> 70 | BY33: =$D33+BX33 -> 95 | BZ33: 1 | CA33: =+$C33/$C$37*BZ33 -> 0.17692474 | CB33: =+BY33*CA33 -> 16.807851
B34: FLUMOTION | C34: No ha superado las pruebas técnicas
A35: LOTE 9: Servicios de transcodificación de vídeo en directo | B35: FLUMOTION | C35: 19200 | D35: 30 | E35: 16320 | F35: =$CF$2*(2-E35/MIN(E$35:E$36)) -> 70 | G35: =D35+F35 -> 100 | H35: 1 | I35: =+$C35/$C$37*H35 -> 0.012201706 | J35: =+G35*I35 -> 1.2201706 | L35: =+$E35*(1-K35) -> 16320 | M35: =$CF$2*(2-L35/MIN(L$35:L$36)) -> 70 | N35: =$D35+M35 -> 100 | O35: 1 | P35: =+$C35/$C$37*O35 -> 0.012201706 | Q35: =+N35*P35 -> 1.2201706 | S35: 16320 | T35: =$CF$2*(2-S35/MIN(S$35:S$36)) -> 70 | U35: =$D35+T35 -> 100 | V35: 1 | W35: =+$C35/$C$37*V35 -> 0.012201706 | X35: =+U35*W35 -> 1.2201706 | Z35: =+$E35*(1-Y35) -> 16320 | AA35: =$CF$2*(2-Z35/MIN(Z$35:Z$36)) -> 70 | AB35: =$D35+AA35 -> 100 | AC35: 1 | AD35: =+$C35/$C$37*AC35 -> 0.012201706 | AE35: =+AB35*AD35 -> 1.2201706 | AG35: =+$E35*(1-AF35) -> 16320 | AH35: =$CF$2*(2-AG35/MIN(AG$35:AG$36)) -> 70 | AI35: =$D35+AH35 -> 100 | AJ35: 1 | AK35: =+$C35/$C$37*AJ35 -> 0.012201706 | AL35: =+AI35*AK35 -> 1.2201706 | AN35: =+$E35*(1-AM35) -> 16320 | AO35: =$CF$2*(2-AN35/MIN(AN$35:AN$36)) -> 70 | AP35: =$D35+AO35 -> 100 | AQ35: 1 | AR35: =+$C35/$C$37*AQ35 -> 0.012201706 | AS35: =+AP35*AR35 -> 1.2201706 | AU35: =+$E35*(1-AT35) -> 16320 | AV35: =$CF$2*(2-AU35/MIN(AU$35:AU$36)) -> 70 | AW35: =$D35+AV35 -> 100 | AX35: 1 | AY35: =+$C35/$C$37*AX35 -> 0.012201706 | AZ35: =+AW35*AY35 -> 1.2201706 | BB35: =+$E35*(1-BA35) -> 16320 | BC35: =$CF$2*(2-BB35/MIN(BB$35:BB$36)) -> 70 | BD35: =$D35+BC35 -> 100 | BE35: 1 | BF35: =+$C35/$C$37*BE35 -> 0.012201706 | BG35: =+BD35*BF35 -> 1.2201706 | BI35: =+$E35*(1-BH35) -> 16320 | BJ35: =$CF$2*(2-BI35/MIN(BI$35:BI$36)) -> 70 | BK35: =$D35+BJ35 -> 100 | BL35: 1 | BM35: =+$C35/$C$37*BL35 -> 0.012201706 | BN35: =+BK35*BM35 -> 1.2201706 | BP35: =+$E35*(1-BO35) -> 16320 | BQ35: =$CF$2*(2-BP35/MIN(BP$35:BP$36)) -> 70 | BR35: =$D35+BQ35 -> 100 | BS35: 1 | BT35: =+$C35/$C$37*BS35 -> 0.012201706 | BU35: =+BR35*BT35 -> 1.2201706 | BW35: =+$E35*(1-BV35) -> 16320 | BX35: =$CF$2*(2-BW35/MIN(BW$35:BW$36)) -> 70 | BY35: =$D35+BX35 -> 100 | BZ35: 1 | CA35: =+$C35/$C$37*BZ35 -> 0.012201706 | CB35: =+BY35*CA35 -> 1.2201706
B36: TELEFONICA SOLUCIONES INFORMATICA Y COMUNICACIONES ESPAÑA,S.AU | C36: 19200 | D36: 30 | E36: 19200 | F36: =$CF$2*(2-E36/MIN(E$35:E$36)) -> 57.647059 | G36: =D36+F36 -> 87.647059 | I36: =+$C36/$C$37*H36 -> 0 | J36: =+G36*I36 -> 0 | L36: =+$E36*(1-K36) -> 19200 | M36: =$CF$2*(2-L36/MIN(L$35:L$36)) -> 57.647059 | N36: =$D36+M36 -> 87.647059 | S36: 19200 | T36: =$CF$2*(2-S36/MIN(S$35:S$36)) -> 57.647059 | U36: =$D36+T36 -> 87.647059 | W36: =+$C36/$C$37*V36 -> 0 | X36: =+U36*W36 -> 0 | Z36: =+$E36*(1-Y36) -> 19200 | AA36: =$CF$2*(2-Z36/MIN(Z$35:Z$36)) -> 57.647059 | AB36: =$D36+AA36 -> 87.647059 | AG36: =+$E36*(1-AF36) -> 19200 | AH36: =$CF$2*(2-AG36/MIN(AG$35:AG$36)) -> 57.647059 | AI36: =$D36+AH36 -> 87.647059 | AN36: =+$E36*(1-AM36) -> 19200 | AO36: =$CF$2*(2-AN36/MIN(AN$35:AN$36)) -> 57.647059 | AP36: =$D36+AO36 -> 87.647059 | AU36: =+$E36*(1-AT36) -> 19200 | AV36: =$CF$2*(2-AU36/MIN(AU$35:AU$36)) -> 57.647059 | AW36: =$D36+AV36 -> 87.647059 | BB36: =+$E36*(1-BA36) -> 19200 | BC36: =$CF$2*(2-BB36/MIN(BB$35:BB$36)) -> 57.647059 | BD36: =$D36+BC36 -> 87.647059 | BI36: =+$E36*(1-BH36) -> 19200 | BJ36: =$CF$2*(2-BI36/MIN(BI$35:BI$36)) -> 57.647059 | BK36: =$D36+BJ36 -> 87.647059 | BP36: =+$E36*(1-BO36) -> 19200 | BQ36: =$CF$2*(2-BP36/MIN(BP$35:BP$36)) -> 57.647059 | BR36: =$D36+BQ36 -> 87.647059 | BW36: =+$E36*(1-BV36) -> 19200 | BX36: =$CF$2*(2-BW36/MIN(BW$35:BW$36)) -> 57.647059 | BY36: =$D36+BX36 -> 87.647059
B37: Valor estimado total: | C37: =C9+C11+C14+C19+C24+C26+C29+C32+C35 -> 1573550.4 | I37: Puntuación total ponderada | J37: =SUM(J9:J36) -> 93.73342 | P37: Puntuación total ponderada | Q37: =SUM(Q9:Q36) -> 93.74069 | W37: Puntuación total ponderada | X37: =SUM(X9:X36) -> 92.335776 | AD37: Puntuación total ponderada | AE37: =SUM(AE9:AE36) -> 93.73342 | AK37: Puntuación total ponderada | AL37: =SUM(AL9:AL36) -> 92.328506 | AR37: Puntuación total ponderada | AS37: =SUM(AS9:AS36) -> 93.154886 | AY37: Puntuación total ponderada | AZ37: =SUM(AZ9:AZ36) -> 91.749971 | BF37: Puntuación total ponderada | BG37: =SUM(BG9:BG36) -> 92.550826 | BM37: Puntuación total ponderada | BN37: =SUM(BN9:BN36) -> 91.145911 | BT37: Puntuación total ponderada | BU37: =SUM(BU9:BU36) -> 92.198147 | CA37: Puntuación total ponderada | CB37: =SUM(CB9:CB36) -> 93.73342
A40: De conformidad con los criterios de valoración establecidos en el Pliego de Condiciones Generales de Contratación de este Expediente.
A41: Madrid, a 9 de junio de 2022

Sheet RESUMEN PUNTUACION 
B1: Nº ALTERNATIVA | C1: PUNTUACION PONDERADA
A2: INDIVIDUALES | B2: 1 | C2: 93.73
A3: CROSSPOINT | B3: 2 | C3: 93.74
A4: CROSSPOINT | B4: 3 | C4: 92.34
A5: CROSSPOINT | B5: 4 | C5: 93.73
A6: CROSSPOINT | B6: 5 | C6: 92.33
A7: CROSSPOINT | B7: 6 | C7: 93.15
A8: CROSSPOINT | B8: 7 | C8: 91.75
A9: CROSSPOINT | B9: 8 | C9: 92.55
A10: CROSSPOINT | B10: 9 | C10: 91.15
A11: RETEVISION | B11: 10 | C11: 92.2
A12: RETEVISION | B12: 11 | C12: 93.73

Sheet DTº OFERTAS CONJUNTAS
J2: Alternativa 1: OFERTAS INDIVIDUDALES
F3: ofertas conjuntas | G3: LOTE | H3: DESCUENTOS
D4: CROSSPOINT | E4: lote 2 | F4: lote 2 y 7 | G4: 2 | H4: 0.02 | J4: Alternativa 2: oferta conjunta "CROSSPOINT" por dos lotes (2% lote 2 y 3% lote 7)
A5: alternnn n | F5: lote 2 y 8 | G5: 7 | H5: 0.03 | J5: Alternativa 3: oferta conjunta "CROSSPOINT" por dos lotes (2% lote 2 y 5% lote 8)
G6: 8 | H6: 0.05
E8: lote 3 | F8: lote 3 y 7 | G8: 3 | H8: 0.01 | J8: Alternativa 4: oferta conjunta "CROSSPOINT" por dos lotes (1% lote 3 y 3% lote 7)
F9: lote 3 y 8 | G9: 7 | H9: 0.03 | J9: Alternativa 5: oferta conjunta "CROSSPOINT" por dos lotes (1% lote 3 y 5% lote 8)
G10: 8 | H10: 0.05
E12: lote 4 | F12: lote 4 y 7 | G12: 4 | H12: 0.005 | J12: Alternativa 6: oferta conjunta "CROSSPOINT" por dos lotes (0,5% lote 4 y 3% lote 7)
F13: lote 4 y 8 | G13: 7 | H13: 0.03 | J13: Alternativa 7: oferta conjunta "CROSSPOINT" por dos lotes (0,5% lote 4 y 5% lote 8)
G14: 8 | H14: 0.05
E16: lote 6 | F16: lote 6 y 7 | G16: 6 | H16: 0.01 | J16: Alternativa 8: oferta conjunta "CROSSPOINT" por dos lotes (1% lote 6 y 3% lote 7)
F17: lote 6 y 8 | G17: 7 | H17: 0.03 | J17: Alternativa 9: oferta conjunta "CROSSPOINT" por dos lotes (1% lote 6 y 5% lote8)
G18: 8 | H18: 0.05
E20: lote 7 | F20: lote 7 y 2 | G20: 2 | H20: 0.02 | J20: son los mis porcentajes
F21: lote 7 y 3 | G21: 3 | H21: 0.01
F22: lote 7 y 4 | G22: 4 | H22: 0.005
F23: lote 7 y 6 | G23: 6 | H23: 0.01
G24: 7 | H24: 0.03
E26: lote 8 | F26: lote 8 y 2 | G26: 2 | H26: 0.02
F27: lote 8 y 3 | G27: 3 | H27: 0.01
F28: lote 8 y 4 | G28: 8 | H28: 0.05
F29: lote 8 y 6 | G29: 4 | H29: 0.005
G30: 6 | H30: 0.01
D32: RETEVISION | E32: oferta nº 11 conjunta | F32: LOTE 6 Y 7 | G32: 6 | H32: 0.02 | J32: Alternativa10: oferta conjunta "RETEVISION" por dos lotes (2 lote 6 y 2% lote7)
G33: 7 | H33: 0.02
E35: oferta nº 12 conjunta | F35: LOTE 6 Y 8 | G35: 6 | H35: 0.02 | J35: Alternativa11: oferta conjunta "RETEVISION" por dos lotes (2 lote 6 y 2% lote8)
G36: 8 | H36: 0.02
