Workbook

Sheet ALTERNATIVA ADJUDICADA
A2: =valoración!A3 -> PROPUESTA DE ADJUDICACIÓN DEL EXPEDIENTE S-07111-2022
A3: =valoración!A4 -> "Equipamiento para adecuación de UUMM de RTVE"
A4: =valoración!A5 -> RESUMEN PUNTUACIÓN TÉCNICA Y ECONÓMICA
E7: Alternativa 1: ofertas individuales
A8: Lotes | B8: Ofertas | C8: Valor estimado | D8: Puntuación técnica | E8: Importe Oferta | F8: Puntuación económica | G8: Puntuación Total | H8: Oferta seleccionada | I8: Factor de ponderación | J8: Valoración ponderada | K8: % Ahorro s/ licitación
A9: LOTE 1: ELECTRÓNICA DE RED PARA AUDIO Y CONTROL DE LAS UNIDADES MÓVILES F02 Y G01 | B9: NTL LANBASE | C9: 46800 | D9: 20 | E9: 40091.22 | F9: =valoración!$U$2*(2-E9/MIN(E$9:E$10)) -> 77.18662 | G9: =D9+F9 -> 97.18662 | J9: =+G9*I9 -> 0 | K9: =100-($E9*100/$C9) -> 14.335
B10: SERV INTEGRALES UNITECNC | C10: 46800 | D10: 20 | E10: 38729.22 | F10: =valoración!$U$2*(2-E10/MIN(E$9:E$10)) -> 80 | G10: =D10+F10 -> 100 | H10: 1 | I10: =+$C10/$C$18*H10 -> 0.29846939 | J10: =+G10*I10 -> 29.846939 | K10: =100-($E10*100/$C10) -> 17.245256
A11: LOTE 2: SUMINISTRO DE PANELES DE CONEXIÓN | B11: CABLEADOS Y CONEXIONES | C11: 30000 | D11: 18 | E11: 28421.01 | F11: =valoración!$V$2*(2-E11/MIN(E$11:E$12)) -> 60.241729 | G11: =D11+F11 -> 78.241729 | J11: =+G11*I11 -> 0 | K11: =100-($E11*100/$C11) -> 5.2633
B12: SERV INTEGRALES UNITECNC | C12: 30000 | D12: 16 | E12: 22461.08 | F12: =valoración!$V$2*(2-E12/MIN(E$11:E$12)) -> 82 | G12: =D12+F12 -> 98 | H12: 1 | I12: =+$C12/$C$18*H12 -> 0.19132653 | J12: =+G12*I12 -> 18.75 | K12: =100-($E12*100/$C12) -> 25.129733
A13: LOTE 3: SUMINISTRO DE SISTEMA DE SINCRONISMOS | B13: ALBALA INGENIEROS | C13: 22000 | D13: 18 | E13: 21536.18 | F13: =valoración!$V$2*(2-E13/MIN(E$13)) -> 82 | G13: =D13+F13 -> 100 | H13: 1 | I13: =+$C13/$C$18*H13 -> 0.14030612 | J13: =+G13*I13 -> 14.030612 | K13: =100-($E13*100/$C13) -> 2.1082727
A14: LOTE 4: SISTEMA DE KVM | B14: BROAD SERVICE | C14: 28000 | D14: 18 | E14: 22496 | F14: =valoración!$V$2*(2-E14/MIN(E$14:E$16)) -> 81.542628 | G14: =D14+F14 -> 99.542628 | J14: =+G14*I14 -> 0 | K14: =100-($E14*100/$C14) -> 19.657143
B15: DATOS MEDIA TECHNOLOGIES | C15: 28000 | D15: 18 | E15: 22371.22 | F15: =valoración!$V$2*(2-E15/MIN(E$14:E$16)) -> 82 | G15: =D15+F15 -> 100 | H15: 1 | I15: =+$C15/$C$18*H15 -> 0.17857143 | J15: =+G15*I15 -> 17.857143 | K15: =100-($E15*100/$C15) -> 20.102786
B16: SERV INTEGRALES UNITECNC | C16: 28000 | D16: 18 | E16: 23037.76 | F16: =valoración!$V$2*(2-E16/MIN(E$14:E$16)) -> 79.556848 | G16: =D16+F16 -> 97.556848 | J16: =+G16*I16 -> 0 | K16: =100-($E16*100/$C16) -> 17.722286
A17: LOTE 5:ADAPTACIÓN DE UNIDADES MÓVILES F01 y AUXILIAR A NORMA UNE 60364-7-717 | B17: PROCHASIS | C17: 30000 | D17: 18.5 | E17: 23700 | F17: =valoración!U2*(2-E17/MIN(E$17:E$17)) -> 80 | G17: =D17+F17 -> 98.5 | H17: 1 | I17: =+$C17/$C$18*H17 -> 0.19132653 | J17: =+G17*I17 -> 18.845663 | K17: =100-($E17*100/$C17) -> 21
B18: Valor estimado total: | C18: =C9+C11+C17+C14+C13 -> 156800 | I18: Puntuación total ponderada | J18: =SUM(J9:J17) -> 99.330357
A21: De conformidad con los criterios de valoración establecidos en el Pliego de Condiciones Generales de Contratación de este Expediente.
A22: Madrid, a 24 de noviembre de 2022

Sheet valoración
T1: FÓRMULA PUNTUACIÓN ECONÓMICA: Adaptar a cada lote, estará condicionada por el número de ofertas y por los puntos que se dan a la oferta económica.
T2: Celda contigua: incluir puntuación económica indicada en los pliegos. Si los lotes se valoran con diferente puntuación económica hay que tenerlo en cuenta en la fórmula. | U2: 80 | V2: 82
A3: PROPUESTA DE ADJUDICACIÓN DEL EXPEDIENTE S-07111-2022 | T3: Adaptar la tabla al número de lotes y ofertas recibidas, insertando o eliminando filas, tener en cuenta si se desestima una oferta, indicar los motivos..
A4: "Equipamiento para adecuación de UUMM de RTVE"
A5: RESUMEN PUNTUACIÓN TÉCNICA Y ECONÓMICA
E7: Alternativa 1: ofertas individuales | K7: Alternativa 2: oferta conjunta "A" por los tres lotes 1,2 Y 4 (0,2% Dto lotes 1 y 2, 0,3% lote 4)
A8: Lotes | B8: Ofertas | C8: Valor estimado | D8: Puntuación técnica | E8: Importe Oferta | F8: Puntuación económica | G8: Puntuación Total | H8: Oferta seleccionada | I8: Factor de ponderación | J8: Valoración ponderada | K8: Baja oferta conjunta | L8: Importe Oferta | M8: Puntuación económica | N8: Total Puntuación | O8: Oferta seleccionada | P8: Factor de ponderación | Q8: Valoración ponderada
A9: LOTE 1: ELECTRÓNICA DE RED PARA AUDIO Y CONTROL DE LAS UNIDADES MÓVILES F02 Y G01 | B9: NTL LANBASE | C9: 46800 | D9: 20 | E9: 40091.22 | F9: =$U$2*(2-E9/MIN(E$9:E$10)) -> 77.18662 | G9: =D9+F9 -> 97.18662 | I9: =+$C9/$C$18*H9 -> 0 | J9: =+G9*I9 -> 0 | L9: =+$E9*(1-K9) -> 40091.22 | M9: =$U$2*(2-L9/MIN(L$9:L$10)) -> 77.020662 | N9: =$D9+M9 -> 97.020662 | P9: =+$C9/$C$18*O9 -> 0 | Q9: =+N9*P9 -> 0
B10: SERV INTEGRALES UNITECNC | C10: 46800 | D10: 20 | E10: 38729.22 | F10: =$U$2*(2-E10/MIN(E$9:E$10)) -> 80 | G10: =D10+F10 -> 100 | H10: 1 | I10: =+$C10/$C$18*H10 -> 0.29846939 | J10: =+G10*I10 -> 29.846939 | K10: 0.002 | L10: =+$E10*(1-K10) -> 38651.762 | M10: =$U$2*(2-L10/MIN(L$9:L$10)) -> 80 | N10: =$D10+M10 -> 100 | O10: 1 | P10: =+$C10/$C$18*O10 -> 0.29846939 | Q10: =+N10*P10 -> 29.846939
A11: LOTE 2: SUMINISTRO DE PANELES DE CONEXIÓN | B11: CABLEADOS Y CONEXIONES | C11: 30000 | D11: 18 | E11: 28421.01 | F11: =$V$2*(2-E11/MIN(E$11:E$12)) -> 60.241729 | G11: =D11+F11 -> 78.241729 | I11: =+$C11/$C$18*H11 -> 0 | J11: =+G11*I11 -> 0 | L11: =+$E11*(1-K11) -> 28421.01 | M11: =$V$2*(2-L11/MIN(L$11:L$12)) -> 60.033797 | N11: =$D11+M11 -> 78.033797 | P11: =+$C11/$C$18*O11 -> 0 | Q11: =+N11*P11 -> 0
B12: SERV INTEGRALES UNITECNC | C12: 30000 | D12: 16 | E12: 22461.08 | F12: =$V$2*(2-E12/MIN(E$11:E$12)) -> 82 | G12: =D12+F12 -> 98 | H12: 1 | I12: =+$C12/$C$18*H12 -> 0.19132653 | J12: =+G12*I12 -> 18.75 | K12: 0.002 | L12: =+$E12*(1-K12) -> 22416.158 | M12: =$V$2*(2-L12/MIN(L$11:L$12)) -> 82 | N12: =$D12+M12 -> 98 | O12: 1 | P12: =+$C12/$C$18*O12 -> 0.19132653 | Q12: =+N12*P12 -> 18.75
A13: LOTE 3: SUMINISTRO DE SISTEMA DE SINCRONISMOS | B13: ALBALA INGENIEROS | C13: 22000 | D13: 18 | E13: 21536.18 | F13: =$V$2*(2-E13/MIN(E$13)) -> 82 | G13: =D13+F13 -> 100 | H13: 1 | I13: =+$C13/$C$18*H13 -> 0.14030612 | J13: =+G13*I13 -> 14.030612 | L13: =+$E13*(1-K13) -> 21536.18 | M13: =$V$2*(2-L13/MIN(L$13)) -> 82 | N13: =$D13+M13 -> 100 | O13: 1 | P13: =+$C13/$C$18*O13 -> 0.14030612 | Q13: =+N13*P13 -> 14.030612
A14: LOTE 4: SISTEMA DE KVM | B14: BROAD SERVICE | C14: 28000 | D14: 18 | E14: 22496 | F14: =$V$2*(2-E14/MIN(E$14:E$16)) -> 81.542628 | G14: =D14+F14 -> 99.542628 | I14: =+$C14/$C$18*H14 -> 0 | J14: =+G14*I14 -> 0 | L14: =+$E14*(1-K14) -> 22496 | M14: =$V$2*(2-L14/MIN(L$14:L$16)) -> 81.542628 | N14: =$D14+M14 -> 99.542628 | P14: =+$C14/$C$18*O14 -> 0 | Q14: =+N14*P14 -> 0
B15: DATOS MEDIA TECHNOLOGIES | C15: 28000 | D15: 18 | E15: 22371.22 | F15: =$V$2*(2-E15/MIN(E$14:E$16)) -> 82 | G15: =D15+F15 -> 100 | H15: 1 | I15: =+$C15/$C$18*H15 -> 0.17857143 | J15: =+G15*I15 -> 17.857143 | L15: =+$E15*(1-K15) -> 22371.22 | M15: =$V$2*(2-L15/MIN(L$14:L$16)) -> 82 | N15: =$D15+M15 -> 100 | P15: =+$C15/$C$18*O15 -> 0 | Q15: =+N15*P15 -> 0
B16: SERV INTEGRALES UNITECNC | C16: 28000 | D16: 18 | E16: 23037.76 | F16: =$V$2*(2-E16/MIN(E$14:E$16)) -> 79.556848 | G16: =D16+F16 -> 97.556848 | I16: =+$C16/$C$18*H16 -> 0 | J16: =+G16*I16 -> 0 | K16: 0.003 | L16: =+$E16*(1-K16) -> 22968.647 | M16: =$V$2*(2-L16/MIN(L$14:L$16)) -> 79.810178 | N16: =$D16+M16 -> 97.810178 | O16: 1 | P16: =+$C16/$C$18*O16 -> 0.17857143 | Q16: =+N16*P16 -> 17.466103
A17: LOTE 5:ADAPTACIÓN DE UNIDADES MÓVILES F01 y AUXILIAR A NORMA UNE 60364-7-717 | B17: PROCHASIS | C17: 30000 | D17: 18.5 | E17: 23700 | F17: =$U$2*(2-E17/MIN(E$17:E$17)) -> 80 | G17: =D17+F17 -> 98.5 | H17: 1 | I17: =+$C17/$C$18*H17 -> 0.19132653 | J17: =+G17*I17 -> 18.845663 | L17: =+$E17*(1-K17) -> 23700 | M17: =$U$2*(2-L17/MIN(L$17:L$17)) -> 80 | N17: =$D17+M17 -> 98.5 | O17: 1 | P17: =+$C17/$C$18*O17 -> 0.19132653 | Q17: =+N17*P17 -> 18.845663
B18: Valor estimado total: | C18: =C9+C11+C17+C14+C13 -> 156800 | I18: Puntuación total ponderada | J18: =SUM(J9:J17) -> 99.330357 | P18: Puntuación total ponderada | Q18: =SUM(Q9:Q17) -> 98.939317
A21: De conformidad con los criterios de valoración establecidos en el Pliego de Condiciones Generales de Contratación de este Expediente.
A22: Madrid, a 24 de noviembre de 2022
