Workbook

Sheet ALTERNATIVA ADJUDICADA
A2: =valoración!A3 -> PROPUESTA DE ADJUDICACIÓN DEL EXPEDIENTE S-01933-2023
A3: =valoración!A4 -> "Servicios postales y transporte de paquetería"
A4: =valoración!A5 -> RESUMEN PUNTUACIÓN TÉCNICA Y ECONÓMICA
E7: Alternativa 1: ofertas individuales
A8: Lotes | B8: Ofertas | C8: Valor estimado (Sin modificación) | D8: Puntuación técnica | E8: Importe Oferta (Contrato + prorroga/s) | F8: Puntuación económica | G8: Puntuación Total | H8: Oferta seleccionada | I8: Factor de ponderación | J8: Valoración ponderada | K8: % Ahorro s/ licitación
A9: Lote 1: Servicio postal Madrid | B9: SDAD. ESTATAL CORREOS TELEGRAFO, SA | C9: 67356.06 | D9: 40 | E9: 62744.76 | F9: =valoración!$R$2*(2-E9/MIN(E$9:E$9)) -> 50 | G9: =D9+F9 -> 90 | H9: 1 | I9: =+$C9/$C$21*H9 -> 0.10994716 | J9: =G9*I9 -> 9.8952442 | K9: =100-E9*100/C9 -> 6.8461546
A10: Lote 2: Transporte de paquetería nacional | B10: DICTUM LOGISTIC INTEGRAL | C10: 396738.96 | D10: 40 | E10: 371464.71 | F10: =valoración!$R$2*(2-E10/MIN(E$10:E$16)) -> 48.142341 | G10: =D10+F10 -> 88.142341
B11: MDL Distribucion Logistica S,A, | C11: 396738.96 | D11: 46 | E11: 379560.9 | F11: =valoración!$R$2*(2-E11/MIN(E$10:E$16)) -> 47.012087 | G11: =D11+F11 -> 93.012087
B12: OPTIMUS GESTION LOGISTICA, S.L | C12: 396738.96 | D12: 45 | E12: 375751.89 | F12: =valoración!$R$2*(2-E12/MIN(E$10:E$16)) -> 47.543837 | G12: =D12+F12 -> 92.543837
B13: ROUND CONNECT S.L | C13: 396738.96 | D13: 30 | E13: 377064.96 | F13: =valoración!$R$2*(2-E13/MIN(E$10:E$16)) -> 47.360528 | G13: =D13+F13 -> 77.360528
B14: TURYELECTRO GALICIA SL | C14: 396738.96 | D14: 45 | E14: 358158 | F14: =valoración!$R$2*(2-E14/MIN(E$10:E$16)) -> 50 | G14: =D14+F14 -> 95 | H14: 1 | I14: =+$C14/$C$21*H14 -> 0.64760797 | J14: =G14*I14 -> 61.522757 | K14: =100-E14*100/C14 -> 9.7245201
B15: VIA MANRESA SL | C15: 396738.96 | D15: 43 | E15: 385916.79 | F15: =valoración!$R$2*(2-E15/MIN(E$10:E$16)) -> 46.124784 | G15: =D15+F15 -> 89.124784
B16: WEST FARGO | C16: 396738.96 | D16: 25 | E16: 362692.5 | F16: =valoración!$R$2*(2-E16/MIN(E$10:E$16)) -> 49.366969 | G16: =D16+F16 -> 74.366969
A17: Lote 3: Transporte de paquetería internacional | B17: OPTIMUS GESTION LOGISTICA, S.L | C17: 148527.09 | D17: 50 | E17: 123189.03 | F17: =valoración!$R$2*(2-E17/MIN(E$17:E$20)) -> 50 | G17: =D17+F17 -> 100 | H17: 1 | I17: =+$C17/$C$21*H17 -> 0.24244487 | J17: =+I17*G17 -> 24.244487 | K17: =100-E17*100/C17 -> 17.059555
B18: STX HEALTHCARE LOGISTICS SOLUTIONS, | C18: 148527.09 | D18: 50 | E18: 134750.56 | F18: =valoración!$R$2*(2-E18/MIN(E$17:E$20)) -> 45.307403 | G18: =D18+F18 -> 95.307403
B19: TURYELECTRO GALICIA SL | C19: 148527.09 | D19: 35 | E19: 132520.92 | F19: =valoración!$R$2*(2-E19/MIN(E$17:E$20)) -> 46.21237 | G19: =D19+F19 -> 81.21237
B20: VIA MANRESA SL | C20: 148527.09 | D20: 36 | E20: 145151.28 | F20: =valoración!$R$2*(2-E20/MIN(E$17:E$20)) -> 41.085955 | G20: =D20+F20 -> 77.085955
B21: Valor estimado total: | C21: =C9+C10+C17 -> 612622.11 | I21: Puntuación total ponderada | J21: =SUM(J9:J20) -> 95.662489
A22: De conformidad con los criterios de valoración establecidos en el Pliego de Condiciones Generales de Contratación de este Expediente.
A23: Madrid, a 15 de junio de 2023

Sheet valoración
R2: 50
A3: PROPUESTA DE ADJUDICACIÓN DEL EXPEDIENTE S-01933-2023
A4: "Servicios postales y transporte de paquetería"
A5: RESUMEN PUNTUACIÓN TÉCNICA Y ECONÓMICA
E7: Alternativa 1: ofertas individuales | K7: Alternativa 2: oferta conjunta "VIA MANRESA SL" por los lotes 2 y 3
A8: Lotes | B8: Ofertas | C8: Valor estimado (Sin modificación) | D8: Puntuación técnica | E8: Importe Oferta (Contrato + prorroga/s) | F8: Puntuación económica | G8: Puntuación Total | H8: Oferta seleccionada | I8: Factor de ponderación | J8: Valoración ponderada | K8: Baja oferta conjunta | L8: Importe Oferta (Contrato + prorroga/s) | M8: Puntuación económica | N8: Total Puntuación | O8: Oferta seleccionada | P8: Factor de ponderación | Q8: Valoración ponderada
A9: Lote 1: Servicio postal Madrid | B9: SDAD. ESTATAL CORREOS TELEGRAFO, SA | C9: 67356.06 | D9: 40 | E9: 62744.76 | F9: =$R$2*(2-E9/MIN(E$9:E$9)) -> 50 | G9: =D9+F9 -> 90 | H9: 1 | I9: =+$C9/$C$21*H9 -> 0.10994716 | J9: =G9*I9 -> 9.8952442 | L9: =E9*(1-K9) -> 62744.76 | M9: =$R$2*(2-L9/MIN($L$9:$L$9)) -> 50 | N9: =$D9+M9 -> 90 | O9: 1 | P9: =C9/$C$21*O9 -> 0.10994716 | Q9: =+P9*N9 -> 9.8952442
A10: Lote 2: Transporte de paquetería nacional | B10: DICTUM LOGISTIC INTEGRAL | C10: 396738.96 | D10: 40 | E10: 371464.71 | F10: =$R$2*(2-E10/MIN(E$10:E$16)) -> 48.142341 | G10: =D10+F10 -> 88.142341 | I10: =+$C10/$C$21*H10 -> 0 | L10: =E10 -> 371464.71 | M10: =$R$2*(2-L10/MIN($L$10:$L$16)) -> 48.142341 | N10: =$D10+M10 -> 88.142341 | P10: =+$C10/$C$21*O10 -> 0
B11: MDL Distribucion Logistica S,A, | C11: 396738.96 | D11: 46 | E11: 379560.9 | F11: =$R$2*(2-E11/MIN(E$10:E$16)) -> 47.012087 | G11: =D11+F11 -> 93.012087 | L11: =E11*(1-K11) -> 379560.9 | M11: =$R$2*(2-L11/MIN($L$10:$L$16)) -> 47.012087 | N11: =$D11+M11 -> 93.012087
B12: OPTIMUS GESTION LOGISTICA, S.L | C12: 396738.96 | D12: 45 | E12: 375751.89 | F12: =$R$2*(2-E12/MIN(E$10:E$16)) -> 47.543837 | G12: =D12+F12 -> 92.543837 | I12: =+$C12/$C$21*H12 -> 0 | L12: =E12 -> 375751.89 | M12: =$R$2*(2-L12/MIN($L$10:$L$16)) -> 47.543837 | N12: =$D12+M12 -> 92.543837 | P12: =C12/$C$21*O12 -> 0
B13: ROUND CONNECT S.L | C13: 396738.96 | D13: 30 | E13: 377064.96 | F13: =$R$2*(2-E13/MIN(E$10:E$16)) -> 47.360528 | G13: =D13+F13 -> 77.360528 | I13: =+$C13/$C$21*H13 -> 0 | L13: =E13 -> 377064.96 | M13: =$R$2*(2-L13/MIN($L$10:$L$16)) -> 47.360528 | N13: =$D13+M13 -> 77.360528 | P13: =C13/$C$21*O13 -> 0
B14: TURYELECTRO GALICIA SL | C14: 396738.96 | D14: 45 | E14: 358158 | F14: =$R$2*(2-E14/MIN(E$10:E$16)) -> 50 | G14: =D14+F14 -> 95 | H14: 1 | I14: =+$C14/$C$21*H14 -> 0.64760797 | J14: =G14*I14 -> 61.522757 | L14: =E14 -> 358158 | M14: =$R$2*(2-L14/MIN($L$10:$L$16)) -> 50 | N14: =$D14+M14 -> 95
B15: VIA MANRESA SL | C15: 396738.96 | D15: 43 | E15: 385916.79 | F15: =$R$2*(2-E15/MIN(E$10:E$16)) -> 46.124784 | G15: =D15+F15 -> 89.124784 | I15: =+$C15/$C$21*H15 -> 0 | K15: 0.03 | L15: =E15*(1-K15) -> 374339.29 | M15: =$R$2*(2-L15/MIN($L$10:$L$16)) -> 47.741041 | N15: =$D15+M15 -> 90.741041 | O15: 1 | P15: =C15/$C$21*O15 -> 0.64760797 | Q15: =P15*N15 -> 58.764621
B16: WEST FARGO | C16: 396738.96 | D16: 25 | E16: 362692.5 | F16: =$R$2*(2-E16/MIN(E$10:E$16)) -> 49.366969 | G16: =D16+F16 -> 74.366969 | I16: =+$C16/$C$21*H16 -> 0 | L16: =E16*(1-K16) -> 362692.5 | M16: =$R$2*(2-L16/MIN($L$10:$L$16)) -> 49.366969 | N16: =$D16+M16 -> 74.366969 | P16: =C16/$C$21*O16 -> 0
A17: Lote 3: Transporte de paquetería internacional | B17: OPTIMUS GESTION LOGISTICA, S.L | C17: 148527.09 | D17: 50 | E17: 123189.03 | F17: =$R$2*(2-E17/MIN(E$17:E$20)) -> 50 | G17: =D17+F17 -> 100 | H17: 1 | I17: =+$C17/$C$21*H17 -> 0.24244487 | J17: =+I17*G17 -> 24.244487 | L17: =E17*(1-K17) -> 123189.03 | M17: =$R$2*(2-L17/MIN($L$17:$L$20)) -> 50 | N17: =$D17+M17 -> 100
B18: STX HEALTHCARE LOGISTICS SOLUTIONS, | C18: 148527.09 | D18: 50 | E18: 134750.56 | F18: =$R$2*(2-E18/MIN(E$17:E$20)) -> 45.307403 | G18: =D18+F18 -> 95.307403 | L18: =E18*(1-K18) -> 134750.56 | M18: =$R$2*(2-L18/MIN($L$17:$L$20)) -> 45.307403 | N18: =$D18+M18 -> 95.307403 | P18: =C18/$C$21*O18 -> 0
B19: TURYELECTRO GALICIA SL | C19: 148527.09 | D19: 35 | E19: 132520.92 | F19: =$R$2*(2-E19/MIN(E$17:E$20)) -> 46.21237 | G19: =D19+F19 -> 81.21237 | L19: =E19*(1-K19) -> 132520.92 | M19: =$R$2*(2-L19/MIN($L$17:$L$20)) -> 46.21237 | N19: =$D19+M19 -> 81.21237 | P19: =C19/$C$21*O19 -> 0
B20: VIA MANRESA SL | C20: 148527.09 | D20: 36 | E20: 145151.28 | F20: =$R$2*(2-E20/MIN(E$17:E$20)) -> 41.085955 | G20: =D20+F20 -> 77.085955 | K20: 0.03 | L20: =E20*(1-K20) -> 140796.74 | M20: =$R$2*(2-L20/MIN($L$17:$L$20)) -> 42.853377 | N20: =$D20+M20 -> 78.853377 | O20: 1 | P20: =C20/$C$21*O20 -> 0.24244487 | Q20: =P20*N20 -> 19.117597
B21: Valor estimado total: | C21: =C9+C10+C17 -> 612622.11 | I21: Puntuación total ponderada | J21: =SUM(J9:J20) -> 95.662489 | P21: Puntuación total ponderada | Q21: =SUM(Q9:Q20) -> 87.777462
A24: De conformidad con los criterios de valoración establecidos en el Pliego de Condiciones Generales de Contratación de este Expediente.
A25: Madrid, a 15 de junio de 2023
