Workbook

Sheet ALTERNATIVA ADJUDICADA
A2: =valoración!A3 -> PROPUESTA DE ADJUDICACIÓN DEL EXPEDIENTE S-02369-2023
A3: =valoración!A4 -> Servicio de limpieza e higienización en los centros de CRTVE
A4: =valoración!A5 -> RESUMEN PUNTUACIÓN TÉCNICA Y ECONÓMICA
E7: Alternativa 1: ofertas individuales
A8: Lotes | B8: Ofertas | C8: Valor estimado (Sin modificación) | D8: Puntuación técnica | E8: Importe Oferta (Contrato + prorroga/s) | F8: Puntuación económica | G8: Total Puntuación | H8: Oferta seleccionada | I8: Factor de ponderación | J8: Valoración ponderada | K8: % Ahorro s/ licitación
A9: LOTE 1: Andalucía, Ceuta y Melilla | B9: DESIERTO | C9: 639547.44 | D9: - | E9: - | F9: - | G9: - | H9: - | I9: - | J9: - | K9: -
A10: LOTE 2: | B10: TEAM SERVICE FACILITY S.L. | C10: 155583.24 | D10: =23+21 -> 44 | E10: 145739.92 | F10: =valoración!$U$2*(MIN(E$10:E$11)/E10) -> 48.38078 | G10: =D10+F10 -> 92.38078 | J10: =+G10*I10 -> 0 | K10: =100-($E10*100/$C10) -> 6.3267226
A11: Aragón | B11: LIMCAMAR SL | C11: 155583.24 | D11: =23+21 -> 44 | E11: 128200.2 | F11: =valoración!$U$2*(MIN(E$10:E$11)/E11) -> 55 | G11: =D11+F11 -> 99 | H11: 1 | I11: =+$C11/$C$47*H11 -> 0.0097302454 | J11: =+G11*I11 -> 0.9632943 | K11: =100-($E11*100/$C11) -> 17.600251
A12: LOTE 3: | B12: ILUNION LIMPIEZA Y MEDIO AMBIENTE, S.A. | C12: 297398.74 | D12: =18+21 -> 39 | E12: 291478.06 | F12: =valoración!$U$2*(MIN(E$12:E$14)/E12) -> 38.940635 | G12: =D12+F12 -> 77.940635 | J12: =+G12*I12 -> 0 | K12: =100-($E12*100/$C12) -> 1.9908222
A13: Asturias | B13: LIMCAMAR SL | C13: 297398.74 | D13: =23+21 -> 44 | E13: 206369.83 | F13: =valoración!$U$2*(MIN(E$12:E$14)/E13) -> 55 | G13: =D13+F13 -> 99 | H13: 1 | I13: =+$C13/$C$47*H13 -> 0.01859945 | J13: =+G13*I13 -> 1.8413456 | K13: =100-($E13*100/$C13) -> 30.608371
B14: SAMYL FACILITY SERVICES SL | C14: 297398.74 | D14: =21.5+21 -> 42.5 | E14: 214338.3 | F14: =valoración!$U$2*(MIN(E$12:E$14)/E14) -> 52.955261 | G14: =D14+F14 -> 95.455261 | J14: =+G14*I14 -> 0 | K14: =100-($E14*100/$C14) -> 27.928982
A15: LOTE 4: | B15: TEAM SERVICE FACILITY S.L. | C15: 89645.27 | D15: =23+21 -> 44 | E15: 73484 | F15: =valoración!$U$2*(MIN(E$15:E$17)/E15) -> 55 | G15: =D15+F15 -> 99 | H15: 1 | I15: =+$C15/$C$47*H15 -> 0.0056064553 | J15: =+G15*I15 -> 0.55503907 | K15: =100-($E15*100/$C15) -> 18.028023
A16: Baleares | B16: LIMCAMAR SL | C16: 89645.27 | D16: =23+21 -> 44 | E16: 79815.28 | F16: =valoración!$U$2*(MIN(E$15:E$17)/E16) -> 50.637171 | G16: =D16+F16 -> 94.637171 | J16: =+G16*I16 -> 0 | K16: =100-($E16*100/$C16) -> 10.965431
B17: ILUNION LIMPIEZA Y MEDIO AMBIENTE, S.A. | C17: 89645.27 | D17: =18+21 -> 39 | E17: 89605.28 | F17: =valoración!$U$2*(MIN(E$15:E$17)/E17) -> 45.104708 | G17: =D17+F17 -> 84.104708 | J17: =+G17*I17 -> 0 | K17: =100-($E17*100/$C17) -> 0.044609158
A18: LOTE 5: Canarias | B18: DESIERTO | C18: 581371.85 | D18: - | E18: - | F18: - | G18: - | H18: - | I18: - | J18: - | K18: -
A19: LOTE 6: | B19: TEAM SERVICE FACILITY S.L. | C19: 151503.4 | D19: =23+21 -> 44 | E19: 113568 | F19: =valoración!$U$2*(MIN(E$19:E$20)/E19) -> 46.773711 | G19: =D19+F19 -> 90.773711 | J19: =+G19*I19 -> 0 | K19: =100-($E19*100/$C19) -> 25.039306
A20: Cantabria | B20: LIMCAMAR SL | C20: 151503.4 | D20: =23+21 -> 44 | E20: 96581.76 | F20: =valoración!$U$2*(MIN(E$19:E$20)/E20) -> 55 | G20: =D20+F20 -> 99 | H20: 1 | I20: =+$C20/$C$47*H20 -> 0.0094750904 | J20: =+G20*I20 -> 0.93803395 | K20: =100-($E20*100/$C20) -> 36.251094
A21: LOTE 7: Castilla-La Mancha | B21: TEAM SERVICE FACILITY S.L. | C21: 414980.29 | D21: =23+21 -> 44 | E21: 411328.08 | F21: =valoración!$U$2*(MIN(E$21)/E21) -> 55 | G21: =D21+F21 -> 99 | H21: 1 | I21: =+$C21/$C$47*H21 -> 0.025953053 | J21: =+G21*I21 -> 2.5693522 | K21: =100-($E21*100/$C21) -> 0.8800924
A22: LOTE 8: | B22: TEAM SERVICE FACILITY S.L. | C22: 548434.8 | D22: =23+21 -> 44 | E22: 547014 | F22: =valoración!$U$2*(MIN(E$22:E$24)/E22) -> 35.328267 | G22: =D22+F22 -> 79.328267 | J22: =+G22*I22 -> 0 | K22: =100-($E22*100/$C22) -> 0.25906452
A23: Castilla y León | B23: LIMCAMAR SL | C23: 548434.8 | D23: =23+21 -> 44 | E23: 351364.67 | F23: =valoración!$U$2*(MIN(E$22:E$24)/E23) -> 55 | G23: =D23+F23 -> 99 | H23: 1 | I23: =+$C23/$C$47*H23 -> 0.034299358 | J23: =+G23*I23 -> 3.3956364 | K23: =100-($E23*100/$C23) -> 35.933192
B24: ALTHENIA, S.L. | C24: 548434.8 | D24: =23+21 -> 44 | E24: 547770.84 | F24: =valoración!$U$2*(MIN(E$22:E$24)/E24) -> 35.279455 | G24: =D24+F24 -> 79.279455 | J24: =+G24*I24 -> 0 | K24: =100-($E24*100/$C24) -> 0.12106453
A25: LOTE 9: Cataluña | B25: TEAM SERVICE FACILITY S.L. | C25: 2106617.1 | D25: =23+21 -> 44 | E25: 1727236.1 | F25: =valoración!$U$2*(MIN(E$25:E$27)/E25) -> 55 | G25: =D25+F25 -> 99 | H25: 1 | I25: =+$C25/$C$47*H25 -> 0.13174878 | J25: =+G25*I25 -> 13.043129 | K25: =100-($E25*100/$C25) -> 18.009016
B26: LIMCAMAR SL | C26: 2106617.1 | D26: =23+21 -> 44 | E26: 2101973.7 | F26: =valoración!$U$2*(MIN(E$25:E$27)/E26) -> 45.194661 | G26: =D26+F26 -> 89.194661 | K26: =100-($E26*100/$C26) -> 0.22042401
B27: ALTHENIA, S.L. | C27: 2106617.1 | D27: =23+21 -> 44 | E27: 2070116.2 | F27: =valoración!$U$2*(MIN(E$25:E$27)/E27) -> 45.89017 | G27: =D27+F27 -> 89.89017 | J27: =+G27*I27 -> 0 | K27: =100-($E27*100/$C27) -> 1.7326784
A28: LOTE 10: Extremadura | B28: LIMCAMAR SL | C28: 205615.76 | D28: =23+21 -> 44 | E28: 172835.55 | F28: =valoración!$U$2*(MIN(E$28)/E28) -> 55 | G28: =D28+F28 -> 99 | H28: 1 | I28: =+$C28/$C$47*H28 -> 0.012859302 | J28: =+G28*I28 -> 1.2730709 | K28: =100-($E28*100/$C28) -> 15.94246
A29: LOTE 11: Galicia | B29: TEAM SERVICE FACILITY S.L. | C29: 541844.42 | D29: =23+21 -> 44 | E29: 506631.8 | F29: =valoración!$U$2*(MIN(E$29:E$30)/E29) -> 52.562729 | G29: =D29+F29 -> 96.562729 | K29: =100-($E29*100/$C29) -> 6.4986588
B30: LIMCAMAR SL | C30: 541844.42 | D30: =23+21 -> 44 | E30: 484180.91 | F30: =valoración!$U$2*(MIN(E$29:E$30)/E30) -> 55 | G30: =D30+F30 -> 99 | H30: 1 | I30: =+$C30/$C$47*H30 -> 0.033887192 | J30: =+G30*I30 -> 3.3548321 | K30: =100-($E30*100/$C30) -> 10.642079
A31: LOTE 12: La Rioja | B31: TEAM SERVICE FACILITY S.L. | C31: 134485.44 | D31: =23+21 -> 44 | E31: 133264.04 | F31: =valoración!$U$2*(MIN(E$31:E$32)/E31) -> 52.83979 | G31: =D31+F31 -> 96.83979 | K31: =100-($E31*100/$C31) -> 0.9082024
B32: LIMCAMAR SL | C32: 134485.44 | D32: =23+21 -> 44 | E32: 128029.89 | F32: =valoración!$U$2*(MIN(E$31:E$32)/E32) -> 55 | G32: =D32+F32 -> 99 | H32: 1 | I32: =+$C32/$C$47*H32 -> 0.0084107796 | J32: =+G32*I32 -> 0.83266718 | K32: =100-($E32*100/$C32) -> 4.8001851
A33: LOTE 13: Comunidad de Madrid | B33: CLECE SA | C33: 8724082 | D33: =20.5+21 -> 41.5 | E33: 8680893.8 | F33: =valoración!$U$2*(MIN(E$33:E$38)/E33) -> 46.803165 | G33: =D33+F33 -> 88.303165 | K33: =100-($E33*100/$C33) -> 0.49504636
B34: TEAM SERVICE FACILITY S.L. | C34: 8724082 | D34: =23+21 -> 44 | E34: 7387151 | F34: =valoración!$U$2*(MIN(E$33:E$38)/E34) -> 55 | G34: =D34+F34 -> 99 | H34: 1 | I34: =+$C34/$C$47*H34 -> 0.54560799 | J34: =+G34*I34 -> 54.015191 | K34: =100-($E34*100/$C34) -> 15.324604
B35: SACYR FACILITIES, S.A.U. | C35: 8724082 | D35: =22+21 -> 43 | E35: 8585764.5 | F35: =valoración!$U$2*(MIN(E$33:E$38)/E35) -> 47.321739 | G35: =D35+F35 -> 90.321739 | K35: =100-($E35*100/$C35) -> 1.5854676
B36: LIMCAMAR SL | C36: 8724082 | D36: =22.5+21 -> 43.5 | E36: 8615475.4 | F36: =valoración!$U$2*(MIN(E$33:E$38)/E36) -> 47.158548 | G36: =D36+F36 -> 90.658548 | K36: =100-($E36*100/$C36) -> 1.2449062
B37: ALTHENIA, S.L. | C37: 8724082 | D37: =22.5+21 -> 43.5 | E37: 8529887.2 | F37: =valoración!$U$2*(MIN(E$33:E$38)/E37) -> 47.631733 | G37: =D37+F37 -> 91.131733 | K37: =100-($E37*100/$C37) -> 2.225963
B38: SAMYL FACILITY SERVICES SL | C38: 8724082 | D38: =21+21 -> 42 | E38: 8317486.1 | F38: =valoración!$U$2*(MIN(E$33:E$38)/E38) -> 48.848089 | G38: =D38+F38 -> 90.848089 | K38: =100-($E38*100/$C38) -> 4.6606149
A39: LOTE 14: Murcia | B39: DESIERTO | C39: 194490.2 | D39: - | E39: - | F39: - | G39: - | H39: - | I39: - | J39: - | K39: -
A40: LOTE 15: Navarra | B40: LIMCAMAR SL | C40: 181414.03 | D40: =23+21 -> 44 | E40: 134579.87 | F40: =valoración!$U$2*(MIN(E$40)/E40) -> 55 | G40: =D40+F40 -> 99 | H40: 1 | I40: =+$C40/$C$47*H40 -> 0.011345715 | J40: =+G40*I40 -> 1.1232257 | K40: =100-($E40*100/$C40) -> 25.816173
A41: LOTE 16: País Vasco | B41: TEAM SERVICE FACILITY S.L. | C41: 626433.36 | D41: =23+21 -> 44 | E41: 469888.16 | F41: =valoración!$U$2*(MIN(E$41:E$43)/E41) -> 54.140895 | G41: =D41+F41 -> 98.140895 | K41: =100-($E41*100/$C41) -> 24.989921
B42: ILUNION LIMPIEZA Y MEDIO AMBIENTE, S.A. | C42: 626433.36 | D42: =18+21 -> 39 | E42: 623670.59 | F42: =valoración!$U$2*(MIN(E$41:E$43)/E42) -> 40.791029 | G42: =D42+F42 -> 79.791029 | K42: =100-($E42*100/$C42) -> 0.44103175
B43: LIMCAMAR SL | C43: 626433.36 | D43: =23+21 -> 44 | E43: 462548.46 | F43: =valoración!$U$2*(MIN(E$41:E$43)/E43) -> 55 | G43: =D43+F43 -> 99 | H43: 1 | I43: =+$C43/$C$47*H43 -> 0.039177423 | J43: =+G43*I43 -> 3.8785648 | K43: =100-($E43*100/$C43) -> 26.161586
A44: LOTE 17: Comunidad Valenciana | B44: TEAM SERVICE FACILITY S.L. | C44: 396204.76 | D44: =23+21 -> 44 | E44: 372183.76 | F44: =valoración!$U$2*(MIN(E$44:E$46)/E44) -> 55 | G44: =D44+F44 -> 99 | H44: 1 | I44: =+$C44/$C$47*H44 -> 0.024778823 | J44: =+G44*I44 -> 2.4531035 | K44: =100-($E44*100/$C44) -> 6.0627742
B45: LIMCAMAR SL | C45: 396204.76 | D45: =23+21 -> 44 | E45: 395794.5 | F45: =valoración!$U$2*(MIN(E$44:E$46)/E45) -> 51.719028 | G45: =D45+F45 -> 95.719028 | K45: =100-($E45*100/$C45) -> 0.10354747
B46: ALTHENIA, S.L. | C46: 396204.76 | D46: =23+21 -> 44 | E46: 395784.12 | F46: =valoración!$U$2*(MIN(E$44:E$46)/E46) -> 51.720384 | G46: =D46+F46 -> 95.720384 | K46: =100-($E46*100/$C46) -> 0.10616733
B47: Valor estimado total: | C47: =C9+C10+C12+C15+C18+C19+C21+C22+C25+C28+C29+C31+C33+C39+C40+C41+C44 -> 15989652 | I47: Puntuación total ponderada: | J47: =SUM(J9:J46) -> 90.236486
A51: De conformidad con los criterios de valoración establecidos en el Pliego de Condiciones Generales de Contratación de este Expediente.
A52: Madrid, a 19 de octubre de 2023

Sheet valoración
T1: FÓRMULA PUNTUACIÓN ECONÓMICA: Adaptar a cada lote, estará condicionada por el número de ofertas y por los puntos que se dan a la oferta económica.
T2: Celda contigua: incluir puntuación económica indicada en los pliegos. Si los lotes se valoran con diferente puntuación económica hay que tenerlo en cuenta en la fórmula. | U2: 55
A3: PROPUESTA DE ADJUDICACIÓN DEL EXPEDIENTE S-02369-2023 | T3: Adaptar la tabla al número de lotes y ofertas recibidas, insertando o eliminando filas, tener en cuenta si se desestima una oferta, indicar los motivos..
A4: Servicio de limpieza e higienización en los centros de CRTVE
A5: RESUMEN PUNTUACIÓN TÉCNICA Y ECONÓMICA
A7: 0 | E7: Alternativa 1: ofertas individuales | K7: Alternativa 2: oferta conjunta "ALTHENIA"
A8: Lotes | B8: Ofertas | C8: Valor estimado (Sin modificación) | D8: Puntuación técnica | E8: Importe Oferta (Contrato + prorroga/s) | F8: Puntuación económica | G8: Puntuación Total | H8: Oferta seleccionada | I8: Factor de ponderación | J8: Valoración ponderada | K8: Baja oferta conjunta | L8: Importe Oferta (Contrato + prorroga/s) | M8: Puntuación económica | N8: Total Puntuación | O8: Oferta seleccionada | P8: Factor de ponderación | Q8: Valoración ponderada
A9: LOTE 1: Andalucía, Ceuta y Melilla | B9: DESIERTO | C9: 639547.44 | D9: DESIERTO | E9: 639547.44 | F9: - | G9: - | H9: - | I9: - | J9: - | K9: - | L9: - | M9: - | N9: - | O9: - | P9: - | Q9: -
A10: LOTE 2: | B10: TEAM SERVICE FACILITY S.L. | C10: 155583.24 | D10: =23+21 -> 44 | E10: 145739.92 | F10: =$U$2*(MIN(E$10:E$11)/E10) -> 48.38078 | G10: =D10+F10 -> 92.38078 | I10: =+$C10/$C$47*H10 -> 0 | J10: =+G10*I10 -> 0 | L10: =+$E10*(1-K10) -> 145739.92 | M10: =$U$2*(MIN(E$10:E$11)/E10) -> 48.38078 | N10: =$D10+M10 -> 92.38078 | P10: =+$C10/$C$47*O10 -> 0
A11: Aragón | B11: LIMCAMAR SL | C11: 155583.24 | D11: =23+21 -> 44 | E11: 128200.2 | F11: =$U$2*(MIN(E$10:E$11)/E11) -> 55 | G11: =D11+F11 -> 99 | H11: 1 | I11: =+$C11/$C$47*H11 -> 0.0097302454 | J11: =+G11*I11 -> 0.9632943 | L11: =+$E11*(1-K11) -> 128200.2 | M11: =$U$2*(MIN(E$10:E$11)/E11) -> 55 | N11: =$D11+M11 -> 99 | O11: 1 | P11: =+$C11/$C$47*O11 -> 0.0097302454 | Q11: =+N11*P11 -> 0.9632943
A12: LOTE 3: | B12: ILUNION LIMPIEZA Y MEDIO AMBIENTE, S.A. | C12: 297398.74 | D12: =18+21 -> 39 | E12: 291478.06 | F12: =$U$2*(MIN($E$12:$E$14)/E12) -> 38.940635 | G12: =D12+F12 -> 77.940635 | I12: =+$C12/$C$47*H12 -> 0 | J12: =+G12*I12 -> 0 | L12: =+$E12*(1-K12) -> 291478.06 | M12: =$U$2*(MIN($E$12:$E$14)/E12) -> 38.940635 | N12: =$D12+M12 -> 77.940635 | P12: =+$C12/$C$47*O12 -> 0
A13: Asturias | B13: LIMCAMAR SL | C13: 297398.74 | D13: =23+21 -> 44 | E13: 206369.83 | F13: =$U$2*(MIN($E$12:$E$14)/E13) -> 55 | G13: =D13+F13 -> 99 | H13: 1 | I13: =+$C13/$C$47*H13 -> 0.01859945 | J13: =+G13*I13 -> 1.8413456 | L13: =+$E13*(1-K13) -> 206369.83 | M13: =$U$2*(MIN($E$12:$E$14)/E13) -> 55 | N13: =$D13+M13 -> 99 | O13: 1 | P13: =+$C13/$C$47*O13 -> 0.01859945 | Q13: =+N13*P13 -> 1.8413456
B14: SAMYL FACILITY SERVICES SL | C14: 297398.74 | D14: =21.5+21 -> 42.5 | E14: 214338.3 | F14: =$U$2*(MIN($E$12:$E$14)/E14) -> 52.955261 | G14: =D14+F14 -> 95.455261 | I14: =+$C14/$C$47*H14 -> 0 | J14: =+G14*I14 -> 0 | L14: =+$E14*(1-K14) -> 214338.3 | M14: =$U$2*(MIN($E$12:$E$14)/E14) -> 52.955261 | N14: =$D14+M14 -> 95.455261
A15: LOTE 4: | B15: TEAM SERVICE FACILITY S.L. | C15: 89645.27 | D15: =23+21 -> 44 | E15: 73484 | F15: =$U$2*(MIN($E$15:$E$17)/E15) -> 55 | G15: =D15+F15 -> 99 | H15: 1 | I15: =+$C15/$C$47*H15 -> 0.0056064553 | J15: =+G15*I15 -> 0.55503907 | L15: =+$E15*(1-K15) -> 73484 | M15: =$U$2*(MIN($E$15:$E$17)/E15) -> 55 | N15: =$D15+M15 -> 99 | O15: 1 | P15: =+$C15/$C$47*O15 -> 0.0056064553 | Q15: =+N15*P15 -> 0.55503907
A16: Baleares | B16: LIMCAMAR SL | C16: 89645.27 | D16: =23+21 -> 44 | E16: 79815.28 | F16: =$U$2*(MIN($E$15:$E$17)/E16) -> 50.637171 | G16: =D16+F16 -> 94.637171 | I16: =+$C16/$C$47*H16 -> 0 | J16: =+G16*I16 -> 0 | L16: =+$E16*(1-K16) -> 79815.28 | M16: =$U$2*(MIN($E$15:$E$17)/E16) -> 50.637171 | N16: =$D16+M16 -> 94.637171 | P16: =+$C16/$C$47*O16 -> 0
B17: ILUNION LIMPIEZA Y MEDIO AMBIENTE, S.A. | C17: 89645.27 | D17: =18+21 -> 39 | E17: 89605.28 | F17: =$U$2*(MIN($E$15:$E$17)/E17) -> 45.104708 | G17: =D17+F17 -> 84.104708 | I17: =+$C17/$C$47*H17 -> 0 | J17: =+G17*I17 -> 0 | L17: =+$E17*(1-K17) -> 89605.28 | M17: =$U$2*(MIN($E$15:$E$17)/E17) -> 45.104708 | N17: =$D17+M17 -> 84.104708 | P17: =+$C17/$C$47*O17 -> 0
A18: LOTE 5: Canarias | B18: DESIERTO | C18: 581371.85 | D18: DESIERTO | E18: 581371.85 | F18: - | G18: - | H18: - | I18: - | J18: - | K18: - | L18: - | M18: - | N18: - | O18: - | P18: - | Q18: -
A19: LOTE 6: | B19: TEAM SERVICE FACILITY S.L. | C19: 151503.4 | D19: =23+21 -> 44 | E19: 113568 | F19: =$U$2*(MIN($E$19:$E$20)/E19) -> 46.773711 | G19: =D19+F19 -> 90.773711 | I19: =+$C19/$C$47*H19 -> 0 | J19: =+G19*I19 -> 0 | L19: =+$E19*(1-K19) -> 113568 | M19: =$U$2*(MIN($E$19:$E$20)/E19) -> 46.773711 | N19: =$D19+M19 -> 90.773711 | P19: =+$C19/$C$47*O19 -> 0
A20: Cantabria | B20: LIMCAMAR SL | C20: 151503.4 | D20: =23+21 -> 44 | E20: 96581.76 | F20: =$U$2*(MIN($E$19:$E$20)/E20) -> 55 | G20: =D20+F20 -> 99 | H20: 1 | I20: =+$C20/$C$47*H20 -> 0.0094750904 | J20: =+G20*I20 -> 0.93803395 | L20: =+$E20*(1-K20) -> 96581.76 | M20: =$U$2*(MIN($E$19:$E$20)/E20) -> 55 | N20: =$D20+M20 -> 99 | O20: 1 | P20: =+$C20/$C$47*O20 -> 0.0094750904 | Q20: =+N20*P20 -> 0.93803395
A21: LOTE 7: Castilla-La Mancha | B21: TEAM SERVICE FACILITY S.L. | C21: 414980.29 | D21: =23+21 -> 44 | E21: 411328.08 | F21: =$U$2*(MIN($E$21)/E21) -> 55 | G21: =D21+F21 -> 99 | H21: 1 | I21: =+$C21/$C$47*H21 -> 0.025953053 | J21: =+G21*I21 -> 2.5693522 | L21: =+$E21*(1-K21) -> 411328.08 | M21: =$U$2*(MIN($E$21)/E21) -> 55 | N21: =$D21+M21 -> 99 | O21: 1 | P21: =+$C21/$C$47*O21 -> 0.025953053 | Q21: =+N21*P21 -> 2.5693522
A22: LOTE 8: | B22: TEAM SERVICE FACILITY S.L. | C22: 548434.8 | D22: =23+21 -> 44 | E22: 547014 | F22: =$U$2*(MIN($E$22:$E$24)/E22) -> 35.328267 | G22: =D22+F22 -> 79.328267 | I22: =+$C22/$C$47*H22 -> 0 | J22: =+G22*I22 -> 0 | L22: =+$E22*(1-K22) -> 547014 | M22: =$U$2*(MIN($L$22:$L$24)/E22) -> 35.328267 | N22: =$D22+M22 -> 79.328267 | P22: =+$C22/$C$47*O22 -> 0 | Q22: =+N22*P22 -> 0
A23: Castilla y León | B23: LIMCAMAR SL | C23: 548434.8 | D23: =23+21 -> 44 | E23: 351364.67 | F23: =$U$2*(MIN($E$22:$E$24)/E23) -> 55 | G23: =D23+F23 -> 99 | H23: 1 | I23: =+$C23/$C$47*H23 -> 0.034299358 | J23: =+G23*I23 -> 3.3956364 | L23: =+$E23*(1-K23) -> 351364.67 | M23: =$U$2*(MIN($L$22:$L$24)/E23) -> 55 | N23: =$D23+M23 -> 99
B24: ALTHENIA, S.L. | C24: 548434.8 | D24: =23+21 -> 44 | E24: 547770.84 | F24: =$U$2*(MIN($E$22:$E$24)/E24) -> 35.279455 | G24: =D24+F24 -> 79.279455 | I24: =+$C24/$C$47*H24 -> 0 | J24: =+G24*I24 -> 0 | K24: 0.005 | L24: =+$E24*(1-K24) -> 545031.99 | M24: =$U$2*(MIN($L$22:$L$24)/E24) -> 35.279455 | N24: =$D24+M24 -> 79.279455 | O24: 1 | P24: =+$C24/$C$47*O24 -> 0.034299358 | Q24: =+N24*P24 -> 2.7192344
A25: LOTE 9: Cataluña | B25: TEAM SERVICE FACILITY S.L. | C25: 2106617.1 | D25: =23+21 -> 44 | E25: 1727236.1 | F25: =$U$2*(MIN($E$25:$E$27)/E25) -> 55 | G25: =D25+F25 -> 99 | H25: 1 | I25: =+$C25/$C$47*H25 -> 0.13174878 | J25: =+G25*I25 -> 13.043129 | L25: =+$E25*(1-K25) -> 1727236.1 | M25: =$U$2*(MIN($L$22:$L$24)/E25) -> 11.188428 | N25: =$D25+M25 -> 55.188428
B26: LIMCAMAR SL | C26: 2106617.1 | D26: =23+21 -> 44 | E26: 2101973.7 | F26: =$U$2*(MIN($E$25:$E$27)/E26) -> 45.194661 | G26: =D26+F26 -> 89.194661 | L26: =+$E26*(1-K26) -> 2101973.7 | M26: =$U$2*(MIN($E$25:$E$27)/E26) -> 45.194661 | N26: =$D26+M26 -> 89.194661
B27: ALTHENIA, S.L. | C27: 2106617.1 | D27: =23+21 -> 44 | E27: 2070116.2 | F27: =$U$2*(MIN($E$25:$E$27)/E27) -> 45.89017 | G27: =D27+F27 -> 89.89017 | I27: =+$C27/$C$47*H27 -> 0 | J27: =+G27*I27 -> 0 | K27: 0.005 | L27: =+$E27*(1-K27) -> 2059765.7 | M27: =$U$2*(MIN($E$25:$E$27)/E27) -> 45.89017 | N27: =$D27+M27 -> 89.89017 | O27: 1 | P27: =+$C27/$C$47*O27 -> 0.13174878 | Q27: =+N27*P27 -> 11.84292
A28: LOTE 10: Extremadura | B28: LIMCAMAR SL | C28: 205615.76 | D28: =23+21 -> 44 | E28: 172835.55 | F28: =$U$2*(MIN($E$28)/E28) -> 55 | G28: =D28+F28 -> 99 | H28: 1 | I28: =+$C28/$C$47*H28 -> 0.012859302 | J28: =+G28*I28 -> 1.2730709 | L28: =+$E28*(1-K28) -> 172835.55 | M28: =$U$2*(MIN($E$28)/E28) -> 55 | N28: =$D28+M28 -> 99 | O28: 1 | P28: =+$C28/$C$47*O28 -> 0.012859302 | Q28: =+N28*P28 -> 1.2730709
A29: LOTE 11: Galicia | B29: TEAM SERVICE FACILITY S.L. | C29: 541844.42 | D29: =23+21 -> 44 | E29: 506631.8 | F29: =$U$2*(MIN($E$29:$E$30)/E29) -> 52.562729 | G29: =D29+F29 -> 96.562729 | I29: =+$C29/$C$47*H29 -> 0 | J29: =+G29*I29 -> 0 | L29: =+$E29*(1-K29) -> 506631.8 | M29: =$U$2*(MIN($E$29:$E$30)/E29) -> 52.562729 | N29: =$D29+M29 -> 96.562729
B30: LIMCAMAR SL | C30: 541844.42 | D30: =23+21 -> 44 | E30: 484180.91 | F30: =$U$2*(MIN($E$29:$E$30)/E30) -> 55 | G30: =D30+F30 -> 99 | H30: 1 | I30: =+$C30/$C$47*H30 -> 0.033887192 | J30: =+G30*I30 -> 3.3548321 | L30: =+$E30*(1-K30) -> 484180.91 | M30: =$U$2*(MIN($E$29:$E$30)/E30) -> 55 | N30: =$D30+M30 -> 99 | O30: 1 | P30: =+$C30/$C$47*O30 -> 0.033887192 | Q30: =+N30*P30 -> 3.3548321
A31: LOTE 12: La Rioja | B31: TEAM SERVICE FACILITY S.L. | C31: 134485.44 | D31: =23+21 -> 44 | E31: 133264.04 | F31: =$U$2*(MIN($E$31:$E$32)/E31) -> 52.83979 | G31: =D31+F31 -> 96.83979 | I31: =+$C31/$C$47*H31 -> 0 | J31: =+G31*I31 -> 0 | L31: =+$E31*(1-K31) -> 133264.04 | M31: =$U$2*(MIN($E$31:$E$32)/E31) -> 52.83979 | N31: =$D31+M31 -> 96.83979
B32: LIMCAMAR SL | C32: 134485.44 | D32: =23+21 -> 44 | E32: 128029.89 | F32: =$U$2*(MIN($E$31:$E$32)/E32) -> 55 | G32: =D32+F32 -> 99 | H32: 1 | I32: =+$C32/$C$47*H32 -> 0.0084107796 | J32: =+G32*I32 -> 0.83266718 | L32: =+$E32*(1-K32) -> 128029.89 | M32: =$U$2*(MIN($E$31:$E$32)/E32) -> 55 | N32: =$D32+M32 -> 99 | O32: 1 | P32: =+$C32/$C$47*O32 -> 0.0084107796 | Q32: =+N32*P32 -> 0.83266718
A33: LOTE 13: Comunidad de Madrid | B33: CLECE SA | C33: 8724082 | D33: =20.5+21 -> 41.5 | E33: 8680893.8 | F33: =$U$2*(MIN($E$33:$E$38)/E33) -> 46.803165 | G33: =D33+F33 -> 88.303165 | I33: =+$C33/$C$47*H33 -> 0 | J33: =+G33*I33 -> 0 | K33: 0 | L33: =+$E33*(1-K33) -> 8680893.8 | M33: =$U$2*(MIN($E$33:$E$38)/E33) -> 46.803165 | N33: =$D33+M33 -> 88.303165
B34: TEAM SERVICE FACILITY S.L. | C34: 8724082 | D34: =23+21 -> 44 | E34: 7387151 | F34: =$U$2*(MIN($E$33:$E$38)/E34) -> 55 | G34: =D34+F34 -> 99 | H34: 1 | I34: =+$C34/$C$47*H34 -> 0.54560799 | J34: =+G34*I34 -> 54.015191 | L34: =+$E34*(1-K34) -> 7387151 | M34: =$U$2*(MIN($E$33:$E$38)/E34) -> 55 | N34: =$D34+M34 -> 99 | O34: 1
B35: SACYR FACILITIES, S.A.U. | C35: 8724082 | D35: =22+21 -> 43 | E35: 8585764.5 | F35: =$U$2*(MIN($E$33:$E$38)/E35) -> 47.321739 | G35: =D35+F35 -> 90.321739 | L35: =+$E35*(1-K35) -> 8585764.5 | M35: =$U$2*(MIN($E$33:$E$38)/E35) -> 47.321739 | N35: =$D35+M35 -> 90.321739 | P35: =+$C35/$C$47*O35 -> 0
B36: LIMCAMAR SL | C36: 8724082 | D36: =22.5+21 -> 43.5 | E36: 8615475.4 | F36: =$U$2*(MIN($E$33:$E$38)/E36) -> 47.158548 | G36: =D36+F36 -> 90.658548 | L36: =+$E36*(1-K36) -> 8615475.4 | M36: =$U$2*(MIN($E$33:$E$38)/E36) -> 47.158548 | N36: =$D36+M36 -> 90.658548 | P36: =+$C36/$C$47*O36 -> 0
B37: ALTHENIA, S.L. | C37: 8724082 | D37: =22.5+21 -> 43.5 | E37: 8529887.2 | F37: =$U$2*(MIN($E$33:$E$38)/E37) -> 47.631733 | G37: =D37+F37 -> 91.131733 | K37: 0.005 | L37: =+$E37*(1-K37) -> 8487237.7 | M37: =$U$2*(MIN($E$33:$E$38)/E37) -> 47.631733 | N37: =$D37+M37 -> 91.131733 | O37: 1 | P37: =+$C37/$C$47*O37 -> 0.54560799 | Q37: =+N37*P37 -> 49.722202
B38: SAMYL FACILITY SERVICES SL | C38: 8724082 | D38: =21+21 -> 42 | E38: 8317486.1 | F38: =$U$2*(MIN($E$33:$E$38)/E38) -> 48.848089 | G38: =D38+F38 -> 90.848089 | L38: =+$E38*(1-K38) -> 8317486.1 | M38: =$U$2*(MIN($E$33:$E$38)/E38) -> 48.848089 | N38: =$D38+M38 -> 90.848089
A39: LOTE 14: Murcia | B39: DESIERTO | C39: 194490.2 | D39: DESIERTO | E39: 194490.2 | F39: - | G39: - | H39: - | I39: - | J39: - | K39: - | L39: - | M39: - | N39: - | O39: - | P39: - | Q39: -
A40: LOTE 15: Navarra | B40: LIMCAMAR SL | C40: 181414.03 | D40: =23+21 -> 44 | E40: 134579.87 | F40: =$U$2*(MIN($E$40)/E40) -> 55 | G40: =D40+F40 -> 99 | H40: 1 | I40: =+$C40/$C$47*H40 -> 0.011345715 | J40: =+G40*I40 -> 1.1232257 | L40: =+$E40*(1-K40) -> 134579.87 | M40: =$U$2*(MIN($E$40)/E40) -> 55 | N40: =$D40+M40 -> 99 | O40: 1 | P40: =+$C40/$C$47*O40 -> 0.011345715 | Q40: =+N40*P40 -> 1.1232257
A41: LOTE 16: País Vasco | B41: TEAM SERVICE FACILITY S.L. | C41: 626433.36 | D41: =23+21 -> 44 | E41: 469888.16 | F41: =$U$2*(MIN($E$41:$E$43)/E41) -> 54.140895 | G41: =D41+F41 -> 98.140895 | I41: =+$C41/$C$47*H41 -> 0 | J41: =+G41*I41 -> 0 | L41: =+$E41*(1-K41) -> 469888.16 | M41: =$U$2*(MIN($E$41:$E$43)/E41) -> 54.140895 | N41: =$D41+M41 -> 98.140895
B42: ILUNION LIMPIEZA Y MEDIO AMBIENTE, S.A. | C42: 626433.36 | D42: =18+21 -> 39 | E42: 623670.59 | F42: =$U$2*(MIN($E$41:$E$43)/E42) -> 40.791029 | G42: =D42+F42 -> 79.791029 | L42: =+$E42*(1-K42) -> 623670.59 | M42: =$U$2*(MIN($E$41:$E$43)/E42) -> 40.791029 | N42: =$D42+M42 -> 79.791029
B43: LIMCAMAR SL | C43: 626433.36 | D43: =23+21 -> 44 | E43: 462548.46 | F43: =$U$2*(MIN($E$41:$E$43)/E43) -> 55 | G43: =D43+F43 -> 99 | H43: 1 | I43: =+$C43/$C$47*H43 -> 0.039177423 | J43: =+G43*I43 -> 3.8785648 | L43: =+$E43*(1-K43) -> 462548.46 | M43: =$U$2*(MIN($E$41:$E$43)/E43) -> 55 | N43: =$D43+M43 -> 99 | O43: 1 | P43: =+$C43/$C$47*O43 -> 0.039177423 | Q43: =+N43*P43 -> 3.8785648
A44: LOTE 17: Comunidad Valenciana | B44: TEAM SERVICE FACILITY S.L. | C44: 396204.76 | D44: =23+21 -> 44 | E44: 372183.76 | F44: =$U$2*(MIN($E$44:$E$46)/E44) -> 55 | G44: =D44+F44 -> 99 | H44: 1 | I44: =+$C44/$C$47*H44 -> 0.024778823 | J44: =+G44*I44 -> 2.4531035 | L44: =+$E44*(1-K44) -> 372183.76 | M44: =$U$2*(MIN($E$44:$E$46)/E44) -> 55 | N44: =$D44+M44 -> 99
B45: LIMCAMAR SL | C45: 396204.76 | D45: =23+21 -> 44 | E45: 395794.5 | F45: =$U$2*(MIN($E$44:$E$46)/E45) -> 51.719028 | G45: =D45+F45 -> 95.719028 | L45: =+$E45*(1-K45) -> 395794.5 | M45: =$U$2*(MIN($E$44:$E$46)/E45) -> 51.719028 | N45: =$D45+M45 -> 95.719028 | P45: =+$C45/$C$47*O45 -> 0 | Q45: =+N45*P45 -> 0
B46: ALTHENIA, S.L. | C46: 396204.76 | D46: =23+21 -> 44 | E46: 395784.12 | F46: =$U$2*(MIN($E$44:$E$46)/E46) -> 51.720384 | G46: =D46+F46 -> 95.720384 | K46: 0.005 | L46: =+$E46*(1-K46) -> 393805.2 | M46: =$U$2*(MIN($E$44:$E$46)/E46) -> 51.720384 | N46: =$D46+M46 -> 95.720384 | O46: 1 | P46: =+$C46/$C$47*O46 -> 0.024778823 | Q46: =+N46*P46 -> 2.3718385
B47: Valor estimado total: | C47: =C9+C10+C12+C15+C18+C19+C21+C22+C25+C28+C29+C31+C33+C39+C40+C41+C44 -> 15989652 | I47: Puntuación total ponderada | J47: =SUM(J9:J46) -> 90.236486 | P47: Puntuación total ponderada | Q47: =SUM(Q9:Q44) -> 81.613782
A50: De conformidad con los criterios de valoración establecidos en el Pliego de Condiciones Generales de Contratación de este Expediente.
A51: Madrid, a 19 de octubre de 2023
