Workbook

Sheet Anexo I pag 1 oferta
A1: NOTA IMPORTANTE: ESTE ANEXO I Y TABLA/S DE DESGLOSE DE MEDICIONES CORRESPONDIENTE A LOTE/S OFERTADO/S SE PRESENTARA/N EN FORMATO PDF
I5: “Adecuación pasarelas de mantenimiento PRADO DEL REY y TORRESPAÑA"
I6: Expediente n.º S/06500/2023
A9: ANEXO I: MODELO DE PROPOSICIÓN ECONÓMICA
A12: D./Dª | F12: provisto de D.N.I./NIE número
A13: (Nombre y dos apellidos)
A15: en calidad de | D15: de la empresa
C16: (cargo que ocupa) | F16: (nombre o razón social)
A18: con NIF | C18: y domicilio social en | H18: DP número
A21: calle/plaza | H21: número
A23: conforme acredita con Poder.
A25: Se compromete a prestarlo con estricta sujeción a todas las condiciones técnicas y legales que se contienen en las Condiciones Generales de Contratación y de Condiciones Técnicas Particulares que ha examinado y expresamente acepta, señalando como características de su proposición las siguientes:
A27: A. El precio máximo ofertado, expresado sin IVA u otros impuestos indirectos equivalentes, es el siguiente:
G29: Presenta oferta conjunta (si/no)
H30: NO
A32: Lote | B32: Descripción | E32: importe oferta (€) (a) | G32: oferta conjunta
G33: % dscto. ofertado (b) | H33: importe € (c) | I33: % dscto. efectivo
A34: 1 | B34: ADECUACION PASARELAS TORRESPAÑA | E34: =IF(AND('LOTE 1 Tabla Desglose Precio'!$H$63=0,'Anexo I pag 1 oferta'!$H$30="si"),"ERROR, sin oferta",IF('LOTE 1 Tabla Desglose Precio'!$H$63>137044.16,"error, supera 137.044,16",'LOTE 1 Tabla Desglose Precio'!$H$63)) -> 0 | H34: =+IF($H$30<>"SI","",IF(AND($H$30="si",E34+E36=E34),"Lote 1 ó 2 sin ofertar",IF(AND($H$30="si",E34=0),"Lote 1 sin ofertar",IF(AND($H$30="si",$G$34+$G$36=0),"% no valido",IF(AND($H$30="si",G34>=0,G34/100<='LOTE 1 Tabla Desglose Precio'!$J$6),+'LOTE 1 Tabla Desglose Precio'!$K$63,"max "&'LOTE 1 Tabla Desglose Precio'!$J$6*100&" % - min 0 %"))))) | I34: =+IF($H$30<>"si","",IF(OR($E$34<=0,$E$36<=0,AND($G$34<=0,$G$36<=0)),"",IF($G$34/100>'LOTE 1 Tabla Desglose Precio'!$J$6,"",IF(H34>0,1-((H34)/E34),""))))
A36: 2 | B36: ADECUACION PASARELAS PRADO DEL REY | E36: =IF(AND('LOTE 2 Tabla Desglose Precio'!$H$144=0,'Anexo I pag 1 oferta'!$H$30="si"),"ERROR, sin oferta",IF('LOTE 2 Tabla Desglose Precio'!$H$144>244302.8,"error, supera 244.302,8",'LOTE 2 Tabla Desglose Precio'!$H$144)) -> 0 | H36: =+IF($H$30<>"SI","",IF(AND($H$30="si",E34+E36=E36),"Lote 1 ó 2 sin ofertar",IF(AND($H$30="si",E36=0),"Lote 2 sin ofertar",IF(AND($H$30="si",$G$34+$G$36=0),"% no valido",IF(AND($H$30="si",G36>=0,G36/100<='LOTE 2 Tabla Desglose Precio'!$J$6),+'LOTE 2 Tabla Desglose Precio'!$K$144,"max "&'LOTE 2 Tabla Desglose Precio'!$J$6*100&" % - min 0 %"))))) | I36: =+IF($H$30<>"si","",IF(OR($E$34<=0,$E$36<=0,AND($G$34<=0,$G$36<=0)),"",IF($G$36/100>'LOTE 2 Tabla Desglose Precio'!$J$6,"",IF(H36>0,1-((H36)/E36),""))))
G38: TOTAL OFERTA CONJUNTA | H38: =IF(H30<>"SI","",IF(+G34+G36>0,+H34+H36,""))
A40: (b) | B40: máximo descuento ofertado XX % (dos decimales) valores válidos en ambos Lotes de 0,00 % o superior %
B41: en oferta conjunta al menos 1 valor de columna (b) debe ser mayor que 0,00 %
A43: (c) | B43: Obtenido por aplicación de (a) sobre todas las partidas de Desglose Precio ofertadas en cada Lote % dscto efectivo = .(c)/(a)
B44: (MAXIMO CUIATRO DECIMALES)
A46: Las proposiciones económicas no podrán superar el importe total para cada uno de los lotes del valor estimado indicado en el Anexo II, apartado 3.
A48: B. Desglose Precio:
B54: (tabla desglose precio de lote/s se incluye en páginas siguientes)
B60: Fdo.:

Sheet LOTE 1  Tabla Desglose Precio
A1: NOTA IMPORTANTE: Este fichero de mediciones en Excel (ÚNICO FORMATO DISPONIBLE) se facilita como ayuda para la preparación de la oferta económica. Debe considerarse que, en todo caso, el ÚNICO CONTENIDO TÉCNICO VINCULANTE ES EL DEFINIDO EN EL PLIEGO DE CONDICIONES TÉCNICAS y el licitador debe verificar que los capítulos y contenidos de la oferta presentada correspondan exactamente con las mediciones del Proyecto.
A2: NOTA IMPORTANTE: Este fichero de mediciones en Excel (ÚNICO FORMATO DISPONIBLE) se facilita como ayuda para la preparación de la oferta económica. Debe considerarse que, en todo caso, el ÚNICO CONTENIDO TÉCNICO VINCULANTE ES EL DEFINIDO EN EL PLIEGO DE CONDICIONES TÉCNICAS y el licitador debe verificar que los capítulos y contenidos de la oferta presentada correspondan exactamente con las mediciones del Proyecto.
A3: ESTA TABLA DESGLOSE PRECIO DE OFERTA SE PRESENTARA EN FORMATO PDF en Sobre C del LOTE 1 | J3: descto max. No se ve por licitador (actualmente modificable)
A5: S-06500-2023 - Adecuación pasarelas de mantenimiento PRADO DEL REY y TORRESPAÑA | J5: DESCUENTO MÁXIMO LOTE 1
A6: Lote 1: ADECUACION PASARELAS TORRESPAÑA | J6: 1
J8: OFERTA CONJUNTA LOTE 1
A9: Código | B9: Nat | C9: Ud | D9: Resumen | F9: CanPres | G9: PrPres | H9: ImpPres (*) | J9: PrPres | K9: ImpPres (*)
A10: Proyecto: MEJORA PLATAFORMAS DE TRABAJO EN FACHADA EDIFICIOS TORRESPAÑA
A11: CAP.01 | B11: Capítulo | D11: TRABAJOS PREVIOS Y DEMOLICIONES
A12: 01_01 | B12: Partida | C12: Ud | D12: MONTAJE Y DESMONTAJE DE ANDAMIO TUBULAR DE FACHADA. | F12: 2 | H12: =+ROUND(+F12*G12,2) -> 0 | J12: =+IF('Anexo I pag 1 oferta'!$H$30<>"si","",+IF(OR(SUM('Anexo I pag 1 oferta'!$G$34+'Anexo I pag 1 oferta'!$G$36)<=0,AND('Anexo I pag 1 oferta'!$G$34="",'Anexo I pag 1 oferta'!$G$36="")),"",IF(OR(('Anexo I pag 1 oferta'!$G$34/100)>'LOTE 1 Tabla Desglose Precio'!$J$6,('Anexo I pag 1 oferta'!$G$36/100)>'LOTE 2 Tabla Desglose Precio'!$J$6),"error % max.",IF(G12>=E12,+ROUND(((100-'Anexo I pag 1 oferta'!$G$34)/100)*'LOTE 1 Tabla Desglose Precio'!G12,2),ROUND(((100-'Anexo I pag 1 oferta'!$G$34)/100)*'LOTE 1 Tabla Desglose Precio'!E12,2))))) | K12: =IF('Anexo I pag 1 oferta'!$H$30<>"si","",+ROUND(+F12*J12,2))
A13: 01_02 | B13: Partida | C13: Ud | D13: ALQUILER DE ANDAMIO TUBULAR DE FACHADA. | F13: 2 | H13: =+ROUND(+F13*G13,2) -> 0 | J13: =+IF('Anexo I pag 1 oferta'!$H$30<>"si","",+IF(OR(SUM('Anexo I pag 1 oferta'!$G$34+'Anexo I pag 1 oferta'!$G$36)<=0,AND('Anexo I pag 1 oferta'!$G$34="",'Anexo I pag 1 oferta'!$G$36="")),"",IF(OR(('Anexo I pag 1 oferta'!$G$34/100)>'LOTE 1 Tabla Desglose Precio'!$J$6,('Anexo I pag 1 oferta'!$G$36/100)>'LOTE 2 Tabla Desglose Precio'!$J$6),"error % max.",IF(G13>=E13,+ROUND(((100-'Anexo I pag 1 oferta'!$G$34)/100)*'LOTE 1 Tabla Desglose Precio'!G13,2),ROUND(((100-'Anexo I pag 1 oferta'!$G$34)/100)*'LOTE 1 Tabla Desglose Precio'!E13,2))))) | K13: =IF('Anexo I pag 1 oferta'!$H$30<>"si","",+ROUND(+F13*J13,2))
A14: 01_03 | B14: Partida | C14: Ud | D14: TRANSPORTE Y RETIRADA DE ANDAMIO TUBULAR DE FACHADA. | F14: 2 | H14: =+ROUND(+F14*G14,2) -> 0 | J14: =+IF('Anexo I pag 1 oferta'!$H$30<>"si","",+IF(OR(SUM('Anexo I pag 1 oferta'!$G$34+'Anexo I pag 1 oferta'!$G$36)<=0,AND('Anexo I pag 1 oferta'!$G$34="",'Anexo I pag 1 oferta'!$G$36="")),"",IF(OR(('Anexo I pag 1 oferta'!$G$34/100)>'LOTE 1 Tabla Desglose Precio'!$J$6,('Anexo I pag 1 oferta'!$G$36/100)>'LOTE 2 Tabla Desglose Precio'!$J$6),"error % max.",IF(G14>=E14,+ROUND(((100-'Anexo I pag 1 oferta'!$G$34)/100)*'LOTE 1 Tabla Desglose Precio'!G14,2),ROUND(((100-'Anexo I pag 1 oferta'!$G$34)/100)*'LOTE 1 Tabla Desglose Precio'!E14,2))))) | K14: =IF('Anexo I pag 1 oferta'!$H$30<>"si","",+ROUND(+F14*J14,2))
A15: 01_04 | B15: Partida | C15: m | D15: LEVANTADO BARANDILLA METÁLICA PERFILERIA TUBO CIRCULAR. | F15: 76 | H15: =+ROUND(+F15*G15,2) -> 0 | J15: =+IF('Anexo I pag 1 oferta'!$H$30<>"si","",+IF(OR(SUM('Anexo I pag 1 oferta'!$G$34+'Anexo I pag 1 oferta'!$G$36)<=0,AND('Anexo I pag 1 oferta'!$G$34="",'Anexo I pag 1 oferta'!$G$36="")),"",IF(OR(('Anexo I pag 1 oferta'!$G$34/100)>'LOTE 1 Tabla Desglose Precio'!$J$6,('Anexo I pag 1 oferta'!$G$36/100)>'LOTE 2 Tabla Desglose Precio'!$J$6),"error % max.",IF(G15>=E15,+ROUND(((100-'Anexo I pag 1 oferta'!$G$34)/100)*'LOTE 1 Tabla Desglose Precio'!G15,2),ROUND(((100-'Anexo I pag 1 oferta'!$G$34)/100)*'LOTE 1 Tabla Desglose Precio'!E15,2))))) | K15: =IF('Anexo I pag 1 oferta'!$H$30<>"si","",+ROUND(+F15*J15,2))
A16: 01_05 | B16: Partida | C16: m | D16: LEVANTADO BARANDILLA METÁLICA BALAUSTRES PERFIL T Y PASAMANOS TU | F16: 42 | H16: =+ROUND(+F16*G16,2) -> 0 | J16: =+IF('Anexo I pag 1 oferta'!$H$30<>"si","",+IF(OR(SUM('Anexo I pag 1 oferta'!$G$34+'Anexo I pag 1 oferta'!$G$36)<=0,AND('Anexo I pag 1 oferta'!$G$34="",'Anexo I pag 1 oferta'!$G$36="")),"",IF(OR(('Anexo I pag 1 oferta'!$G$34/100)>'LOTE 1 Tabla Desglose Precio'!$J$6,('Anexo I pag 1 oferta'!$G$36/100)>'LOTE 2 Tabla Desglose Precio'!$J$6),"error % max.",IF(G16>=E16,+ROUND(((100-'Anexo I pag 1 oferta'!$G$34)/100)*'LOTE 1 Tabla Desglose Precio'!G16,2),ROUND(((100-'Anexo I pag 1 oferta'!$G$34)/100)*'LOTE 1 Tabla Desglose Precio'!E16,2))))) | K16: =IF('Anexo I pag 1 oferta'!$H$30<>"si","",+ROUND(+F16*J16,2))
A17: 01_06 | B17: Partida | C17: m | D17: LEVANTADO REJILLA ELECTROSOLDADA PLANCHAS 185X50CM i/MARCO ÁNGUL | F17: 76 | H17: =+ROUND(+F17*G17,2) -> 0 | J17: =+IF('Anexo I pag 1 oferta'!$H$30<>"si","",+IF(OR(SUM('Anexo I pag 1 oferta'!$G$34+'Anexo I pag 1 oferta'!$G$36)<=0,AND('Anexo I pag 1 oferta'!$G$34="",'Anexo I pag 1 oferta'!$G$36="")),"",IF(OR(('Anexo I pag 1 oferta'!$G$34/100)>'LOTE 1 Tabla Desglose Precio'!$J$6,('Anexo I pag 1 oferta'!$G$36/100)>'LOTE 2 Tabla Desglose Precio'!$J$6),"error % max.",IF(G17>=E17,+ROUND(((100-'Anexo I pag 1 oferta'!$G$34)/100)*'LOTE 1 Tabla Desglose Precio'!G17,2),ROUND(((100-'Anexo I pag 1 oferta'!$G$34)/100)*'LOTE 1 Tabla Desglose Precio'!E17,2))))) | K17: =IF('Anexo I pag 1 oferta'!$H$30<>"si","",+ROUND(+F17*J17,2))
A18: 01_07 | B18: Partida | C18: m | D18: LEVANTADO REJILLA ELECTROSOLDADA PLETINA-VARILLA. PLANCHAS 100X6 | F18: 24.48 | H18: =+ROUND(+F18*G18,2) -> 0 | J18: =+IF('Anexo I pag 1 oferta'!$H$30<>"si","",+IF(OR(SUM('Anexo I pag 1 oferta'!$G$34+'Anexo I pag 1 oferta'!$G$36)<=0,AND('Anexo I pag 1 oferta'!$G$34="",'Anexo I pag 1 oferta'!$G$36="")),"",IF(OR(('Anexo I pag 1 oferta'!$G$34/100)>'LOTE 1 Tabla Desglose Precio'!$J$6,('Anexo I pag 1 oferta'!$G$36/100)>'LOTE 2 Tabla Desglose Precio'!$J$6),"error % max.",IF(G18>=E18,+ROUND(((100-'Anexo I pag 1 oferta'!$G$34)/100)*'LOTE 1 Tabla Desglose Precio'!G18,2),ROUND(((100-'Anexo I pag 1 oferta'!$G$34)/100)*'LOTE 1 Tabla Desglose Precio'!E18,2))))) | K18: =IF('Anexo I pag 1 oferta'!$H$30<>"si","",+ROUND(+F18*J18,2))
A19: 01_08 | B19: Partida | C19: ud | D19: DESMONTAJE DE MÉNSULA METÁLICA PALASTRO 10MM. | F19: 90 | H19: =+ROUND(+F19*G19,2) -> 0 | J19: =+IF('Anexo I pag 1 oferta'!$H$30<>"si","",+IF(OR(SUM('Anexo I pag 1 oferta'!$G$34+'Anexo I pag 1 oferta'!$G$36)<=0,AND('Anexo I pag 1 oferta'!$G$34="",'Anexo I pag 1 oferta'!$G$36="")),"",IF(OR(('Anexo I pag 1 oferta'!$G$34/100)>'LOTE 1 Tabla Desglose Precio'!$J$6,('Anexo I pag 1 oferta'!$G$36/100)>'LOTE 2 Tabla Desglose Precio'!$J$6),"error % max.",IF(G19>=E19,+ROUND(((100-'Anexo I pag 1 oferta'!$G$34)/100)*'LOTE 1 Tabla Desglose Precio'!G19,2),ROUND(((100-'Anexo I pag 1 oferta'!$G$34)/100)*'LOTE 1 Tabla Desglose Precio'!E19,2))))) | K19: =IF('Anexo I pag 1 oferta'!$H$30<>"si","",+ROUND(+F19*J19,2))
A20: 01_09 | B20: Partida | C20: m² | D20: CAJEADO EN FACHADA PANELES SÁNDWICH AISLANTES METÁLICOS C/RECUPE | F20: 90 | H20: =+ROUND(+F20*G20,2) -> 0 | J20: =+IF('Anexo I pag 1 oferta'!$H$30<>"si","",+IF(OR(SUM('Anexo I pag 1 oferta'!$G$34+'Anexo I pag 1 oferta'!$G$36)<=0,AND('Anexo I pag 1 oferta'!$G$34="",'Anexo I pag 1 oferta'!$G$36="")),"",IF(OR(('Anexo I pag 1 oferta'!$G$34/100)>'LOTE 1 Tabla Desglose Precio'!$J$6,('Anexo I pag 1 oferta'!$G$36/100)>'LOTE 2 Tabla Desglose Precio'!$J$6),"error % max.",IF(G20>=E20,+ROUND(((100-'Anexo I pag 1 oferta'!$G$34)/100)*'LOTE 1 Tabla Desglose Precio'!G20,2),ROUND(((100-'Anexo I pag 1 oferta'!$G$34)/100)*'LOTE 1 Tabla Desglose Precio'!E20,2))))) | K20: =IF('Anexo I pag 1 oferta'!$H$30<>"si","",+ROUND(+F20*J20,2))
D21: CAP.01 | H21: =SUM(H12:H20) -> 0 | K21: =SUM(K12:K20) -> 0
A22: CAP.02 | B22: Capítulo | D22: ESTRUCTURA
A23: 02_01 | B23: Partida | C23: kg | D23: ACERO ACERO S275JR GALVANIZADO EN CALIENTE EN VIGUETAS HEA-120. | F23: 2728.71 | H23: =+ROUND(+F23*G23,2) -> 0 | J23: =+IF('Anexo I pag 1 oferta'!$H$30<>"si","",+IF(OR(SUM('Anexo I pag 1 oferta'!$G$34+'Anexo I pag 1 oferta'!$G$36)<=0,AND('Anexo I pag 1 oferta'!$G$34="",'Anexo I pag 1 oferta'!$G$36="")),"",IF(OR(('Anexo I pag 1 oferta'!$G$34/100)>'LOTE 1 Tabla Desglose Precio'!$J$6,('Anexo I pag 1 oferta'!$G$36/100)>'LOTE 2 Tabla Desglose Precio'!$J$6),"error % max.",IF(G23>=E23,+ROUND(((100-'Anexo I pag 1 oferta'!$G$34)/100)*'LOTE 1 Tabla Desglose Precio'!G23,2),ROUND(((100-'Anexo I pag 1 oferta'!$G$34)/100)*'LOTE 1 Tabla Desglose Precio'!E23,2))))) | K23: =IF('Anexo I pag 1 oferta'!$H$30<>"si","",+ROUND(+F23*J23,2))
A24: 02_02 | B24: Partida | C24: kg | D24: ACERO ACERO S275JR GALVANIZADO EN CALIENTE EN MÉNSULA IPE-160. | F24: 426.6 | H24: =+ROUND(+F24*G24,2) -> 0 | J24: =+IF('Anexo I pag 1 oferta'!$H$30<>"si","",+IF(OR(SUM('Anexo I pag 1 oferta'!$G$34+'Anexo I pag 1 oferta'!$G$36)<=0,AND('Anexo I pag 1 oferta'!$G$34="",'Anexo I pag 1 oferta'!$G$36="")),"",IF(OR(('Anexo I pag 1 oferta'!$G$34/100)>'LOTE 1 Tabla Desglose Precio'!$J$6,('Anexo I pag 1 oferta'!$G$36/100)>'LOTE 2 Tabla Desglose Precio'!$J$6),"error % max.",IF(G24>=E24,+ROUND(((100-'Anexo I pag 1 oferta'!$G$34)/100)*'LOTE 1 Tabla Desglose Precio'!G24,2),ROUND(((100-'Anexo I pag 1 oferta'!$G$34)/100)*'LOTE 1 Tabla Desglose Precio'!E24,2))))) | K24: =IF('Anexo I pag 1 oferta'!$H$30<>"si","",+ROUND(+F24*J24,2))
A25: 02_03 | B25: Partida | C25: Ud | D25: PLACA ANCLAJE ACERO S275JR GALVANIZADO EN CALIENTE 250x250x12MM | F25: 90 | H25: =+ROUND(+F25*G25,2) -> 0 | J25: =+IF('Anexo I pag 1 oferta'!$H$30<>"si","",+IF(OR(SUM('Anexo I pag 1 oferta'!$G$34+'Anexo I pag 1 oferta'!$G$36)<=0,AND('Anexo I pag 1 oferta'!$G$34="",'Anexo I pag 1 oferta'!$G$36="")),"",IF(OR(('Anexo I pag 1 oferta'!$G$34/100)>'LOTE 1 Tabla Desglose Precio'!$J$6,('Anexo I pag 1 oferta'!$G$36/100)>'LOTE 2 Tabla Desglose Precio'!$J$6),"error % max.",IF(G25>=E25,+ROUND(((100-'Anexo I pag 1 oferta'!$G$34)/100)*'LOTE 1 Tabla Desglose Precio'!G25,2),ROUND(((100-'Anexo I pag 1 oferta'!$G$34)/100)*'LOTE 1 Tabla Desglose Precio'!E25,2))))) | K25: =IF('Anexo I pag 1 oferta'!$H$30<>"si","",+ROUND(+F25*J25,2))
A26: 02_04 | B26: Partida | C26: Ud | D26: PLACA ANCLAJE ACERO S275JR GALVANIZADO CON 4 PERNOS SOLDADOS. | F26: 90 | H26: =+ROUND(+F26*G26,2) -> 0 | J26: =+IF('Anexo I pag 1 oferta'!$H$30<>"si","",+IF(OR(SUM('Anexo I pag 1 oferta'!$G$34+'Anexo I pag 1 oferta'!$G$36)<=0,AND('Anexo I pag 1 oferta'!$G$34="",'Anexo I pag 1 oferta'!$G$36="")),"",IF(OR(('Anexo I pag 1 oferta'!$G$34/100)>'LOTE 1 Tabla Desglose Precio'!$J$6,('Anexo I pag 1 oferta'!$G$36/100)>'LOTE 2 Tabla Desglose Precio'!$J$6),"error % max.",IF(G26>=E26,+ROUND(((100-'Anexo I pag 1 oferta'!$G$34)/100)*'LOTE 1 Tabla Desglose Precio'!G26,2),ROUND(((100-'Anexo I pag 1 oferta'!$G$34)/100)*'LOTE 1 Tabla Desglose Precio'!E26,2))))) | K26: =IF('Anexo I pag 1 oferta'!$H$30<>"si","",+ROUND(+F26*J26,2))
A27: 02_05 | B27: Partida | C27: Ud | D27: PLACA ANCLAJE ACERO S275JR GALVANIZADO CON 4 PERNOS ATORNILLADOS | F27: 180 | H27: =+ROUND(+F27*G27,2) -> 0 | J27: =+IF('Anexo I pag 1 oferta'!$H$30<>"si","",+IF(OR(SUM('Anexo I pag 1 oferta'!$G$34+'Anexo I pag 1 oferta'!$G$36)<=0,AND('Anexo I pag 1 oferta'!$G$34="",'Anexo I pag 1 oferta'!$G$36="")),"",IF(OR(('Anexo I pag 1 oferta'!$G$34/100)>'LOTE 1 Tabla Desglose Precio'!$J$6,('Anexo I pag 1 oferta'!$G$36/100)>'LOTE 2 Tabla Desglose Precio'!$J$6),"error % max.",IF(G27>=E27,+ROUND(((100-'Anexo I pag 1 oferta'!$G$34)/100)*'LOTE 1 Tabla Desglose Precio'!G27,2),ROUND(((100-'Anexo I pag 1 oferta'!$G$34)/100)*'LOTE 1 Tabla Desglose Precio'!E27,2))))) | K27: =IF('Anexo I pag 1 oferta'!$H$30<>"si","",+ROUND(+F27*J27,2))
D28: CAP.02 | H28: =SUM(H23:H27) -> 0 | K28: =SUM(K23:K27) -> 0
A29: CAP.03 | B29: Capítulo | D29: BARANDILLA
A30: 03_01 | B30: Partida | C30: m | D30: BARANDILLA DE FACHADA DE ACERO. | F30: 42 | H30: =+ROUND(+F30*G30,2) -> 0 | J30: =+IF('Anexo I pag 1 oferta'!$H$30<>"si","",+IF(OR(SUM('Anexo I pag 1 oferta'!$G$34+'Anexo I pag 1 oferta'!$G$36)<=0,AND('Anexo I pag 1 oferta'!$G$34="",'Anexo I pag 1 oferta'!$G$36="")),"",IF(OR(('Anexo I pag 1 oferta'!$G$34/100)>'LOTE 1 Tabla Desglose Precio'!$J$6,('Anexo I pag 1 oferta'!$G$36/100)>'LOTE 2 Tabla Desglose Precio'!$J$6),"error % max.",IF(G30>=E30,+ROUND(((100-'Anexo I pag 1 oferta'!$G$34)/100)*'LOTE 1 Tabla Desglose Precio'!G30,2),ROUND(((100-'Anexo I pag 1 oferta'!$G$34)/100)*'LOTE 1 Tabla Desglose Precio'!E30,2))))) | K30: =IF('Anexo I pag 1 oferta'!$H$30<>"si","",+ROUND(+F30*J30,2))
D31: CAP.03 | H31: =SUM(H30) -> 0 | K31: =SUM(K30) -> 0
A32: CAP.04 | B32: Capítulo | D32: PAVIMENTO
A33: 04_01 | B33: Partida | C33: m² | D33: PAVIMENTO DE REJILLA ELECTROSOLDADA 34x38-40.3. | F33: 111.264 | H33: =+ROUND(+F33*G33,2) -> 0 | J33: =+IF('Anexo I pag 1 oferta'!$H$30<>"si","",+IF(OR(SUM('Anexo I pag 1 oferta'!$G$34+'Anexo I pag 1 oferta'!$G$36)<=0,AND('Anexo I pag 1 oferta'!$G$34="",'Anexo I pag 1 oferta'!$G$36="")),"",IF(OR(('Anexo I pag 1 oferta'!$G$34/100)>'LOTE 1 Tabla Desglose Precio'!$J$6,('Anexo I pag 1 oferta'!$G$36/100)>'LOTE 2 Tabla Desglose Precio'!$J$6),"error % max.",IF(G33>=E33,+ROUND(((100-'Anexo I pag 1 oferta'!$G$34)/100)*'LOTE 1 Tabla Desglose Precio'!G33,2),ROUND(((100-'Anexo I pag 1 oferta'!$G$34)/100)*'LOTE 1 Tabla Desglose Precio'!E33,2))))) | K33: =IF('Anexo I pag 1 oferta'!$H$30<>"si","",+ROUND(+F33*J33,2))
A34: 04_02 | B34: Partida | C34: m | D34: RODAPIÉ METÁLICO CHAPA 2MM GALVANIZADA EN CALIENTE. | F34: 78 | H34: =+ROUND(+F34*G34,2) -> 0 | J34: =+IF('Anexo I pag 1 oferta'!$H$30<>"si","",+IF(OR(SUM('Anexo I pag 1 oferta'!$G$34+'Anexo I pag 1 oferta'!$G$36)<=0,AND('Anexo I pag 1 oferta'!$G$34="",'Anexo I pag 1 oferta'!$G$36="")),"",IF(OR(('Anexo I pag 1 oferta'!$G$34/100)>'LOTE 1 Tabla Desglose Precio'!$J$6,('Anexo I pag 1 oferta'!$G$36/100)>'LOTE 2 Tabla Desglose Precio'!$J$6),"error % max.",IF(G34>=E34,+ROUND(((100-'Anexo I pag 1 oferta'!$G$34)/100)*'LOTE 1 Tabla Desglose Precio'!G34,2),ROUND(((100-'Anexo I pag 1 oferta'!$G$34)/100)*'LOTE 1 Tabla Desglose Precio'!E34,2))))) | K34: =IF('Anexo I pag 1 oferta'!$H$30<>"si","",+ROUND(+F34*J34,2))
A35: 04_03 | B35: Partida | C35: m² | D35: PAVIMENTO DE REJILLA ELECTROSOLDADA CON PERFILES DE PROTECCIÓN | F35: 52.296 | H35: =+ROUND(+F35*G35,2) -> 0 | J35: =+IF('Anexo I pag 1 oferta'!$H$30<>"si","",+IF(OR(SUM('Anexo I pag 1 oferta'!$G$34+'Anexo I pag 1 oferta'!$G$36)<=0,AND('Anexo I pag 1 oferta'!$G$34="",'Anexo I pag 1 oferta'!$G$36="")),"",IF(OR(('Anexo I pag 1 oferta'!$G$34/100)>'LOTE 1 Tabla Desglose Precio'!$J$6,('Anexo I pag 1 oferta'!$G$36/100)>'LOTE 2 Tabla Desglose Precio'!$J$6),"error % max.",IF(G35>=E35,+ROUND(((100-'Anexo I pag 1 oferta'!$G$34)/100)*'LOTE 1 Tabla Desglose Precio'!G35,2),ROUND(((100-'Anexo I pag 1 oferta'!$G$34)/100)*'LOTE 1 Tabla Desglose Precio'!E35,2))))) | K35: =IF('Anexo I pag 1 oferta'!$H$30<>"si","",+ROUND(+F35*J35,2))
A36: 04_04 | B36: Partida | C36: m | D36: RODAPIÉ METÁLICO CHAPA 2MM LACADO AL HORNO | F36: 80.4 | H36: =+ROUND(+F36*G36,2) -> 0 | J36: =+IF('Anexo I pag 1 oferta'!$H$30<>"si","",+IF(OR(SUM('Anexo I pag 1 oferta'!$G$34+'Anexo I pag 1 oferta'!$G$36)<=0,AND('Anexo I pag 1 oferta'!$G$34="",'Anexo I pag 1 oferta'!$G$36="")),"",IF(OR(('Anexo I pag 1 oferta'!$G$34/100)>'LOTE 1 Tabla Desglose Precio'!$J$6,('Anexo I pag 1 oferta'!$G$36/100)>'LOTE 2 Tabla Desglose Precio'!$J$6),"error % max.",IF(G36>=E36,+ROUND(((100-'Anexo I pag 1 oferta'!$G$34)/100)*'LOTE 1 Tabla Desglose Precio'!G36,2),ROUND(((100-'Anexo I pag 1 oferta'!$G$34)/100)*'LOTE 1 Tabla Desglose Precio'!E36,2))))) | K36: =IF('Anexo I pag 1 oferta'!$H$30<>"si","",+ROUND(+F36*J36,2))
D37: CAP.04 | H37: =SUM(H33:H36) -> 0 | K37: =SUM(K33:K36) -> 0
A38: CAP.05 | B38: Capítulo | D38: ACABADOS VARIOS
A39: 05_01 | B39: Partida | C39: m² | D39: PREPARACIÓN DE SUPERFICIE METÁLICA, PARA REPINTAR. | F39: 57.76 | H39: =+ROUND(+F39*G39,2) -> 0 | J39: =+IF('Anexo I pag 1 oferta'!$H$30<>"si","",+IF(OR(SUM('Anexo I pag 1 oferta'!$G$34+'Anexo I pag 1 oferta'!$G$36)<=0,AND('Anexo I pag 1 oferta'!$G$34="",'Anexo I pag 1 oferta'!$G$36="")),"",IF(OR(('Anexo I pag 1 oferta'!$G$34/100)>'LOTE 1 Tabla Desglose Precio'!$J$6,('Anexo I pag 1 oferta'!$G$36/100)>'LOTE 2 Tabla Desglose Precio'!$J$6),"error % max.",IF(G39>=E39,+ROUND(((100-'Anexo I pag 1 oferta'!$G$34)/100)*'LOTE 1 Tabla Desglose Precio'!G39,2),ROUND(((100-'Anexo I pag 1 oferta'!$G$34)/100)*'LOTE 1 Tabla Desglose Precio'!E39,2))))) | K39: =IF('Anexo I pag 1 oferta'!$H$30<>"si","",+ROUND(+F39*J39,2))
A40: 05_02 | B40: Partida | C40: m² | D40: ESMALTE EPOXI 2 COMPONENTES SOBRE ESTRUCTURA DE ACERO | F40: 150.16 | H40: =+ROUND(+F40*G40,2) -> 0 | J40: =+IF('Anexo I pag 1 oferta'!$H$30<>"si","",+IF(OR(SUM('Anexo I pag 1 oferta'!$G$34+'Anexo I pag 1 oferta'!$G$36)<=0,AND('Anexo I pag 1 oferta'!$G$34="",'Anexo I pag 1 oferta'!$G$36="")),"",IF(OR(('Anexo I pag 1 oferta'!$G$34/100)>'LOTE 1 Tabla Desglose Precio'!$J$6,('Anexo I pag 1 oferta'!$G$36/100)>'LOTE 2 Tabla Desglose Precio'!$J$6),"error % max.",IF(G40>=E40,+ROUND(((100-'Anexo I pag 1 oferta'!$G$34)/100)*'LOTE 1 Tabla Desglose Precio'!G40,2),ROUND(((100-'Anexo I pag 1 oferta'!$G$34)/100)*'LOTE 1 Tabla Desglose Precio'!E40,2))))) | K40: =IF('Anexo I pag 1 oferta'!$H$30<>"si","",+ROUND(+F40*J40,2))
A41: 05_03 | B41: Partida | C41: m² | D41: REPOSICIÓN PIEZA PANEL SÁNDWICH DE FACHADA PROCEDENTE DE RECUPER | F41: 90 | H41: =+ROUND(+F41*G41,2) -> 0 | J41: =+IF('Anexo I pag 1 oferta'!$H$30<>"si","",+IF(OR(SUM('Anexo I pag 1 oferta'!$G$34+'Anexo I pag 1 oferta'!$G$36)<=0,AND('Anexo I pag 1 oferta'!$G$34="",'Anexo I pag 1 oferta'!$G$36="")),"",IF(OR(('Anexo I pag 1 oferta'!$G$34/100)>'LOTE 1 Tabla Desglose Precio'!$J$6,('Anexo I pag 1 oferta'!$G$36/100)>'LOTE 2 Tabla Desglose Precio'!$J$6),"error % max.",IF(G41>=E41,+ROUND(((100-'Anexo I pag 1 oferta'!$G$34)/100)*'LOTE 1 Tabla Desglose Precio'!G41,2),ROUND(((100-'Anexo I pag 1 oferta'!$G$34)/100)*'LOTE 1 Tabla Desglose Precio'!E41,2))))) | K41: =IF('Anexo I pag 1 oferta'!$H$30<>"si","",+ROUND(+F41*J41,2))
A42: 05_04 | B42: Partida | C42: m² | D42: LÁMINA SEGURIDAD TRANSPARENTE SOBRE ACRISTALAMIENTO FACHADA 175µ | F42: 75.3 | H42: =+ROUND(+F42*G42,2) -> 0 | J42: =+IF('Anexo I pag 1 oferta'!$H$30<>"si","",+IF(OR(SUM('Anexo I pag 1 oferta'!$G$34+'Anexo I pag 1 oferta'!$G$36)<=0,AND('Anexo I pag 1 oferta'!$G$34="",'Anexo I pag 1 oferta'!$G$36="")),"",IF(OR(('Anexo I pag 1 oferta'!$G$34/100)>'LOTE 1 Tabla Desglose Precio'!$J$6,('Anexo I pag 1 oferta'!$G$36/100)>'LOTE 2 Tabla Desglose Precio'!$J$6),"error % max.",IF(G42>=E42,+ROUND(((100-'Anexo I pag 1 oferta'!$G$34)/100)*'LOTE 1 Tabla Desglose Precio'!G42,2),ROUND(((100-'Anexo I pag 1 oferta'!$G$34)/100)*'LOTE 1 Tabla Desglose Precio'!E42,2))))) | K42: =IF('Anexo I pag 1 oferta'!$H$30<>"si","",+ROUND(+F42*J42,2))
...

Sheet LOTE 2  Tabla Desglose Precio
A1: NOTA IMPORTANTE: Este fichero de mediciones en Excel (ÚNICO FORMATO DISPONIBLE) se facilita como ayuda para la preparación de la oferta económica. Debe considerarse que, en todo caso, el ÚNICO CONTENIDO TÉCNICO VINCULANTE ES EL DEFINIDO EN EL PLIEGO DE CONDICIONES TÉCNICAS y el licitador debe verificar que los capítulos y contenidos de la oferta presentada correspondan exactamente con las mediciones del Proyecto.
A2: NOTA IMPORTANTE: Este fichero de mediciones en Excel (ÚNICO FORMATO DISPONIBLE) se facilita como ayuda para la preparación de la oferta económica. Debe considerarse que, en todo caso, el ÚNICO CONTENIDO TÉCNICO VINCULANTE ES EL DEFINIDO EN EL PLIEGO DE CONDICIONES TÉCNICAS y el licitador debe verificar que los capítulos y contenidos de la oferta presentada correspondan exactamente con las mediciones del Proyecto.
A3: ESTA TABLA DESGLOSE PRECIO DE OFERTA SE PRESENTARA EN FORMATO PDF en Sobre C del LOTE 2 | J3: descto max. No se ve por licitador (actualmente modificable)
A5: S-06500-2023 - Adecuación pasarelas de mantenimiento PRADO DEL REY y TORRESPAÑA | J5: DESCUENTO MÁXIMO LOTE 2
A6: Lote 2: ADECUACION PASARELAS PRADO DEL REY | J6: 1
J8: OFERTA CONJUNTA LOTE 2
A9: Código | B9: Nat | C9: Ud | D9: Resumen | F9: CanPres | G9: PrPres | H9: ImpPres (*) | J9: PrPres | K9: ImpPres (*)
A10: Proyecto: MEJORAS EN PASARELAS DE MANTENIMIENTO EDIFICIO "NUEVOS ESTUDIOS"
A11: CAP.01 | B11: Capítulo | D11: PASARELAS PLANTAS 1ª Y 2ª
A12: A.01.01 | B12: Partida | C12: m | D12: DESMONTAJE MARCO REJILLA ELECTROSOLDADA ÁNGULO L 50.5 ACERO GALV | F12: 5.6 | H12: =+ROUND(+F12*G12,2) -> 0 | J12: =+IF('Anexo I pag 1 oferta'!$H$30<>"si","",+IF(OR(SUM('Anexo I pag 1 oferta'!$G$34+'Anexo I pag 1 oferta'!$G$36)<=0,AND('Anexo I pag 1 oferta'!$G$34="",'Anexo I pag 1 oferta'!$G$36="")),"",IF(OR(('Anexo I pag 1 oferta'!$G$34/100)>'LOTE 1 Tabla Desglose Precio'!$J$6,('Anexo I pag 1 oferta'!$G$36/100)>'LOTE 2 Tabla Desglose Precio'!$J$6),"error % max.",IF(G12>=E12,+ROUND(((100-'Anexo I pag 1 oferta'!$G$36)/100)*'LOTE 2 Tabla Desglose Precio'!G12,2),ROUND(((100-'Anexo I pag 1 oferta'!$G$36)/100)*'LOTE 2 Tabla Desglose Precio'!E12,2))))) | K12: =IF('Anexo I pag 1 oferta'!$H$30<>"si","",+ROUND(+F12*J12,2))
A13: A.01.02 | B13: Partida | C13: m | D13: REFUERZO APOYO ÁNGULO L 60.5 ACERO GALVANIZADO EN CALIENTE | F13: 6.4 | H13: =+ROUND(+F13*G13,2) -> 0 | J13: =+IF('Anexo I pag 1 oferta'!$H$30<>"si","",+IF(OR(SUM('Anexo I pag 1 oferta'!$G$34+'Anexo I pag 1 oferta'!$G$36)<=0,AND('Anexo I pag 1 oferta'!$G$34="",'Anexo I pag 1 oferta'!$G$36="")),"",IF(OR(('Anexo I pag 1 oferta'!$G$34/100)>'LOTE 1 Tabla Desglose Precio'!$J$6,('Anexo I pag 1 oferta'!$G$36/100)>'LOTE 2 Tabla Desglose Precio'!$J$6),"error % max.",IF(G13>=E13,+ROUND(((100-'Anexo I pag 1 oferta'!$G$36)/100)*'LOTE 2 Tabla Desglose Precio'!G13,2),ROUND(((100-'Anexo I pag 1 oferta'!$G$36)/100)*'LOTE 2 Tabla Desglose Precio'!E13,2))))) | K13: =IF('Anexo I pag 1 oferta'!$H$30<>"si","",+ROUND(+F13*J13,2))
A14: A.01.03 | B14: Partida | C14: m | D14: MARCO REJILLA ELECTROSOLDADA ÁNGULO L 50.5 ACERO GALVANIZADO EN | F14: 5.6 | H14: =+ROUND(+F14*G14,2) -> 0 | J14: =+IF('Anexo I pag 1 oferta'!$H$30<>"si","",+IF(OR(SUM('Anexo I pag 1 oferta'!$G$34+'Anexo I pag 1 oferta'!$G$36)<=0,AND('Anexo I pag 1 oferta'!$G$34="",'Anexo I pag 1 oferta'!$G$36="")),"",IF(OR(('Anexo I pag 1 oferta'!$G$34/100)>'LOTE 1 Tabla Desglose Precio'!$J$6,('Anexo I pag 1 oferta'!$G$36/100)>'LOTE 2 Tabla Desglose Precio'!$J$6),"error % max.",IF(G14>=E14,+ROUND(((100-'Anexo I pag 1 oferta'!$G$36)/100)*'LOTE 2 Tabla Desglose Precio'!G14,2),ROUND(((100-'Anexo I pag 1 oferta'!$G$36)/100)*'LOTE 2 Tabla Desglose Precio'!E14,2))))) | K14: =IF('Anexo I pag 1 oferta'!$H$30<>"si","",+ROUND(+F14*J14,2))
A15: A.01.04 | B15: Partida | C15: m² | D15: PAV.CHAPA PLEGADA AC.GALV.E=2MM PERF.ABOCARDADAS D=10MM C/FORMAC | F15: 205.725 | H15: =+ROUND(+F15*G15,2) -> 0 | J15: =+IF('Anexo I pag 1 oferta'!$H$30<>"si","",+IF(OR(SUM('Anexo I pag 1 oferta'!$G$34+'Anexo I pag 1 oferta'!$G$36)<=0,AND('Anexo I pag 1 oferta'!$G$34="",'Anexo I pag 1 oferta'!$G$36="")),"",IF(OR(('Anexo I pag 1 oferta'!$G$34/100)>'LOTE 1 Tabla Desglose Precio'!$J$6,('Anexo I pag 1 oferta'!$G$36/100)>'LOTE 2 Tabla Desglose Precio'!$J$6),"error % max.",IF(G15>=E15,+ROUND(((100-'Anexo I pag 1 oferta'!$G$36)/100)*'LOTE 2 Tabla Desglose Precio'!G15,2),ROUND(((100-'Anexo I pag 1 oferta'!$G$36)/100)*'LOTE 2 Tabla Desglose Precio'!E15,2))))) | K15: =IF('Anexo I pag 1 oferta'!$H$30<>"si","",+ROUND(+F15*J15,2))
A16: A.01.05 | B16: Partida | C16: Ud | D16: LÍNEA ANCLAJE HORIZ.PERMANENTE HASTA L=7M CABLE ACERO C/AMORTIGU | F16: 4 | H16: =+ROUND(+F16*G16,2) -> 0 | J16: =+IF('Anexo I pag 1 oferta'!$H$30<>"si","",+IF(OR(SUM('Anexo I pag 1 oferta'!$G$34+'Anexo I pag 1 oferta'!$G$36)<=0,AND('Anexo I pag 1 oferta'!$G$34="",'Anexo I pag 1 oferta'!$G$36="")),"",IF(OR(('Anexo I pag 1 oferta'!$G$34/100)>'LOTE 1 Tabla Desglose Precio'!$J$6,('Anexo I pag 1 oferta'!$G$36/100)>'LOTE 2 Tabla Desglose Precio'!$J$6),"error % max.",IF(G16>=E16,+ROUND(((100-'Anexo I pag 1 oferta'!$G$36)/100)*'LOTE 2 Tabla Desglose Precio'!G16,2),ROUND(((100-'Anexo I pag 1 oferta'!$G$36)/100)*'LOTE 2 Tabla Desglose Precio'!E16,2))))) | K16: =IF('Anexo I pag 1 oferta'!$H$30<>"si","",+ROUND(+F16*J16,2))
A17: A.01.06 | B17: Partida | C17: Ud | D17: LÍNEA ANCLAJE HORIZ.PERMANENTE HASTA L=20M CABLE ACERO C/AMORTIG | F17: 2 | H17: =+ROUND(+F17*G17,2) -> 0 | J17: =+IF('Anexo I pag 1 oferta'!$H$30<>"si","",+IF(OR(SUM('Anexo I pag 1 oferta'!$G$34+'Anexo I pag 1 oferta'!$G$36)<=0,AND('Anexo I pag 1 oferta'!$G$34="",'Anexo I pag 1 oferta'!$G$36="")),"",IF(OR(('Anexo I pag 1 oferta'!$G$34/100)>'LOTE 1 Tabla Desglose Precio'!$J$6,('Anexo I pag 1 oferta'!$G$36/100)>'LOTE 2 Tabla Desglose Precio'!$J$6),"error % max.",IF(G17>=E17,+ROUND(((100-'Anexo I pag 1 oferta'!$G$36)/100)*'LOTE 2 Tabla Desglose Precio'!G17,2),ROUND(((100-'Anexo I pag 1 oferta'!$G$36)/100)*'LOTE 2 Tabla Desglose Precio'!E17,2))))) | K17: =IF('Anexo I pag 1 oferta'!$H$30<>"si","",+ROUND(+F17*J17,2))
A18: A.01.07 | B18: Partida | C18: Ud | D18: LÍNEA ANCLAJE HORIZ.PERMANENTE HASTA L=40M CABLE ACERO C/AMORTIG | F18: 3 | H18: =+ROUND(+F18*G18,2) -> 0 | J18: =+IF('Anexo I pag 1 oferta'!$H$30<>"si","",+IF(OR(SUM('Anexo I pag 1 oferta'!$G$34+'Anexo I pag 1 oferta'!$G$36)<=0,AND('Anexo I pag 1 oferta'!$G$34="",'Anexo I pag 1 oferta'!$G$36="")),"",IF(OR(('Anexo I pag 1 oferta'!$G$34/100)>'LOTE 1 Tabla Desglose Precio'!$J$6,('Anexo I pag 1 oferta'!$G$36/100)>'LOTE 2 Tabla Desglose Precio'!$J$6),"error % max.",IF(G18>=E18,+ROUND(((100-'Anexo I pag 1 oferta'!$G$36)/100)*'LOTE 2 Tabla Desglose Precio'!G18,2),ROUND(((100-'Anexo I pag 1 oferta'!$G$36)/100)*'LOTE 2 Tabla Desglose Precio'!E18,2))))) | K18: =IF('Anexo I pag 1 oferta'!$H$30<>"si","",+ROUND(+F18*J18,2))
A19: A.01.08 | B19: Partida | C19: Ud | D19: LÍNEA ANCLAJE HORIZ.PERMANENTE HASTA L=50M CABLE ACERO C/AMORTIG | F19: 2 | H19: =+ROUND(+F19*G19,2) -> 0 | J19: =+IF('Anexo I pag 1 oferta'!$H$30<>"si","",+IF(OR(SUM('Anexo I pag 1 oferta'!$G$34+'Anexo I pag 1 oferta'!$G$36)<=0,AND('Anexo I pag 1 oferta'!$G$34="",'Anexo I pag 1 oferta'!$G$36="")),"",IF(OR(('Anexo I pag 1 oferta'!$G$34/100)>'LOTE 1 Tabla Desglose Precio'!$J$6,('Anexo I pag 1 oferta'!$G$36/100)>'LOTE 2 Tabla Desglose Precio'!$J$6),"error % max.",IF(G19>=E19,+ROUND(((100-'Anexo I pag 1 oferta'!$G$36)/100)*'LOTE 2 Tabla Desglose Precio'!G19,2),ROUND(((100-'Anexo I pag 1 oferta'!$G$36)/100)*'LOTE 2 Tabla Desglose Precio'!E19,2))))) | K19: =IF('Anexo I pag 1 oferta'!$H$30<>"si","",+ROUND(+F19*J19,2))
D20: CAP.01 | H20: =SUM(H12:H19) -> 0 | K20: =SUM(K12:K19) -> 0
A21: CAP.02 | B21: Capítulo | D21: VARIOS
A22: A.02.01 | B22: Partida | C22: Ud | D22: CARTEL ESPECÍFICO INDICATIVO DEL PROTOCOLO DE USO | F22: 3 | H22: =+ROUND(+F22*G22,2) -> 0 | J22: =+IF('Anexo I pag 1 oferta'!$H$30<>"si","",+IF(OR(SUM('Anexo I pag 1 oferta'!$G$34+'Anexo I pag 1 oferta'!$G$36)<=0,AND('Anexo I pag 1 oferta'!$G$34="",'Anexo I pag 1 oferta'!$G$36="")),"",IF(OR(('Anexo I pag 1 oferta'!$G$34/100)>'LOTE 1 Tabla Desglose Precio'!$J$6,('Anexo I pag 1 oferta'!$G$36/100)>'LOTE 2 Tabla Desglose Precio'!$J$6),"error % max.",IF(G22>=E22,+ROUND(((100-'Anexo I pag 1 oferta'!$G$36)/100)*'LOTE 2 Tabla Desglose Precio'!G22,2),ROUND(((100-'Anexo I pag 1 oferta'!$G$36)/100)*'LOTE 2 Tabla Desglose Precio'!E22,2))))) | K22: =IF('Anexo I pag 1 oferta'!$H$30<>"si","",+ROUND(+F22*J22,2))
D23: CAP.02 | H23: =SUM(H22) -> 0 | K23: =SUM(K22) -> 0
D24: SUMA CAP.01 A 02 (NNEE) | H24: =+H23+H20 -> 0 | K24: =+K23+K20 -> 0
A25: .
A26: CAP.03 | B26: Capítulo | D26: GESTIÓN DE RESIDUOS GRC¨s ( # ) | E26: % | G26: (#) | H26: (#)
A27: A.03.01 | B27: Partida | C27: Ud | D27: TRANSPORTE DE RESIDUOS INERTES CON CONTENEDOR. | E27: 0.0045 | F27: 1 | G27: =+ROUND(($H$24*E27)/F27,2) -> 0 | H27: =+ROUND(+F27*G27,2) -> 0 | J27: =+IF('Anexo I pag 1 oferta'!$H$30<>"si","",+IF(OR(SUM('Anexo I pag 1 oferta'!$G$34+'Anexo I pag 1 oferta'!$G$36)<=0,AND('Anexo I pag 1 oferta'!$G$34="",'Anexo I pag 1 oferta'!$G$36="")),"",IF(OR(('Anexo I pag 1 oferta'!$G$34/100)>'LOTE 1 Tabla Desglose Precio'!$J$6,('Anexo I pag 1 oferta'!$G$36/100)>'LOTE 2 Tabla Desglose Precio'!$J$6),"error % max.",IF(G27>=E27,+ROUND(((100-'Anexo I pag 1 oferta'!$G$36)/100)*'LOTE 2 Tabla Desglose Precio'!G27,2),ROUND(((100-'Anexo I pag 1 oferta'!$G$36)/100)*'LOTE 2 Tabla Desglose Precio'!E27,2))))) | K27: =IF('Anexo I pag 1 oferta'!$H$30<>"si","",+ROUND(+F27*J27,2))
A28: A.03.02 | B28: Partida | C28: Ud | D28: CANON DE VERTIDO POR ENTREGA DE CONTENEDOR CON RESIDUOS INERTES | E28: 0.0033 | F28: 1 | G28: =+ROUND(($H$24*E28)/F28,2) -> 0 | H28: =+ROUND(+F28*G28,2) -> 0 | J28: =+IF('Anexo I pag 1 oferta'!$H$30<>"si","",+IF(OR(SUM('Anexo I pag 1 oferta'!$G$34+'Anexo I pag 1 oferta'!$G$36)<=0,AND('Anexo I pag 1 oferta'!$G$34="",'Anexo I pag 1 oferta'!$G$36="")),"",IF(OR(('Anexo I pag 1 oferta'!$G$34/100)>'LOTE 1 Tabla Desglose Precio'!$J$6,('Anexo I pag 1 oferta'!$G$36/100)>'LOTE 2 Tabla Desglose Precio'!$J$6),"error % max.",IF(G28>=E28,+ROUND(((100-'Anexo I pag 1 oferta'!$G$36)/100)*'LOTE 2 Tabla Desglose Precio'!G28,2),ROUND(((100-'Anexo I pag 1 oferta'!$G$36)/100)*'LOTE 2 Tabla Desglose Precio'!E28,2))))) | K28: =IF('Anexo I pag 1 oferta'!$H$30<>"si","",+ROUND(+F28*J28,2))
D29: CAP.03 | H29: =SUM(H27:H28) -> 0 | K29: =SUM(K27:K28) -> 0
A30: CAP.04 | B30: Capítulo | D30: CONTROL DE CALIDAD Y ENSAYOS ( # ) | E30: % | G30: (#) | H30: (#)
A31: A.04.01 | B31: Partida | C31: Ud | D31: ENSAYO ESTÁTICO DE PUESTA EN CARGA DE PASARELA CON MEDICIÓN DE F | E31: 0.0441 | F31: 2 | G31: =+ROUND(($H$24*E31)/F31,2) -> 0 | H31: =+ROUND(+F31*G31,2) -> 0 | J31: =+IF('Anexo I pag 1 oferta'!$H$30<>"si","",+IF(OR(SUM('Anexo I pag 1 oferta'!$G$34+'Anexo I pag 1 oferta'!$G$36)<=0,AND('Anexo I pag 1 oferta'!$G$34="",'Anexo I pag 1 oferta'!$G$36="")),"",IF(OR(('Anexo I pag 1 oferta'!$G$34/100)>'LOTE 1 Tabla Desglose Precio'!$J$6,('Anexo I pag 1 oferta'!$G$36/100)>'LOTE 2 Tabla Desglose Precio'!$J$6),"error % max.",IF(G31>=E31,+ROUND(((100-'Anexo I pag 1 oferta'!$G$36)/100)*'LOTE 2 Tabla Desglose Precio'!G31,2),ROUND(((100-'Anexo I pag 1 oferta'!$G$36)/100)*'LOTE 2 Tabla Desglose Precio'!E31,2))))) | K31: =IF('Anexo I pag 1 oferta'!$H$30<>"si","",+ROUND(+F31*J31,2))
A32: A.04.02 | B32: Partida | C32: Ud | D32: ENSAYO ESTÁTICO DE PUESTA EN CARGA DE PASARELA SIN MEDICIÓN DE F | E32: 0.0526 | F32: 5 | G32: =+ROUND(($H$24*E32)/F32,2) -> 0 | H32: =+ROUND(+F32*G32,2) -> 0 | J32: =+IF('Anexo I pag 1 oferta'!$H$30<>"si","",+IF(OR(SUM('Anexo I pag 1 oferta'!$G$34+'Anexo I pag 1 oferta'!$G$36)<=0,AND('Anexo I pag 1 oferta'!$G$34="",'Anexo I pag 1 oferta'!$G$36="")),"",IF(OR(('Anexo I pag 1 oferta'!$G$34/100)>'LOTE 1 Tabla Desglose Precio'!$J$6,('Anexo I pag 1 oferta'!$G$36/100)>'LOTE 2 Tabla Desglose Precio'!$J$6),"error % max.",IF(G32>=E32,+ROUND(((100-'Anexo I pag 1 oferta'!$G$36)/100)*'LOTE 2 Tabla Desglose Precio'!G32,2),ROUND(((100-'Anexo I pag 1 oferta'!$G$36)/100)*'LOTE 2 Tabla Desglose Precio'!E32,2))))) | K32: =IF('Anexo I pag 1 oferta'!$H$30<>"si","",+ROUND(+F32*J32,2))
D33: CAP.04 | H33: =SUM(H31:H32) -> 0 | K33: =SUM(K31:K32) -> 0
A34: CAP.05 | B34: Capítulo | D34: SEGURIDAD Y SALUD ( # ) | E34: % | G34: (#) | H34: (#)
A35: A.05.01 | B35: Partida | C35: PA | D35: IMPLANTACIÓN MEDIDAS DE SEGURIDAD Y SALUD | E35: 0.0221 | F35: 1 | G35: =+ROUND(($H$24*E35)/F35,2) -> 0 | H35: =+ROUND(+F35*G35,2) -> 0 | J35: =+IF('Anexo I pag 1 oferta'!$H$30<>"si","",+IF(OR(SUM('Anexo I pag 1 oferta'!$G$34+'Anexo I pag 1 oferta'!$G$36)<=0,AND('Anexo I pag 1 oferta'!$G$34="",'Anexo I pag 1 oferta'!$G$36="")),"",IF(OR(('Anexo I pag 1 oferta'!$G$34/100)>'LOTE 1 Tabla Desglose Precio'!$J$6,('Anexo I pag 1 oferta'!$G$36/100)>'LOTE 2 Tabla Desglose Precio'!$J$6),"error % max.",IF(G35>=E35,+ROUND(((100-'Anexo I pag 1 oferta'!$G$36)/100)*'LOTE 2 Tabla Desglose Precio'!G35,2),ROUND(((100-'Anexo I pag 1 oferta'!$G$36)/100)*'LOTE 2 Tabla Desglose Precio'!E35,2))))) | K35: =IF('Anexo I pag 1 oferta'!$H$30<>"si","",+ROUND(+F35*J35,2))
D36: CAP.05 | H36: =SUM(H35) -> 0 | K36: =SUM(K35) -> 0
D37: Suma Proyecto NNEE_PRADOREY | H37: =+H36+H33+H29+H23+H20 -> 0 | K37: =+K36+K33+K29+K23+K20 -> 0
A38: .
A39: Código | B39: Nat | C39: Ud | D39: Resumen | F39: CanPres | G39: PrPres | H39: ImpPres (*) | J39: PrPres | K39: ImpPres (*)
A40: Proyecto: MEJORAS EN PASARELAS DE MANTENIMIENTO EDIFICIO "EPR"
A41: CAP.01 | B41: Capítulo | D41: PASARELAS INTERIORES
A42: B.01.01 | B42: Partida | C42: Ud | D42: MONTAJE Y DESMONTAJE DE ANDAMIO TUBULAR DE FACHADA HASTA 12M DE | F42: 2 | H42: =+ROUND(+F42*G42,2) -> 0 | J42: =+IF('Anexo I pag 1 oferta'!$H$30<>"si","",+IF(OR(SUM('Anexo I pag 1 oferta'!$G$34+'Anexo I pag 1 oferta'!$G$36)<=0,AND('Anexo I pag 1 oferta'!$G$34="",'Anexo I pag 1 oferta'!$G$36="")),"",IF(OR(('Anexo I pag 1 oferta'!$G$34/100)>'LOTE 1 Tabla Desglose Precio'!$J$6,('Anexo I pag 1 oferta'!$G$36/100)>'LOTE 2 Tabla Desglose Precio'!$J$6),"error % max.",IF(G42>=E42,+ROUND(((100-'Anexo I pag 1 oferta'!$G$36)/100)*'LOTE 2 Tabla Desglose Precio'!G42,2),ROUND(((100-'Anexo I pag 1 oferta'!$G$36)/100)*'LOTE 2 Tabla Desglose Precio'!E42,2))))) | K42: =IF('Anexo I pag 1 oferta'!$H$30<>"si","",+ROUND(+F42*J42,2))
...

Sheet INSTRUCCIONES oferta conjunta
A2: PASOS PARA PRESENTACIÓN DE OFERTA CONJUNTA
A4: 1) | B4: Cumplimentar las hojas de desglose de precios de cada uno de ambos lotes
A6: 2) | B6: Escribir SI en la celda sombreada de respuesta a "Presenta oferta conjunta"
A8: 3) | B8: Indicar (con dos decimales) el descuento que se oferta en cada lote
B9: obligatorio indicar 0,00 % en lote al que no se oferte con descuento.
A11: 4) | B11: Todas las celdas en azul se completarán automáticamente, tanto en Página 1
B12: como en tablas de desglose de precios.
A14: 5) | B14: Comprobar e imprimir en pdf Anexo 1 y tablas desglose de precios de LOTE 1 y LOTE 2
A16: 6) | B16: FIRMAR PDFS
A18: 7) | B18: Presentar TODOS LOS PDFS FIRMADOS EN LOS SOBRES CORRESPONDIENTES A AMBOS LOTES
A21: NOTA IMPORTANTE:
A23: Los descuentos ofertados se aplican A TODAS LAS PARTIDAS DEL LOTE, SIN EXCEPCIONES
A26: PARA EVITAR ERRORES AL PRESENTAR OFERTA CONJUNTA
A29: Recuerde:
A30: Recuerde: Para presentar oferta conjunta con este fichero deben cumplirse los siguientes requisitos,
A31: en caso contrario recibirá un mensaje de aviso o error y no se visualizará el importe de la oferta conjunta
A34: .a) | B34: DEBE COMPLETARSE OFERTA A AMBOS LOTES POR SEPARADO
A36: .b) | B36: DEBE INDICARSE "SI" como respuesta a "Presenta oferta conjunta (si/no)"
A38: .c) | B38: El descto ofertado a POR LO MENOS UNO de los dos lotes debe ser mayor que 0,00 %
