Workbook

Sheet ALTERNATIVA ADJUDICADA
A2: =valoración!A3 -> PROPUESTA DE ADJUDICACIÓN DEL EXPEDIENTE S-07314-2023
A3: =valoración!A4 -> " Maquetación, diseño de portadas e impresión textos "
A4: =valoración!A5 -> RESUMEN PUNTUACIÓN TÉCNICA Y ECONÓMICA
E7: Alternativa 1: ofertas individuales
A8: Lotes | B8: Ofertas | C8: Valor estimado (Sin modificación) | D8: Puntuación técnica | E8: Baja oferta conjunta | F8: Importe Oferta | G8: Puntuación económica | H8: Total Puntuación | I8: Oferta seleccionada | J8: Factor de ponderación | K8: Valoración ponderada | L8: % Ahorro s/ licitación
A9: Lote 1: Maquetación de textos | B9: ASESORÍA y CONSULTORÍA de COMERCIAL. y MARKETINGF, SL | C9: 4000 | D9: 20 | F9: 3025 | G9: =valoración!F9 -> 63.2 | H9: =D9+G9 -> 83.2
B10: COMUNILAND SL | C10: 4000 | D10: 20 | F10: 2500 | G10: =valoración!F10 -> 80 | H10: =D10+G10 -> 100 | I10: 1 | J10: =C10/$C$29*I10 -> 0.86956522 | K10: =H10*J10 -> 86.956522 | L10: =100-($F10*100/$C10) -> 37.5
B11: DISEÑO GRAFICO GALLEGO Y ASOCIADOS SL | C11: 4000 | D11: 20 | F11: 3250 | G11: =valoración!F11 -> 56 | H11: =D11+G11 -> 76
B12: IMAGINA ANDALUCIA EXCLUSIVAS DE PUBLICIDAD, S.L. | C12: 4000 | D12: 20 | F12: 3250 | G12: =valoración!F12 -> 56 | H12: =D12+G12 -> 76
B13: OVEJERO SEQUEIRO SL | C13: 4000 | D13: 20 | F13: 3750 | G13: =valoración!F13 -> 40 | H13: =D13+G13 -> 60
B14: PRINTER BROK 2010, SL | C14: 4000 | D14: 20 | F14: 3400 | G14: =valoración!F14 -> 51.2 | H14: =D14+G14 -> 71.2
B15: PRODUCCIONES MIC, S.L. | C15: 4000 | D15: 20 | F15: 3875 | G15: =valoración!F15 -> 36 | H15: =D15+G15 -> 56
B16: RASGO AUDAZ SCOOP | C16: 4000 | D16: 0 | F16: 3950 | G16: =valoración!F16 -> 33.6 | H16: =D16+G16 -> 33.6
B17: SANABRIA LAGAR, CRISTINA | C17: 4000 | D17: 20 | F17: 3000 | G17: =valoración!F17 -> 64 | H17: =D17+G17 -> 84
B18: TORVISCO GONZÁLEZ, JORGE | C18: 4000 | D18: 20 | F18: 3250 | G18: =valoración!F18 -> 56 | H18: =D18+G18 -> 76
A19: Lote 2: Diseño de portadas | E19: EXCLUIDA / INADMITIDA:xxxxxxxxxxxxxxxxxxxxxxxxxxxxx
B20: ASESORÍA y CONSULTORÍA de COMERCIAL. y MARKETINGF, SL | C20: 600 | D20: 20 | F20: 420 | G20: =valoración!F20 -> 66.666667 | H20: =G20+D20 -> 86.666667
B21: COMUNILAND SL | C21: 600 | D21: 20 | F21: 540 | G21: =valoración!F21 -> 40 | H21: =G21+D21 -> 60
B22: IMAGINA ANDALUCIA EXCLUSIVAS DE PUBLICIDAD, S.L. | C22: 600 | D22: 20 | F22: 360 | G22: =valoración!F22 -> 80 | H22: =G22+D22 -> 100 | I22: 1 | J22: =C22/C29*I22 -> 0.13043478 | K22: =J22*H22 -> 13.043478 | L22: =100-($F22*100/$C22) -> 40
B23: OVEJERO SEQUEIRO SL | C23: 600 | D23: 20 | F23: 450 | G23: =valoración!F23 -> 60 | H23: =G23+D23 -> 80
B24: PRINTER BROK 2010, SL | C24: 600 | D24: 20 | F24: 420 | G24: =valoración!F24 -> 66.666667 | H24: =G24+D24 -> 86.666667
B25: PRODUCCIONES MIC, S.L. | C25: 600 | D25: 20 | F25: 390 | G25: =valoración!F25 -> 73.333333 | H25: =G25+D25 -> 93.333333
B26: SANABRIA LAGAR, CRISTINA | C26: 600 | D26: 20 | F26: 420 | G26: =valoración!F26 -> 66.666667 | H26: =G26+D26 -> 86.666667
B27: TORVISCO GONZÁLEZ, JORGE | C27: 600 | D27: 20 | F27: 480 | G27: =valoración!F27 -> 53.333333 | H27: =G27+D27 -> 73.333333
A28: Lote 3: Impresión (Lotes 1 y 2) o reimpresión | B28: DESIERTO
B29: Valor estimado total: | C29: =C9+C20 -> 4600 | J29: Puntuación total ponderada: | K29: =K10+K22 -> 100
A32: “De conformidad con lo dispuesto en el artículo 44.6 (párrafo segundo) de la Ley 9/2017, de 8 de noviembre, de Contratos del Sector Público, por la que se transponen al ordenamiento jurídico español las Directivas del Parlamento Europeo y del Consejo 2014/23/UE y 2014/24/UE, de 26 de febrero de 2014 (“LCSP”), el presente acuerdo podrá impugnarse en vía administrativa de conformidad con lo dispuesto en la Ley 39/2015, de 1 de octubre, del Procedimiento Administrativo Común de las Administraciones Públicas, ante el Presidente de la Sociedad Estatal de Participaciones Industriales (SEPI), C/ Velázquez nº 134, 28006 Madrid, entidad de derecho público que ostenta la condición de accionista único de la Corporación de Radio y Televisión Española, Sociedad Anónima, S.M.E. en el plazo de un mes a contar desde el día siguiente de la notificación, de acuerdo con lo establecido en la Ley 39/2015, de 1 de octubre, del Procedimiento Administrativo Común de las Administraciones Públicas. Igualmente, le comunicamos que puede ejercer su derecho de acceso al expediente en los términos legalmente establecidos”.

Sheet valoración
T1: FÓRMULA PUNTUACIÓN ECONÓMICA: Adaptar a cada lote, estará condicionada por el número de ofertas y por los puntos que se dan a la oferta económica.
T2: Celda contigua: incluir puntuación económica indicada en los pliegos. Si los lotes se valoran con diferente puntuación económica hay que tenerlo en cuenta en la fórmula. | U2: 80
A3: PROPUESTA DE ADJUDICACIÓN DEL EXPEDIENTE S-07314-2023 | T3: Adaptar la tabla al número de lotes y ofertas recibidas, insertando o eliminando filas, tener en cuenta si se desestima una oferta, indicar los motivos..
A4: " Maquetación, diseño de portadas e impresión textos "
A5: RESUMEN PUNTUACIÓN TÉCNICA Y ECONÓMICA
E7: Alternativa 1: ofertas individuales | K7: Alternativa 2: oferta conjunta "TORVISCO GONZÁLEZ, JORGE" por los lotes 1 y 2 (1% de descuento)
A8: Lotes | B8: Ofertas | C8: Valor estimado | D8: Puntuación técnica | E8: Importe Oferta | F8: Puntuación económica | G8: Puntuación Total | H8: Oferta seleccionada | I8: Factor de ponderación | J8: Valoración ponderada | K8: Baja oferta conjunta | L8: Importe Oferta | M8: Puntuación económica | N8: Total Puntuación | O8: Oferta seleccionada | P8: Factor de ponderación | Q8: Valoración ponderada
A9: Lote 1: Maquetación de textos | B9: ASESORÍA y CONSULTORÍA de COMERCIAL. y MARKETINGF, SL | C9: 4000 | D9: 20 | E9: 3025 | F9: =$U$2*(2-E9/MIN(E$9:E$19)) -> 63.2 | G9: =D9+F9 -> 83.2 | I9: =+$C9/$C$32*H9 -> 0 | J9: =+G9*I9 -> 0 | L9: 3025 | M9: =$U$2*(2-L9/MIN(L$9:L$19)) -> 63.2 | N9: =$D9+M9 -> 83.2 | P9: =+$C9/$C$32*O9 -> 0 | Q9: =+N9*P9 -> 0
B10: COMUNILAND SL | C10: 4000 | D10: 20 | E10: 2500 | F10: =$U$2*(2-E10/MIN(E$9:E$19)) -> 80 | G10: =D10+F10 -> 100 | H10: 1 | I10: =+$C10/$C$32*H10 -> 0.86956522 | J10: =+G10*I10 -> 86.956522 | L10: 2500 | M10: =$U$2*(2-L10/MIN(L$9:L$19)) -> 80 | N10: =$D10+M10 -> 100
B11: DISEÑO GRAFICO GALLEGO Y ASOCIADOS SL | C11: 4000 | D11: 20 | E11: 3250 | F11: =$U$2*(2-E11/MIN(E$9:E$19)) -> 56 | G11: =D11+F11 -> 76 | I11: =+$C11/$C$32*H11 -> 0 | J11: =+G11*I11 -> 0 | L11: 3250 | M11: =$U$2*(2-L11/MIN(L$9:L$19)) -> 56 | N11: =$D11+M11 -> 76
B12: IMAGINA ANDALUCIA EXCLUSIVAS DE PUBLICIDAD, S.L. | C12: 4000 | D12: 20 | E12: 3250 | F12: =$U$2*(2-E12/MIN(E$9:E$19)) -> 56 | G12: =D12+F12 -> 76 | I12: =+$C12/$C$32*H12 -> 0 | J12: =+G12*I12 -> 0 | L12: 3250 | M12: =$U$2*(2-L12/MIN(L$9:L$19)) -> 56 | N12: =$D12+M12 -> 76
B13: OVEJERO SEQUEIRO SL | C13: 4000 | D13: 20 | E13: 3750 | F13: =$U$2*(2-E13/MIN(E$9:E$19)) -> 40 | G13: =D13+F13 -> 60 | I13: =+$C13/$C$32*H13 -> 0 | J13: =+G13*I13 -> 0 | L13: 3750 | M13: =$U$2*(2-L13/MIN(L$9:L$19)) -> 40 | N13: =$D13+M13 -> 60
B14: PRINTER BROK 2010, SL | C14: 4000 | D14: 20 | E14: 3400 | F14: =$U$2*(2-E14/MIN(E$9:E$19)) -> 51.2 | G14: =D14+F14 -> 71.2 | I14: =+$C14/$C$32*H14 -> 0 | J14: =+G14*I14 -> 0 | L14: 3400 | M14: =$U$2*(2-L14/MIN(L$9:L$19)) -> 51.2 | N14: =$D14+M14 -> 71.2
B15: PRODUCCIONES MIC, S.L. | C15: 4000 | D15: 20 | E15: 3875 | F15: =$U$2*(2-E15/MIN(E$9:E$19)) -> 36 | G15: =D15+F15 -> 56 | I15: =+$C15/$C$32*H15 -> 0 | J15: =+G15*I15 -> 0 | L15: 3875 | M15: =$U$2*(2-L15/MIN(L$9:L$19)) -> 36 | N15: =$D15+M15 -> 56
B16: RASGO AUDAZ SCOOP | C16: 4000 | D16: 0 | E16: 3950 | F16: =$U$2*(2-E16/MIN(E$9:E$19)) -> 33.6 | G16: =D16+F16 -> 33.6 | I16: =+$C16/$C$32*H16 -> 0 | J16: =+G16*I16 -> 0 | L16: 3950 | M16: =$U$2*(2-L16/MIN(L$9:L$19)) -> 33.6 | N16: =$D16+M16 -> 33.6 | P16: =+$C16/$C$32*O16 -> 0 | Q16: =+N16*P16 -> 0
B17: SANABRIA LAGAR, CRISTINA | C17: 4000 | D17: 20 | E17: 3000 | F17: =$U$2*(2-E17/MIN(E$9:E$19)) -> 64 | G17: =D17+F17 -> 84 | I17: =+$C17/$C$32*H17 -> 0 | J17: =+G17*I17 -> 0 | L17: 3000 | M17: =$U$2*(2-L17/MIN(L$9:L$19)) -> 64 | N17: =$D17+M17 -> 84 | P17: =+$C17/$C$32*O17 -> 0 | Q17: =+N17*P17 -> 0
B18: TORVISCO GONZÁLEZ, JORGE | C18: 4000 | D18: 20 | E18: 3250 | F18: =$U$2*(2-E18/MIN(E$9:E$19)) -> 56 | G18: =D18+F18 -> 76 | K18: 0.01 | L18: 3250 | M18: =$U$2*(2-L18/MIN(L$9:L$19)) -> 56 | N18: =$D18+M18 -> 76 | O18: 1 | P18: =C17/C32*O18 -> 0.86956522 | Q18: =+N18*P18 -> 66.086957
E19: EXCLUIDA / INADMITIDA:xxxxxxxxxxxxxxxxxxxxxxxxxxxxx | I19: =+$C18/$C$32*H19 -> 0 | J19: =+G19*I19 -> 0 | N19: =$D19+M19 -> 0 | P19: =+$C18/$C$32*O19 -> 0 | Q19: =+N19*P19 -> 0
A20: Lote 2: Diseño de portadas | B20: ASESORÍA y CONSULTORÍA de COMERCIAL. y MARKETINGF, SL | C20: 600 | D20: 20 | E20: 420 | F20: =$U$2*(2-E20/MIN(E$20:E$27)) -> 66.666667 | G20: =D20+F20 -> 86.666667 | I20: =+$C20/$C$32*H20 -> 0 | J20: =+G20*I20 -> 0 | L20: 420 | M20: =$U$2*(2-L20/MIN(L$20:L$27)) -> 66.666667 | N20: =$D20+M20 -> 86.666667 | P20: =+$C20/$C$32*O20 -> 0 | Q20: =+N20*P20 -> 0
B21: COMUNILAND SL | C21: 600 | D21: 20 | E21: 540 | F21: =$U$2*(2-E21/MIN(E$20:E$27)) -> 40 | G21: =D21+F21 -> 60 | I21: =+$C21/$C$32*H21 -> 0 | J21: =+G21*I21 -> 0 | L21: 540 | M21: =$U$2*(2-L21/MIN(L$20:L$27)) -> 40 | N21: =$D21+M21 -> 60 | P21: =+$C21/$C$32*O21 -> 0 | Q21: =+N21*P21 -> 0
B22: IMAGINA ANDALUCIA EXCLUSIVAS DE PUBLICIDAD, S.L. | C22: 600 | D22: 20 | E22: 360 | F22: =$U$2*(2-E22/MIN(E$20:E$27)) -> 80 | G22: =D22+F22 -> 100 | H22: 1 | I22: =+$C22/$C$32*H22 -> 0.13043478 | J22: =+G22*I22 -> 13.043478 | L22: 360 | M22: =$U$2*(2-L22/MIN(L$20:L$27)) -> 80 | N22: =$D22+M22 -> 100
B23: OVEJERO SEQUEIRO SL | C23: 600 | D23: 20 | E23: 450 | F23: =$U$2*(2-E23/MIN(E$20:E$27)) -> 60 | G23: =D23+F23 -> 80 | I23: =+$C23/$C$32*H23 -> 0 | J23: =+G23*I23 -> 0 | L23: 450 | M23: =$U$2*(2-L23/MIN(L$20:L$27)) -> 60 | N23: =$D23+M23 -> 80
B24: PRINTER BROK 2010, SL | C24: 600 | D24: 20 | E24: 420 | F24: =$U$2*(2-E24/MIN(E$20:E$27)) -> 66.666667 | G24: =D24+F24 -> 86.666667 | I24: =+$C24/$C$32*H24 -> 0 | J24: =+G24*I24 -> 0 | L24: 420 | M24: =$U$2*(2-L24/MIN(L$20:L$27)) -> 66.666667 | N24: =$D24+M24 -> 86.666667
B25: PRODUCCIONES MIC, S.L. | C25: 600 | D25: 20 | E25: 390 | F25: =$U$2*(2-E25/MIN(E$20:E$27)) -> 73.333333 | G25: =D25+F25 -> 93.333333 | I25: =+$C25/$C$32*H25 -> 0 | J25: =+G25*I25 -> 0 | L25: 390 | M25: =$U$2*(2-L25/MIN(L$20:L$27)) -> 73.333333 | N25: =$D25+M25 -> 93.333333
B26: SANABRIA LAGAR, CRISTINA | C26: 600 | D26: 20 | E26: 420 | F26: =$U$2*(2-E26/MIN(E$20:E$27)) -> 66.666667 | G26: =D26+F26 -> 86.666667 | I26: =+$C26/$C$32*H26 -> 0 | J26: =+G26*I26 -> 0 | L26: 420 | M26: =$U$2*(2-L26/MIN(L$20:L$27)) -> 66.666667 | N26: =$D26+M26 -> 86.666667
B27: TORVISCO GONZÁLEZ, JORGE | C27: 600 | D27: 20 | E27: 480 | F27: =$U$2*(2-E27/MIN(E$20:E$27)) -> 53.333333 | G27: =D27+F27 -> 73.333333 | I27: =+$C27/$C$32*H27 -> 0 | J27: =+G27*I27 -> 0 | K27: 0.01 | L27: 480 | M27: =$U$2*(2-L27/MIN(L$20:L$27)) -> 53.333333 | N27: =$D27+M27 -> 73.333333 | O27: 1 | P27: =+$C27/$C$32*O27 -> 0.13043478 | Q27: =+N27*P27 -> 9.5652174
A28: LOTE 3: xxxxxxxxxxxxxxxxxx | N28: =$D28+M28 -> 0
N29: =$D29+M29 -> 0
N30: =$D30+M30 -> 0
A31: Lote 3: Impresión (Lotes 1 y 2) | B31: Desierto
B32: Valor estimado total: | C32: =C9+C20+C28 -> 4600 | I32: Puntuación total ponderada | J32: =SUM(J9:J30) -> 100 | P32: Puntuación total ponderada | Q32: =SUM(Q9:Q30) -> 75.652174
A35: De conformidad con los criterios de valoración establecidos en el Pliego de Condiciones Generales de Contratación de este Expediente.
A36: Madrid, a 17 de enero de 2024
