Workbook

Sheet valoración CONJUNTAS
R1: 40 | S1: L01 ptos economicos
R2: 40 | S2: L02 ptos economicos
A3: =+#REF! -> #REF!
A4: =+#REF! -> #REF!
A5: RESUMEN PUNTUACIÓN TÉCNICA Y ECONÓMICA
E7: Alternativa 1: ofertas individuales | K7: Alternativa 2: oferta conjunta "empresa CIES" por los lotes 1 y 2
A8: Lotes | B8: Ofertas | C8: Valor estimado (Sin modificación) | D8: Puntuación técnica | E8: Importe Oferta | F8: Puntuación económica | G8: Puntuación Total | H8: Oferta seleccionada | I8: Factor de ponderación | J8: Valoración ponderada | K8: Baja oferta conjunta | L8: Importe Oferta | M8: Puntuación económica | N8: Total Puntuación | O8: Oferta seleccionada | P8: Factor de ponderación | Q8: Valoración ponderada
A9: LOTE 1 - ADECUACION PASARELAS TORRESPAÑA | B9: CONSTRUCCION INTEGRAL ECOLOGIA Y SERVICIOS | C9: 137044.16 | D9: 55 | E9: 119168.05 | F9: =+$R$1*(2-E9/$E$9) -> 40 | G9: =+D9+F9 -> 95 | H9: =+IF(G9=MAX($G$9:$G$10),1,0) -> 1 | I9: =+$C9/$C$13*H9 -> 0.3593687 | J9: =+G9*I9 -> 34.140026 | K9: 0.019956 | L9: =+$E9*(1-K9)-0.04 -> 116789.89 | M9: =+$R$1*(2-L9/$L$9) -> 40 | N9: =+$D9+M9 -> 95 | O9: 1 | P9: =+$C9/$C$13*O9 -> 0.3593687 | Q9: =+IF(O9>0,+P9*N9,"") -> 34.140026
A11: LOTE 2 - ADECUACION PASARELAS PRADO DEL REY | B11: CONSTRUCCION INTEGRAL ECOLOGIA Y SERVICIOS | C11: 244302.8 | D11: 55 | E11: 201892.43 | F11: =+$R$2*(2-E11/$E$11) -> 40 | G11: =+D11+F11 -> 95 | H11: =+IF(G11=MAX($G$11:$G$12),1,0) -> 1 | I11: =+$C11/$C$13*H11 -> 0.6406313 | J11: =+G11*I11 -> 60.859974 | K11: 0.020018 | L11: =+$E11*(1-K11)+0.04 -> 197850.99 | M11: =+$R$2*(2-L11/$L$11) -> 40 | N11: =+$D11+M11 -> 95 | O11: 1 | P11: =+$C11/$C$13*O11 -> 0.6406313 | Q11: =+IF(O11>0,+P11*N11,"") -> 60.859974
B13: Valor estimado total: | C13: =+C9+C11 -> 381346.96 | I13: Puntuación total ponderada | J13: =SUM(J9:J12) -> 95 | P13: Puntuación total ponderada | Q13: =SUM(Q9:Q12) -> 95
A22: De conformidad con los criterios de valoración establecidos en el Pliego de Condiciones Generales de Contratación de este Expediente.
A23: Madrid, a 4 de abril de 2024

Sheet ALTERNATIVA ADJUDICADA CONJUNTA
M1: 40 | N1: L01 ptos economicos
M2: 40 | N2: L02 ptos economicos
A4: ='valoración CONJUNTAS'!A5 -> RESUMEN PUNTUACIÓN TÉCNICA Y ECONÓMICA
E7: Alternativa 2: oferta conjunta "empresa CIES" por los lotes 1 y 2
A8: Lotes | B8: Ofertas | C8: Valor estimado (Sin modificación) | D8: Puntuación técnica | E8: Baja oferta conjunta | F8: Importe Oferta | G8: Puntuación económica | H8: Puntuación Total | I8: Oferta seleccionada | J8: Factor de ponderación | K8: Valoración ponderada | L8: % Ahorro s/ licitación
A9: =+'valoración CONJUNTAS'!A9 -> LOTE 1 - ADECUACION PASARELAS TORRESPAÑA | B9: =+'valoración CONJUNTAS'!B9 -> CONSTRUCCION INTEGRAL ECOLOGIA Y SERVICIOS | C9: =+'valoración CONJUNTAS'!C9 -> 137044.16 | D9: =+'valoración CONJUNTAS'!D9 -> 55 | E9: =+IF('valoración CONJUNTAS'!K9<>0,'valoración CONJUNTAS'!K9,"") -> 0.019956 | F9: 116789.89 | G9: =+$M$1*(2-F9/$F$9) -> 40 | H9: =+$D9+G9 -> 95 | I9: =+'valoración CONJUNTAS'!O9 -> 1 | J9: =+IF(I9<>0,$C9/$C$13*I9,"") -> 0.3593687 | K9: =+IF(I9<>0,H9*J9,"") -> 34.140026 | L9: =+IF(I9<>0,100-F9*100/$C9,"") -> 14.779373
E10: =+IF('valoración CONJUNTAS'!K10<>0,'valoración CONJUNTAS'!K10,"") | G10: =IF(I10>0,$M$1*(2-F10/#REF!),"") | I10: =+'valoración CONJUNTAS'!O10 -> 0 | J10: =+IF(I10<>0,$C10/$C$13*I10,"") | K10: =+IF(I10<>0,H10*J10,"") | L10: =+IF(I10<>0,100-F10*100/$C10,"")
A11: =+'valoración CONJUNTAS'!A11 -> LOTE 2 - ADECUACION PASARELAS PRADO DEL REY | B11: =+'valoración CONJUNTAS'!B11 -> CONSTRUCCION INTEGRAL ECOLOGIA Y SERVICIOS | C11: =+'valoración CONJUNTAS'!C11 -> 244302.8 | D11: =+'valoración CONJUNTAS'!D11 -> 55 | E11: =+IF('valoración CONJUNTAS'!K11<>0,'valoración CONJUNTAS'!K11,"") -> 0.020018 | F11: 197850.99 | G11: =+$M$2*(2-F11/$F$11) -> 40 | H11: =+$D11+G11 -> 95 | I11: =+'valoración CONJUNTAS'!O11 -> 1 | J11: =+IF(I11<>0,$C11/$C$13*I11,"") -> 0.6406313 | K11: =+IF(I11<>0,H11*J11,"") -> 60.859974 | L11: =+IF(I11<>0,100-F11*100/$C11,"") -> 19.014032
E12: =+IF('valoración CONJUNTAS'!K12<>0,'valoración CONJUNTAS'!K12,"") | G12: =IF(I12>0,$M$2*(2-F12/#REF!),"") | I12: =+'valoración CONJUNTAS'!O12 -> 0 | J12: =+IF(I12<>0,$C12/$C$13*I12,"") | K12: =+IF(I12<>0,H12*J12,"") | L12: =+IF(I12<>0,100-F12*100/$C12,"")
B13: Valor estimado total: | C13: =+C9+C11 -> 381346.96 | J13: Puntuación total ponderada | K13: =SUM(K9:K12) -> 95 | L13: =+L9+L11 -> 33.793405
A19: De conformidad con los criterios de valoración establecidos en el Pliego de Condiciones Generales de Contratación de este Expediente.
A20: Madrid, a 4 de abril de 2024
