Workbook
Name FRACCION: 'Criterios de valor. automáticos'!$C$24
Name MAX_CERTIFICACIONES: 'Criterios de valor. automáticos'!$C$56
Name MAX_EXPERIENCIA: 'Criterios de valor. automáticos'!$C$55
Name MAX_FORM_REGLADA: 'Criterios de valor. automáticos'!$C$57
Name MAX_FORM_TECNOLOGICA: 'Criterios de valor. automáticos'!$C$58
Name MÁXIMO: 'Criterios de valor. automáticos'!$C$25

Sheet Resumen
E2: Puntuación
B3: PERFIL | C3: TECNOLOGIA | D3: PERFIL | E3: Experiencia | F3: Certificaciones | G3: Formación reglada | H3: Formación tecnológica | I3: Total
B4: Adm Experta | C4: Administración UNIX | D4: UNIX1 | E4: =UNIX1!$G$28 -> 0 | F4: =UNIX1!$G$39 -> 0 | G4: =UNIX1!$G$47 -> 0 | H4: =UNIX1!$G$56 -> 0 | I4: =SUM(E4:H4) -> 0
B5: Adm Experta | C5: Administración UNIX | D5: UNIX2 | E5: =UNIX2!$G$28 -> 0 | F5: =UNIX2!$G$39 -> 0 | G5: =UNIX2!$G$47 -> 0 | H5: =UNIX2!$G$56 -> 0 | I5: =SUM(E5:H5) -> 0
B6: Adm Experta | C6: Administración UNIX | D6: UNIX3 | E6: =UNIX3!$G$28 -> 0 | F6: =UNIX3!$G$39 -> 0 | G6: =UNIX3!$G$47 -> 0 | H6: =UNIX3!$G$56 -> 0 | I6: =SUM(E6:H6) -> 0
B7: Adm Experta | C7: Administración UNIX | D7: UNIX4 | E7: =UNIX4!$G$28 -> 0 | F7: =UNIX4!$G$39 -> 0 | G7: =UNIX4!$G$47 -> 0 | H7: =UNIX4!$G$56 -> 0 | I7: =SUM(E7:H7) -> 0
B8: Adm Experta | C8: Administración Microsoft | D8: MICRO1 | E8: =MICRO1!$G$28 -> 0 | F8: =MICRO1!$G$39 -> 0 | G8: =MICRO1!$G$47 -> 0 | H8: =MICRO1!$G$56 -> 0 | I8: =SUM(E8:H8) -> 0
B9: Adm Experta | C9: Administración Microsoft | D9: MICRO2 | E9: =MICRO2!$G$28 -> 0 | F9: =MICRO2!$G$39 -> 0 | G9: =MICRO2!$G$47 -> 0 | H9: =MICRO2!$G$56 -> 0 | I9: =SUM(E9:H9) -> 0
B10: Adm Experta | C10: Administración Microsoft | D10: MICRO3 | E10: =MICRO3!$G$28 -> 0 | F10: =MICRO3!$G$39 -> 0 | G10: =MICRO3!$G$47 -> 0 | H10: =MICRO3!$G$56 -> 0 | I10: =SUM(E10:H10) -> 0
B11: Admin | C11: Administración Microsoft | D11: MICRO4 | E11: =MICRO4!$G$28 -> 0 | F11: =MICRO4!$G$39 -> 0 | G11: =MICRO4!$G$47 -> 0 | H11: =MICRO4!$G$56 -> 0 | I11: =SUM(E11:H11) -> 0
B12: Adm Experta | C12: Administración Middleware | D12: MIDDLE1 | E12: =MIDDLE1!$G$28 -> 0 | F12: =MIDDLE1!$G$39 -> 0 | G12: =MIDDLE1!$G$47 -> 0 | H12: =MIDDLE1!$G$56 -> 0 | I12: =SUM(E12:H12) -> 0
B13: Adm Experta | C13: Administración Middleware | D13: MIDDLE2 | E13: =MIDDLE2!$G$28 -> 0 | F13: =MIDDLE2!$G$39 -> 0 | G13: =MIDDLE2!$G$47 -> 0 | H13: =MIDDLE2!$G$56 -> 0 | I13: =SUM(E13:H13) -> 0
B14: Admin | C14: Administración Middleware | D14: MIDDLE3 | E14: =MIDDLE3!$G$28 -> 0 | F14: =MIDDLE3!$G$39 -> 0 | G14: =MIDDLE3!$G$47 -> 0 | H14: =MIDDLE3!$G$56 -> 0 | I14: =SUM(E14:H14) -> 0
B15: Adm Experta | C15: Administración Gestores Documentales | D15: DOCS | E15: =DOCS!$G$28 -> 0 | F15: =DOCS!$G$39 -> 0 | G15: =DOCS!$G$47 -> 0 | H15: =DOCS!$G$56 -> 0 | I15: =SUM(E15:H15) -> 0
B16: Adm Experta | C16: Administración Almacenamiento y Backup | D16: ALMA | E16: =ALMA!$G$28 -> 0 | F16: =ALMA!$G$39 -> 0 | G16: =ALMA!$G$47 -> 0 | H16: =ALMA!$G$56 -> 0 | I16: =SUM(E16:H16) -> 0
B17: Adm Experta | C17: Administración BBDD | D17: BBDD1 | E17: =BBDD1!$G$28 -> 0 | F17: =BBDD1!$G$39 -> 0 | G17: =BBDD1!$G$47 -> 0 | H17: =BBDD1!$G$56 -> 0 | I17: =SUM(E17:H17) -> 0
B18: Adm Experta | C18: Administración BBDD | D18: BBDD2 | E18: =BBDD2!$G$28 -> 0 | F18: =BBDD2!$G$39 -> 0 | G18: =BBDD2!$G$47 -> 0 | H18: =BBDD2!$G$56 -> 0 | I18: =SUM(E18:H18) -> 0
B19: Adm Experta | C19: Monitorización | D19: MON | E19: =MON!$G$28 -> 0 | F19: =MON!$G$39 -> 0 | G19: =MON!$G$47 -> 0 | H19: =MON!$G$56 -> 0 | I19: =SUM(E19:H19) -> 0
C20: Recurso adicional 1 | D20: EXTRA1 | E20: =EXTRA1!$G$28 -> 0 | F20: =EXTRA1!$G$39 -> 0 | G20: =EXTRA1!$G$47 -> 0 | H20: =EXTRA1!$G$56 -> 0 | I20: =SUM(E20:H20) -> 0
C21: Recurso adicional 2 | D21: EXTRA2 | E21: =EXTRA2!$G$28 -> 0 | F21: =EXTRA2!$G$39 -> 0 | G21: =EXTRA2!$G$47 -> 0 | H21: =EXTRA2!$G$56 -> 0 | I21: =SUM(E21:H21) -> 0
C22: Recurso adicional 3 | D22: EXTRA3 | E22: =EXTRA3!$G$28 -> 0 | F22: =EXTRA3!$G$39 -> 0 | G22: =EXTRA3!$G$47 -> 0 | H22: =EXTRA3!$G$56 -> 0 | I22: =SUM(E22:H22) -> 0
C23: Recurso adicional 4 | D23: EXTRA4 | E23: =EXTRA4!$G$28 -> 0 | F23: =EXTRA4!$G$39 -> 0 | G23: =EXTRA4!$G$47 -> 0 | H23: =EXTRA4!$G$56 -> 0 | I23: =SUM(E23:H23) -> 0
B25: Puntuación total del equipo de trabajo: | I25: =IFERROR(AVERAGEIF(I4:I23,">0"),0) -> 0

Sheet Criterios de valor. automáticos
B3: Experiencia | C3: Orden | E3: Código | F3: Experiencia | G3: Relevacia | H3: Coincidencia | I3: Valor | K3: =B8 -> Relevancia | L3: =B13 -> Coincidencia | M3: =B4 -> Mayor que 72 meses | N3: =B5 -> Menor que 72 meses y mayor que 36 | O3: =B6 -> Menor 36 meses
B4: Mayor que 72 meses | C4: A | E4: =CONCATENATE(VLOOKUP(F4,$B$4:$C$6,2,FALSE),VLOOKUP(G4,$B$9:$C$11,2,FALSE),VLOOKUP(H4,$B$14:$C$16,2,FALSE)) -> AAA | F4: =$B$4 -> Mayor que 72 meses | G4: =$B$9 -> Crítica | H4: =$B$14 -> Mayor | I4: =C28 -> 6
B5: Menor que 72 meses y mayor que 36 | C5: B | E5: =CONCATENATE(VLOOKUP(F5,$B$4:$C$6,2,FALSE),VLOOKUP(G5,$B$9:$C$11,2,FALSE),VLOOKUP(H5,$B$14:$C$16,2,FALSE)) -> AAB | F5: =$B$4 -> Mayor que 72 meses | G5: =$B$9 -> Crítica | H5: =$B$15 -> Menor | I5: =C29 -> 4.5 | K5: =$B$9 -> Crítica | L5: =$B$14 -> Mayor | M5: =I4 -> 6 | N5: =I13 -> 4.5 | O5: =I22 -> 3.38
B6: Menor 36 meses | C6: C | E6: =CONCATENATE(VLOOKUP(F6,$B$4:$C$6,2,FALSE),VLOOKUP(G6,$B$9:$C$11,2,FALSE),VLOOKUP(H6,$B$14:$C$16,2,FALSE)) -> AAC | F6: =$B$4 -> Mayor que 72 meses | G6: =$B$9 -> Crítica | H6: =$B$16 -> Sin coincidencia | I6: =C30 -> 3.38 | L6: =$B$15 -> Menor | M6: =I5 -> 4.5 | N6: =I14 -> 3.38 | O6: =I23 -> 2.54
E7: =CONCATENATE(VLOOKUP(F7,$B$4:$C$6,2,FALSE),VLOOKUP(G7,$B$9:$C$11,2,FALSE),VLOOKUP(H7,$B$14:$C$16,2,FALSE)) -> ABA | F7: =$B$4 -> Mayor que 72 meses | G7: =$B$10 -> Importante | H7: =$B$14 -> Mayor | I7: =C29 -> 4.5 | L7: =$B$16 -> Sin coincidencia | M7: =I6 -> 3.38 | N7: =I15 -> 2.54 | O7: =I24 -> 1.91
B8: Relevancia | C8: Orden | E8: =CONCATENATE(VLOOKUP(F8,$B$4:$C$6,2,FALSE),VLOOKUP(G8,$B$9:$C$11,2,FALSE),VLOOKUP(H8,$B$14:$C$16,2,FALSE)) -> ABB | F8: =$B$4 -> Mayor que 72 meses | G8: =$B$10 -> Importante | H8: =$B$15 -> Menor | I8: =C30 -> 3.38 | K8: =$B$10 -> Importante | L8: =$B$14 -> Mayor | M8: =I7 -> 4.5 | N8: =I16 -> 3.38 | O8: =I25 -> 2.54
B9: Crítica | C9: A | E9: =CONCATENATE(VLOOKUP(F9,$B$4:$C$6,2,FALSE),VLOOKUP(G9,$B$9:$C$11,2,FALSE),VLOOKUP(H9,$B$14:$C$16,2,FALSE)) -> ABC | F9: =$B$4 -> Mayor que 72 meses | G9: =$B$10 -> Importante | H9: =$B$16 -> Sin coincidencia | I9: =C31 -> 2.54 | L9: =$B$15 -> Menor | M9: =I8 -> 3.38 | N9: =I17 -> 2.54 | O9: =I26 -> 1.91
B10: Importante | C10: B | E10: =CONCATENATE(VLOOKUP(F10,$B$4:$C$6,2,FALSE),VLOOKUP(G10,$B$9:$C$11,2,FALSE),VLOOKUP(H10,$B$14:$C$16,2,FALSE)) -> ACA | F10: =$B$4 -> Mayor que 72 meses | G10: =$B$11 -> Baja | H10: =$B$14 -> Mayor | I10: =$C$33 -> 1.43 | L10: =$B$16 -> Sin coincidencia | M10: =I9 -> 2.54 | N10: =I18 -> 1.91 | O10: =I27 -> 1.43
B11: Baja | C11: C | E11: =CONCATENATE(VLOOKUP(F11,$B$4:$C$6,2,FALSE),VLOOKUP(G11,$B$9:$C$11,2,FALSE),VLOOKUP(H11,$B$14:$C$16,2,FALSE)) -> ACB | F11: =$B$4 -> Mayor que 72 meses | G11: =$B$11 -> Baja | H11: =$B$15 -> Menor | I11: =$C$33 -> 1.43 | K11: =$B$11 -> Baja | L11: =$B$14 -> Mayor | M11: =I10 -> 1.43 | N11: =I19 -> 1.43 | O11: =I28 -> 1.43
E12: =CONCATENATE(VLOOKUP(F12,$B$4:$C$6,2,FALSE),VLOOKUP(G12,$B$9:$C$11,2,FALSE),VLOOKUP(H12,$B$14:$C$16,2,FALSE)) -> ACC | F12: =$B$4 -> Mayor que 72 meses | G12: =$B$11 -> Baja | H12: =$B$16 -> Sin coincidencia | I12: =$C$33 -> 1.43 | L12: =$B$15 -> Menor | M12: =I11 -> 1.43 | N12: =I20 -> 1.43 | O12: =I29 -> 1.43
B13: Coincidencia | C13: Orden | E13: =CONCATENATE(VLOOKUP(F13,$B$4:$C$6,2,FALSE),VLOOKUP(G13,$B$9:$C$11,2,FALSE),VLOOKUP(H13,$B$14:$C$16,2,FALSE)) -> BAA | F13: =$B$5 -> Menor que 72 meses y mayor que 36 | G13: =$B$9 -> Crítica | H13: =$B$14 -> Mayor | I13: =C29 -> 4.5 | L13: =$B$16 -> Sin coincidencia | M13: =I12 -> 1.43 | N13: =I21 -> 1.43 | O13: =I30 -> 1.43
B14: Mayor | C14: A | E14: =CONCATENATE(VLOOKUP(F14,$B$4:$C$6,2,FALSE),VLOOKUP(G14,$B$9:$C$11,2,FALSE),VLOOKUP(H14,$B$14:$C$16,2,FALSE)) -> BAB | F14: =$B$5 -> Menor que 72 meses y mayor que 36 | G14: =$B$9 -> Crítica | H14: =$B$15 -> Menor | I14: =C30 -> 3.38
B15: Menor | C15: B | E15: =CONCATENATE(VLOOKUP(F15,$B$4:$C$6,2,FALSE),VLOOKUP(G15,$B$9:$C$11,2,FALSE),VLOOKUP(H15,$B$14:$C$16,2,FALSE)) -> BAC | F15: =$B$5 -> Menor que 72 meses y mayor que 36 | G15: =$B$9 -> Crítica | H15: =$B$16 -> Sin coincidencia | I15: =C31 -> 2.54
B16: Sin coincidencia | C16: C | E16: =CONCATENATE(VLOOKUP(F16,$B$4:$C$6,2,FALSE),VLOOKUP(G16,$B$9:$C$11,2,FALSE),VLOOKUP(H16,$B$14:$C$16,2,FALSE)) -> BBA | F16: =$B$5 -> Menor que 72 meses y mayor que 36 | G16: =$B$10 -> Importante | H16: =$B$14 -> Mayor | I16: =C30 -> 3.38
E17: =CONCATENATE(VLOOKUP(F17,$B$4:$C$6,2,FALSE),VLOOKUP(G17,$B$9:$C$11,2,FALSE),VLOOKUP(H17,$B$14:$C$16,2,FALSE)) -> BBB | F17: =$B$5 -> Menor que 72 meses y mayor que 36 | G17: =$B$10 -> Importante | H17: =$B$15 -> Menor | I17: =C31 -> 2.54
B18: Categoría ofertada | C18: Orden | E18: =CONCATENATE(VLOOKUP(F18,$B$4:$C$6,2,FALSE),VLOOKUP(G18,$B$9:$C$11,2,FALSE),VLOOKUP(H18,$B$14:$C$16,2,FALSE)) -> BBC | F18: =$B$5 -> Menor que 72 meses y mayor que 36 | G18: =$B$10 -> Importante | H18: =$B$16 -> Sin coincidencia | I18: =C32 -> 1.91
B19: Soporte de Sistemas | C19: A | E19: =CONCATENATE(VLOOKUP(F19,$B$4:$C$6,2,FALSE),VLOOKUP(G19,$B$9:$C$11,2,FALSE),VLOOKUP(H19,$B$14:$C$16,2,FALSE)) -> BCA | F19: =$B$5 -> Menor que 72 meses y mayor que 36 | G19: =$B$11 -> Baja | H19: =$B$14 -> Mayor | I19: =$C$33 -> 1.43
B20: Administración de Sistemas | C20: B | E20: =CONCATENATE(VLOOKUP(F20,$B$4:$C$6,2,FALSE),VLOOKUP(G20,$B$9:$C$11,2,FALSE),VLOOKUP(H20,$B$14:$C$16,2,FALSE)) -> BCB | F20: =$B$5 -> Menor que 72 meses y mayor que 36 | G20: =$B$11 -> Baja | H20: =$B$15 -> Menor | I20: =$C$33 -> 1.43
B21: Administración de Sistemas Experta | C21: C | E21: =CONCATENATE(VLOOKUP(F21,$B$4:$C$6,2,FALSE),VLOOKUP(G21,$B$9:$C$11,2,FALSE),VLOOKUP(H21,$B$14:$C$16,2,FALSE)) -> BCC | F21: =$B$5 -> Menor que 72 meses y mayor que 36 | G21: =$B$11 -> Baja | H21: =$B$16 -> Sin coincidencia | I21: =$C$33 -> 1.43
E22: =CONCATENATE(VLOOKUP(F22,$B$4:$C$6,2,FALSE),VLOOKUP(G22,$B$9:$C$11,2,FALSE),VLOOKUP(H22,$B$14:$C$16,2,FALSE)) -> CAA | F22: =$B$6 -> Menor 36 meses | G22: =$B$9 -> Crítica | H22: =$B$14 -> Mayor | I22: =C30 -> 3.38
E23: =CONCATENATE(VLOOKUP(F23,$B$4:$C$6,2,FALSE),VLOOKUP(G23,$B$9:$C$11,2,FALSE),VLOOKUP(H23,$B$14:$C$16,2,FALSE)) -> CAB | F23: =$B$6 -> Menor 36 meses | G23: =$B$9 -> Crítica | H23: =$B$15 -> Menor | I23: =C31 -> 2.54
B24: Fracción | C24: 0.75 | E24: =CONCATENATE(VLOOKUP(F24,$B$4:$C$6,2,FALSE),VLOOKUP(G24,$B$9:$C$11,2,FALSE),VLOOKUP(H24,$B$14:$C$16,2,FALSE)) -> CAC | F24: =$B$6 -> Menor 36 meses | G24: =$B$9 -> Crítica | H24: =$B$16 -> Sin coincidencia | I24: =C32 -> 1.91
B25: Valor | C25: 6 | E25: =CONCATENATE(VLOOKUP(F25,$B$4:$C$6,2,FALSE),VLOOKUP(G25,$B$9:$C$11,2,FALSE),VLOOKUP(H25,$B$14:$C$16,2,FALSE)) -> CBA | F25: =$B$6 -> Menor 36 meses | G25: =$B$10 -> Importante | H25: =$B$14 -> Mayor | I25: =C31 -> 2.54
E26: =CONCATENATE(VLOOKUP(F26,$B$4:$C$6,2,FALSE),VLOOKUP(G26,$B$9:$C$11,2,FALSE),VLOOKUP(H26,$B$14:$C$16,2,FALSE)) -> CBB | F26: =$B$6 -> Menor 36 meses | G26: =$B$10 -> Importante | H26: =$B$15 -> Menor | I26: =C32 -> 1.91
B27: Valores experiencia laboral | E27: =CONCATENATE(VLOOKUP(F27,$B$4:$C$6,2,FALSE),VLOOKUP(G27,$B$9:$C$11,2,FALSE),VLOOKUP(H27,$B$14:$C$16,2,FALSE)) -> CBC | F27: =$B$6 -> Menor 36 meses | G27: =$B$10 -> Importante | H27: =$B$16 -> Sin coincidencia | I27: =C33 -> 1.43
B28: Valor 1 | C28: =ROUND(C25,2) -> 6 | E28: =CONCATENATE(VLOOKUP(F28,$B$4:$C$6,2,FALSE),VLOOKUP(G28,$B$9:$C$11,2,FALSE),VLOOKUP(H28,$B$14:$C$16,2,FALSE)) -> CCA | F28: =$B$6 -> Menor 36 meses | G28: =$B$11 -> Baja | H28: =$B$14 -> Mayor | I28: =$C$33 -> 1.43
B29: Valor 2 | C29: =ROUND(C25*FRACCION,2) -> 4.5 | E29: =CONCATENATE(VLOOKUP(F29,$B$4:$C$6,2,FALSE),VLOOKUP(G29,$B$9:$C$11,2,FALSE),VLOOKUP(H29,$B$14:$C$16,2,FALSE)) -> CCB | F29: =$B$6 -> Menor 36 meses | G29: =$B$11 -> Baja | H29: =$B$15 -> Menor | I29: =$C$33 -> 1.43
B30: Valor 3 | C30: =ROUND(C29*FRACCION,2) -> 3.38 | E30: =CONCATENATE(VLOOKUP(F30,$B$4:$C$6,2,FALSE),VLOOKUP(G30,$B$9:$C$11,2,FALSE),VLOOKUP(H30,$B$14:$C$16,2,FALSE)) -> CCC | F30: =$B$6 -> Menor 36 meses | G30: =$B$11 -> Baja | H30: =$B$16 -> Sin coincidencia | I30: =$C$33 -> 1.43
B31: Valor 4 | C31: =ROUND(C30*FRACCION,2) -> 2.54
B32: Valor 5 | C32: =ROUND(C31*FRACCION,2) -> 1.91
B33: Valor 6 | C33: =ROUND(C32*FRACCION,2) -> 1.43
B34: Valor 7 | C34: =ROUND(C33*FRACCION,2) -> 1.07
B35: Valor 8 | C35: =ROUND(C34*FRACCION,2) -> 0.8
B36: Valor 9 | C36: =ROUND(C35*FRACCION,2) -> 0.6
B37: Valor 10 | C37: =ROUND(C36*FRACCION,2) -> 0.45
B38: Valor 11 | C38: =ROUND(C37*FRACCION,2) -> 0.34
B40: Certificaciones por relevancia | C40: Puntos
B41: Crítica | C41: 3
B42: Importante | C42: 2
B43: Baja | C43: 0.5
B45: Formación por relevancia | C45: Horas | D45: Puntos
B46: Crítica | C46: 50 | D46: 1
B47: Importante | C47: 100 | D47: 1
B49: Perfiles | C49: MECES
B50: Soporte de Sistemas | C50: 1
B51: Administración de Sistemas | C51: 2
B52: Administración de Sistemas Experto | C52: 2
B54: Perfiles | C54: Topes
B55: Puntuación máx. por experiencia | C55: 15
B56: Puntuación máx. por certificaciones | C56: 5
B57: Puntuación máx. por formación reglada | C57: 2
B58: Puntuación máx. por formación tecnolog. | C58: 2
B60: Servicios
B61: Administración UNIX
B62: Administración entornos Microsoft
B63: Administración de Middleware
B64: Administración de Gestores Documentales
B65: Administración Almacenamiento y Backup
B66: Administración de Bases de Datos
B67: Soporte a monitorización

Sheet Instrucciones
B2: Identificación del perfil
B3: Empresa licitante
B4: Empresa de pertenencia
B5: Número de recurso
B6: Categoría ofertada
B7: Servicio a administrar
B9: Experiencia mínima exigida en pliego en sistemas críticos relacionados con el servicio
B10: Sistema | D10: Relevancia | E10: Coincidencia | F10: Experiencia | G10: Puntuación
G11: -
G12: -
G13: -
G14: -
G15: -
B17: Experiencia en sistemas relacionadas con el servicio
B18: Sistema | D18: Relevancia | E18: Coincidencia | F18: Experiencia | G18: Puntuación
G19: =IFERROR(VLOOKUP(_xlfn.CONCAT(VLOOKUP(F19,'Criterios de valor. automáticos'!$B$4:$C$6,2,FALSE),VLOOKUP(D19,'Criterios de valor. automáticos'!$B$9:$C$11,2,FALSE),VLOOKUP(E19,'Criterios de valor. automáticos'!$B$14:$C$16,2,FALSE)),'Criterios de valor. automáticos'!$E$4:$I$30,5,FALSE),0) -> 0
G20: =IFERROR(VLOOKUP(_xlfn.CONCAT(VLOOKUP(F20,'Criterios de valor. automáticos'!$B$4:$C$6,2,FALSE),VLOOKUP(D20,'Criterios de valor. automáticos'!$B$9:$C$11,2,FALSE),VLOOKUP(E20,'Criterios de valor. automáticos'!$B$14:$C$16,2,FALSE)),'Criterios de valor. automáticos'!$E$4:$I$30,5,FALSE),0) -> 0
G21: =IFERROR(VLOOKUP(_xlfn.CONCAT(VLOOKUP(F21,'Criterios de valor. automáticos'!$B$4:$C$6,2,FALSE),VLOOKUP(D21,'Criterios de valor. automáticos'!$B$9:$C$11,2,FALSE),VLOOKUP(E21,'Criterios de valor. automáticos'!$B$14:$C$16,2,FALSE)),'Criterios de valor. automáticos'!$E$4:$I$30,5,FALSE),0) -> 0
G22: =IFERROR(VLOOKUP(_xlfn.CONCAT(VLOOKUP(F22,'Criterios de valor. automáticos'!$B$4:$C$6,2,FALSE),VLOOKUP(D22,'Criterios de valor. automáticos'!$B$9:$C$11,2,FALSE),VLOOKUP(E22,'Criterios de valor. automáticos'!$B$14:$C$16,2,FALSE)),'Criterios de valor. automáticos'!$E$4:$I$30,5,FALSE),0) -> 0
G23: =IFERROR(VLOOKUP(_xlfn.CONCAT(VLOOKUP(F23,'Criterios de valor. automáticos'!$B$4:$C$6,2,FALSE),VLOOKUP(D23,'Criterios de valor. automáticos'!$B$9:$C$11,2,FALSE),VLOOKUP(E23,'Criterios de valor. automáticos'!$B$14:$C$16,2,FALSE)),'Criterios de valor. automáticos'!$E$4:$I$30,5,FALSE),0) -> 0
G24: =IFERROR(VLOOKUP(_xlfn.CONCAT(VLOOKUP(F24,'Criterios de valor. automáticos'!$B$4:$C$6,2,FALSE),VLOOKUP(D24,'Criterios de valor. automáticos'!$B$9:$C$11,2,FALSE),VLOOKUP(E24,'Criterios de valor. automáticos'!$B$14:$C$16,2,FALSE)),'Criterios de valor. automáticos'!$E$4:$I$30,5,FALSE),0) -> 0
G25: =IFERROR(VLOOKUP(_xlfn.CONCAT(VLOOKUP(F25,'Criterios de valor. automáticos'!$B$4:$C$6,2,FALSE),VLOOKUP(D25,'Criterios de valor. automáticos'!$B$9:$C$11,2,FALSE),VLOOKUP(E25,'Criterios de valor. automáticos'!$B$14:$C$16,2,FALSE)),'Criterios de valor. automáticos'!$E$4:$I$30,5,FALSE),0) -> 0
G26: =IFERROR(VLOOKUP(_xlfn.CONCAT(VLOOKUP(F26,'Criterios de valor. automáticos'!$B$4:$C$6,2,FALSE),VLOOKUP(D26,'Criterios de valor. automáticos'!$B$9:$C$11,2,FALSE),VLOOKUP(E26,'Criterios de valor. automáticos'!$B$14:$C$16,2,FALSE)),'Criterios de valor. automáticos'!$E$4:$I$30,5,FALSE),0) -> 0
G27: =IFERROR(VLOOKUP(_xlfn.CONCAT(VLOOKUP(F27,'Criterios de valor. automáticos'!$B$4:$C$6,2,FALSE),VLOOKUP(D27,'Criterios de valor. automáticos'!$B$9:$C$11,2,FALSE),VLOOKUP(E27,'Criterios de valor. automáticos'!$B$14:$C$16,2,FALSE)),'Criterios de valor. automáticos'!$E$4:$I$30,5,FALSE),0) -> 0
B28: Subtotal | G28: =IF(GESTEP(SUM(G19:G27),MAX_EXPERIENCIA),MAX_EXPERIENCIA,SUM(G19:G27)) -> 0
B30: Certificaciones en tecnologías relevantes
B31: Certificación | F31: Relevancia | G31: Puntuación
B32: Certificación en tecnología 1 | F32: Crítica | G32: =IFERROR(VLOOKUP(F32,'Criterios de valor. automáticos'!$B$41:$C$43,2,FALSE),0) -> 3
G33: =IFERROR(VLOOKUP(F33,'Criterios de valor. automáticos'!$B$41:$C$43,2,FALSE),0) -> 0
G34: =IFERROR(VLOOKUP(F34,'Criterios de valor. automáticos'!$B$41:$C$43,2,FALSE),0) -> 0
G35: =IFERROR(VLOOKUP(F35,'Criterios de valor. automáticos'!$B$41:$C$43,2,FALSE),0) -> 0
G36: =IFERROR(VLOOKUP(F36,'Criterios de valor. automáticos'!$B$41:$C$43,2,FALSE),0) -> 0
G37: =IFERROR(VLOOKUP(F37,'Criterios de valor. automáticos'!$B$41:$C$43,2,FALSE),0) -> 0
G38: =IFERROR(VLOOKUP(F38,'Criterios de valor. automáticos'!$B$41:$C$43,2,FALSE),0) -> 0
B39: Subtotal | G39: =IF(GESTEP(SUM(G32:G38),MAX_CERTIFICACIONES),MAX_CERTIFICACIONES,SUM(G32:G38)) -> 3
B41: Formación reglada
B42: Título | F42: Nivel MECES | G42: Puntuación
B43: Máster en Informática | F43: 3 | G43: =IF(GESTEP(IFERROR(F43-VLOOKUP($C$6,'Criterios de valor. automáticos'!$B$50:$C$52,2,FALSE),0)),IFERROR(F43-VLOOKUP($C$6,'Criterios de valor. automáticos'!$B$50:$C$52,2,FALSE),0),0) -> 0
G44: =IF(GESTEP(IFERROR(F44-VLOOKUP($C$6,'Criterios de valor. automáticos'!$B$50:$C$52,2,FALSE),0)),IFERROR(F44-VLOOKUP($C$6,'Criterios de valor. automáticos'!$B$50:$C$52,2,FALSE),0),0) -> 0
G45: =IF(GESTEP(IFERROR(F45-VLOOKUP($C$6,'Criterios de valor. automáticos'!$B$50:$C$52,2,FALSE),0)),IFERROR(F45-VLOOKUP($C$6,'Criterios de valor. automáticos'!$B$50:$C$52,2,FALSE),0),0) -> 0
G46: =IF(GESTEP(IFERROR(F46-VLOOKUP($C$6,'Criterios de valor. automáticos'!$B$50:$C$52,2,FALSE),0)),IFERROR(F46-VLOOKUP($C$6,'Criterios de valor. automáticos'!$B$50:$C$52,2,FALSE),0),0) -> 0
B47: Subtotal | G47: =IF(GESTEP(SUM(G43:G46),MAX_FORM_REGLADA),MAX_FORM_REGLADA,SUM(G43:G46)) -> 0
B49: Formación en tecnologías relevantes
B50: Título (Sistema) | E50: Relevancia | F50: Duración (horas) | G50: Puntuación
B51: Curso de administración de sistema 1 | E51: Crítica | F51: 140 | G51: =ROUNDDOWN(IFERROR(F51/VLOOKUP(E51,'Criterios de valor. automáticos'!$B$46:$D$47,2,FALSE),0),0) -> 2
G52: =ROUNDDOWN(IFERROR(F52/VLOOKUP(E52,'Criterios de valor. automáticos'!$B$46:$D$47,2,FALSE),0),0) -> 0
G53: =ROUNDDOWN(IFERROR(F53/VLOOKUP(E53,'Criterios de valor. automáticos'!$B$46:$D$47,2,FALSE),0),0) -> 0
G54: =ROUNDDOWN(IFERROR(F54/VLOOKUP(E54,'Criterios de valor. automáticos'!$B$46:$D$47,2,FALSE),0),0) -> 0
G55: =ROUNDDOWN(IFERROR(F55/VLOOKUP(E55,'Criterios de valor. automáticos'!$B$46:$D$47,2,FALSE),0),0) -> 0
B56: Subtotal | G56: =IF(GESTEP(SUM(G51:G55),MAX_FORM_TECNOLOGICA),MAX_FORM_TECNOLOGICA,SUM(G51:G55)) -> 2
B59: Total | G59: =G28+G39+G47+G56 -> 5

Sheet UNIX1
B2: Identificación del perfil
B3: Empresa licitante
B4: Empresa de pertenencia
B5: Número de recurso
B6: Categoría ofertada
B7: Servicio a administrar
B9: Experiencia mínima exigida en pliego en sistemas críticos relacionados con el servicio
B10: Sistema | D10: Relevancia | E10: Coincidencia | F10: Experiencia | G10: Puntuación
G11: -
G12: -
G13: -
G14: -
G15: -
B17: Experiencia en tecnologías relacionadas con el servicio
B18: Sistema | D18: Relevancia | E18: Coincidencia | F18: Experiencia | G18: Puntuación
G19: =IFERROR(VLOOKUP(_xlfn.CONCAT(VLOOKUP(F19,'Criterios de valor. automáticos'!$B$4:$C$6,2,FALSE),VLOOKUP(D19,'Criterios de valor. automáticos'!$B$9:$C$11,2,FALSE),VLOOKUP(E19,'Criterios de valor. automáticos'!$B$14:$C$16,2,FALSE)),'Criterios de valor. automáticos'!$E$4:$I$30,5,FALSE),0) -> 0
G20: =IFERROR(VLOOKUP(_xlfn.CONCAT(VLOOKUP(F20,'Criterios de valor. automáticos'!$B$4:$C$6,2,FALSE),VLOOKUP(D20,'Criterios de valor. automáticos'!$B$9:$C$11,2,FALSE),VLOOKUP(E20,'Criterios de valor. automáticos'!$B$14:$C$16,2,FALSE)),'Criterios de valor. automáticos'!$E$4:$I$30,5,FALSE),0) -> 0
G21: =IFERROR(VLOOKUP(_xlfn.CONCAT(VLOOKUP(F21,'Criterios de valor. automáticos'!$B$4:$C$6,2,FALSE),VLOOKUP(D21,'Criterios de valor. automáticos'!$B$9:$C$11,2,FALSE),VLOOKUP(E21,'Criterios de valor. automáticos'!$B$14:$C$16,2,FALSE)),'Criterios de valor. automáticos'!$E$4:$I$30,5,FALSE),0) -> 0
G22: =IFERROR(VLOOKUP(_xlfn.CONCAT(VLOOKUP(F22,'Criterios de valor. automáticos'!$B$4:$C$6,2,FALSE),VLOOKUP(D22,'Criterios de valor. automáticos'!$B$9:$C$11,2,FALSE),VLOOKUP(E22,'Criterios de valor. automáticos'!$B$14:$C$16,2,FALSE)),'Criterios de valor. automáticos'!$E$4:$I$30,5,FALSE),0) -> 0
G23: =IFERROR(VLOOKUP(_xlfn.CONCAT(VLOOKUP(F23,'Criterios de valor. automáticos'!$B$4:$C$6,2,FALSE),VLOOKUP(D23,'Criterios de valor. automáticos'!$B$9:$C$11,2,FALSE),VLOOKUP(E23,'Criterios de valor. automáticos'!$B$14:$C$16,2,FALSE)),'Criterios de valor. automáticos'!$E$4:$I$30,5,FALSE),0) -> 0
G24: =IFERROR(VLOOKUP(_xlfn.CONCAT(VLOOKUP(F24,'Criterios de valor. automáticos'!$B$4:$C$6,2,FALSE),VLOOKUP(D24,'Criterios de valor. automáticos'!$B$9:$C$11,2,FALSE),VLOOKUP(E24,'Criterios de valor. automáticos'!$B$14:$C$16,2,FALSE)),'Criterios de valor. automáticos'!$E$4:$I$30,5,FALSE),0) -> 0
G25: =IFERROR(VLOOKUP(_xlfn.CONCAT(VLOOKUP(F25,'Criterios de valor. automáticos'!$B$4:$C$6,2,FALSE),VLOOKUP(D25,'Criterios de valor. automáticos'!$B$9:$C$11,2,FALSE),VLOOKUP(E25,'Criterios de valor. automáticos'!$B$14:$C$16,2,FALSE)),'Criterios de valor. automáticos'!$E$4:$I$30,5,FALSE),0) -> 0
G26: =IFERROR(VLOOKUP(_xlfn.CONCAT(VLOOKUP(F26,'Criterios de valor. automáticos'!$B$4:$C$6,2,FALSE),VLOOKUP(D26,'Criterios de valor. automáticos'!$B$9:$C$11,2,FALSE),VLOOKUP(E26,'Criterios de valor. automáticos'!$B$14:$C$16,2,FALSE)),'Criterios de valor. automáticos'!$E$4:$I$30,5,FALSE),0) -> 0
G27: =IFERROR(VLOOKUP(_xlfn.CONCAT(VLOOKUP(F27,'Criterios de valor. automáticos'!$B$4:$C$6,2,FALSE),VLOOKUP(D27,'Criterios de valor. automáticos'!$B$9:$C$11,2,FALSE),VLOOKUP(E27,'Criterios de valor. automáticos'!$B$14:$C$16,2,FALSE)),'Criterios de valor. automáticos'!$E$4:$I$30,5,FALSE),0) -> 0
B28: Subtotal | G28: =IF(GESTEP(SUM(G19:G27),MAX_EXPERIENCIA),MAX_EXPERIENCIA,SUM(G19:G27)) -> 0
B30: Certificaciones en tecnologías relevantes
B31: Certificación | F31: Relevancia | G31: Puntuación
G32: =IFERROR(VLOOKUP(F32,'Criterios de valor. automáticos'!$B$41:$C$43,2,FALSE),0) -> 0
G33: =IFERROR(VLOOKUP(F33,'Criterios de valor. automáticos'!$B$41:$C$43,2,FALSE),0) -> 0
G34: =IFERROR(VLOOKUP(F34,'Criterios de valor. automáticos'!$B$41:$C$43,2,FALSE),0) -> 0
G35: =IFERROR(VLOOKUP(F35,'Criterios de valor. automáticos'!$B$41:$C$43,2,FALSE),0) -> 0
G36: =IFERROR(VLOOKUP(F36,'Criterios de valor. automáticos'!$B$41:$C$43,2,FALSE),0) -> 0
G37: =IFERROR(VLOOKUP(F37,'Criterios de valor. automáticos'!$B$41:$C$43,2,FALSE),0) -> 0
G38: =IFERROR(VLOOKUP(F38,'Criterios de valor. automáticos'!$B$41:$C$43,2,FALSE),0) -> 0
B39: Subtotal | G39: =IF(GESTEP(SUM(G32:G38),MAX_CERTIFICACIONES),MAX_CERTIFICACIONES,SUM(G32:G38)) -> 0
B41: Formación reglada
B42: Título | F42: Nivel MECES | G42: Puntuación
G43: =IF(GESTEP(IFERROR(F43-VLOOKUP($C$6,'Criterios de valor. automáticos'!$B$50:$C$52,2,FALSE),0)),IFERROR(F43-VLOOKUP($C$6,'Criterios de valor. automáticos'!$B$50:$C$52,2,FALSE),0),0) -> 0
G44: =IF(GESTEP(IFERROR(F44-VLOOKUP($C$6,'Criterios de valor. automáticos'!$B$50:$C$52,2,FALSE),0)),IFERROR(F44-VLOOKUP($C$6,'Criterios de valor. automáticos'!$B$50:$C$52,2,FALSE),0),0) -> 0
G45: =IF(GESTEP(IFERROR(F45-VLOOKUP($C$6,'Criterios de valor. automáticos'!$B$50:$C$52,2,FALSE),0)),IFERROR(F45-VLOOKUP($C$6,'Criterios de valor. automáticos'!$B$50:$C$52,2,FALSE),0),0) -> 0
G46: =IF(GESTEP(IFERROR(F46-VLOOKUP($C$6,'Criterios de valor. automáticos'!$B$50:$C$52,2,FALSE),0)),IFERROR(F46-VLOOKUP($C$6,'Criterios de valor. automáticos'!$B$50:$C$52,2,FALSE),0),0) -> 0
B47: Subtotal | G47: =IF(GESTEP(SUM(G43:G46),MAX_FORM_REGLADA),MAX_FORM_REGLADA,SUM(G43:G46)) -> 0
B49: Formación en tecnologías relevantes
B50: Título (Sistema) | E50: Relevancia | F50: Duración (horas) | G50: Puntuación
G51: =ROUNDDOWN(IFERROR(F51/VLOOKUP(E51,'Criterios de valor. automáticos'!$B$46:$D$47,2,FALSE),0),0) -> 0
G52: =ROUNDDOWN(IFERROR(F52/VLOOKUP(E52,'Criterios de valor. automáticos'!$B$46:$D$47,2,FALSE),0),0) -> 0
G53: =ROUNDDOWN(IFERROR(F53/VLOOKUP(E53,'Criterios de valor. automáticos'!$B$46:$D$47,2,FALSE),0),0) -> 0
G54: =ROUNDDOWN(IFERROR(F54/VLOOKUP(E54,'Criterios de valor. automáticos'!$B$46:$D$47,2,FALSE),0),0) -> 0
G55: =ROUNDDOWN(IFERROR(F55/VLOOKUP(E55,'Criterios de valor. automáticos'!$B$46:$D$47,2,FALSE),0),0) -> 0
B56: Subtotal | G56: =IF(GESTEP(SUM(G51:G55),MAX_FORM_TECNOLOGICA),MAX_FORM_TECNOLOGICA,SUM(G51:G55)) -> 0
B59: Total | G59: =G28+G39+G47+G56 -> 0

Sheet UNIX2
B2: Identificación del perfil
B3: Empresa licitante
B4: Empresa de pertenencia
B5: Número de recurso
B6: Categoría ofertada
B7: Servicio a administrar
B9: Experiencia mínima exigida en pliego en sistemas críticos relacionados con el servicio
B10: Sistema | D10: Relevancia | E10: Coincidencia | F10: Experiencia | G10: Puntuación
G11: -
G12: -
G13: -
G14: -
G15: -
B17: Experiencia en tecnologías relacionadas con el servicio
B18: Sistema | D18: Relevancia | E18: Coincidencia | F18: Experiencia | G18: Puntuación
G19: =IFERROR(VLOOKUP(_xlfn.CONCAT(VLOOKUP(F19,'Criterios de valor. automáticos'!$B$4:$C$6,2,FALSE),VLOOKUP(D19,'Criterios de valor. automáticos'!$B$9:$C$11,2,FALSE),VLOOKUP(E19,'Criterios de valor. automáticos'!$B$14:$C$16,2,FALSE)),'Criterios de valor. automáticos'!$E$4:$I$30,5,FALSE),0) -> 0
G20: =IFERROR(VLOOKUP(_xlfn.CONCAT(VLOOKUP(F20,'Criterios de valor. automáticos'!$B$4:$C$6,2,FALSE),VLOOKUP(D20,'Criterios de valor. automáticos'!$B$9:$C$11,2,FALSE),VLOOKUP(E20,'Criterios de valor. automáticos'!$B$14:$C$16,2,FALSE)),'Criterios de valor. automáticos'!$E$4:$I$30,5,FALSE),0) -> 0
G21: =IFERROR(VLOOKUP(_xlfn.CONCAT(VLOOKUP(F21,'Criterios de valor. automáticos'!$B$4:$C$6,2,FALSE),VLOOKUP(D21,'Criterios de valor. automáticos'!$B$9:$C$11,2,FALSE),VLOOKUP(E21,'Criterios de valor. automáticos'!$B$14:$C$16,2,FALSE)),'Criterios de valor. automáticos'!$E$4:$I$30,5,FALSE),0) -> 0
G22: =IFERROR(VLOOKUP(_xlfn.CONCAT(VLOOKUP(F22,'Criterios de valor. automáticos'!$B$4:$C$6,2,FALSE),VLOOKUP(D22,'Criterios de valor. automáticos'!$B$9:$C$11,2,FALSE),VLOOKUP(E22,'Criterios de valor. automáticos'!$B$14:$C$16,2,FALSE)),'Criterios de valor. automáticos'!$E$4:$I$30,5,FALSE),0) -> 0
G23: =IFERROR(VLOOKUP(_xlfn.CONCAT(VLOOKUP(F23,'Criterios de valor. automáticos'!$B$4:$C$6,2,FALSE),VLOOKUP(D23,'Criterios de valor. automáticos'!$B$9:$C$11,2,FALSE),VLOOKUP(E23,'Criterios de valor. automáticos'!$B$14:$C$16,2,FALSE)),'Criterios de valor. automáticos'!$E$4:$I$30,5,FALSE),0) -> 0
G24: =IFERROR(VLOOKUP(_xlfn.CONCAT(VLOOKUP(F24,'Criterios de valor. automáticos'!$B$4:$C$6,2,FALSE),VLOOKUP(D24,'Criterios de valor. automáticos'!$B$9:$C$11,2,FALSE),VLOOKUP(E24,'Criterios de valor. automáticos'!$B$14:$C$16,2,FALSE)),'Criterios de valor. automáticos'!$E$4:$I$30,5,FALSE),0) -> 0
G25: =IFERROR(VLOOKUP(_xlfn.CONCAT(VLOOKUP(F25,'Criterios de valor. automáticos'!$B$4:$C$6,2,FALSE),VLOOKUP(D25,'Criterios de valor. automáticos'!$B$9:$C$11,2,FALSE),VLOOKUP(E25,'Criterios de valor. automáticos'!$B$14:$C$16,2,FALSE)),'Criterios de valor. automáticos'!$E$4:$I$30,5,FALSE),0) -> 0
G26: =IFERROR(VLOOKUP(_xlfn.CONCAT(VLOOKUP(F26,'Criterios de valor. automáticos'!$B$4:$C$6,2,FALSE),VLOOKUP(D26,'Criterios de valor. automáticos'!$B$9:$C$11,2,FALSE),VLOOKUP(E26,'Criterios de valor. automáticos'!$B$14:$C$16,2,FALSE)),'Criterios de valor. automáticos'!$E$4:$I$30,5,FALSE),0) -> 0
G27: =IFERROR(VLOOKUP(_xlfn.CONCAT(VLOOKUP(F27,'Criterios de valor. automáticos'!$B$4:$C$6,2,FALSE),VLOOKUP(D27,'Criterios de valor. automáticos'!$B$9:$C$11,2,FALSE),VLOOKUP(E27,'Criterios de valor. automáticos'!$B$14:$C$16,2,FALSE)),'Criterios de valor. automáticos'!$E$4:$I$30,5,FALSE),0) -> 0
B28: Subtotal | G28: =IF(GESTEP(SUM(G19:G27),MAX_EXPERIENCIA),MAX_EXPERIENCIA,SUM(G19:G27)) -> 0
B30: Certificaciones en tecnologías relevantes
B31: Certificación | F31: Relevancia | G31: Puntuación
G32: =IFERROR(VLOOKUP(F32,'Criterios de valor. automáticos'!$B$41:$C$43,2,FALSE),0) -> 0
G33: =IFERROR(VLOOKUP(F33,'Criterios de valor. automáticos'!$B$41:$C$43,2,FALSE),0) -> 0
G34: =IFERROR(VLOOKUP(F34,'Criterios de valor. automáticos'!$B$41:$C$43,2,FALSE),0) -> 0
G35: =IFERROR(VLOOKUP(F35,'Criterios de valor. automáticos'!$B$41:$C$43,2,FALSE),0) -> 0
G36: =IFERROR(VLOOKUP(F36,'Criterios de valor. automáticos'!$B$41:$C$43,2,FALSE),0) -> 0
G37: =IFERROR(VLOOKUP(F37,'Criterios de valor. automáticos'!$B$41:$C$43,2,FALSE),0) -> 0
G38: =IFERROR(VLOOKUP(F38,'Criterios de valor. automáticos'!$B$41:$C$43,2,FALSE),0) -> 0
B39: Subtotal | G39: =IF(GESTEP(SUM(G32:G38),MAX_CERTIFICACIONES),MAX_CERTIFICACIONES,SUM(G32:G38)) -> 0
B41: Formación reglada
B42: Título | F42: Nivel MECES | G42: Puntuación
G43: =IF(GESTEP(IFERROR(F43-VLOOKUP($C$6,'Criterios de valor. automáticos'!$B$50:$C$52,2,FALSE),0)),IFERROR(F43-VLOOKUP($C$6,'Criterios de valor. automáticos'!$B$50:$C$52,2,FALSE),0),0) -> 0
G44: =IF(GESTEP(IFERROR(F44-VLOOKUP($C$6,'Criterios de valor. automáticos'!$B$50:$C$52,2,FALSE),0)),IFERROR(F44-VLOOKUP($C$6,'Criterios de valor. automáticos'!$B$50:$C$52,2,FALSE),0),0) -> 0
G45: =IF(GESTEP(IFERROR(F45-VLOOKUP($C$6,'Criterios de valor. automáticos'!$B$50:$C$52,2,FALSE),0)),IFERROR(F45-VLOOKUP($C$6,'Criterios de valor. automáticos'!$B$50:$C$52,2,FALSE),0),0) -> 0
G46: =IF(GESTEP(IFERROR(F46-VLOOKUP($C$6,'Criterios de valor. automáticos'!$B$50:$C$52,2,FALSE),0)),IFERROR(F46-VLOOKUP($C$6,'Criterios de valor. automáticos'!$B$50:$C$52,2,FALSE),0),0) -> 0
B47: Subtotal | G47: =IF(GESTEP(SUM(G43:G46),MAX_FORM_REGLADA),MAX_FORM_REGLADA,SUM(G43:G46)) -> 0
B49: Formación en tecnologías relevantes
B50: Título (Sistema) | E50: Relevancia | F50: Duración (horas) | G50: Puntuación
G51: =ROUNDDOWN(IFERROR(F51/VLOOKUP(E51,'Criterios de valor. automáticos'!$B$46:$D$47,2,FALSE),0),0) -> 0
G52: =ROUNDDOWN(IFERROR(F52/VLOOKUP(E52,'Criterios de valor. automáticos'!$B$46:$D$47,2,FALSE),0),0) -> 0
G53: =ROUNDDOWN(IFERROR(F53/VLOOKUP(E53,'Criterios de valor. automáticos'!$B$46:$D$47,2,FALSE),0),0) -> 0
G54: =ROUNDDOWN(IFERROR(F54/VLOOKUP(E54,'Criterios de valor. automáticos'!$B$46:$D$47,2,FALSE),0),0) -> 0
G55: =ROUNDDOWN(IFERROR(F55/VLOOKUP(E55,'Criterios de valor. automáticos'!$B$46:$D$47,2,FALSE),0),0) -> 0
B56: Subtotal | G56: =IF(GESTEP(SUM(G51:G55),MAX_FORM_TECNOLOGICA),MAX_FORM_TECNOLOGICA,SUM(G51:G55)) -> 0
B59: Total | G59: =G28+G39+G47+G56 -> 0

Sheet UNIX3
B2: Identificación del perfil
B3: Empresa licitante
B4: Empresa de pertenencia
B5: Número de recurso
B6: Categoría ofertada
B7: Servicio a administrar
B9: Experiencia mínima exigida en pliego en sistemas críticos relacionados con el servicio
B10: Sistema | D10: Relevancia | E10: Coincidencia | F10: Experiencia | G10: Puntuación
G11: -
G12: -
G13: -
G14: -
G15: -
B17: Experiencia en tecnologías relacionadas con el servicio
B18: Sistema | D18: Relevancia | E18: Coincidencia | F18: Experiencia | G18: Puntuación
G19: =IFERROR(VLOOKUP(_xlfn.CONCAT(VLOOKUP(F19,'Criterios de valor. automáticos'!$B$4:$C$6,2,FALSE),VLOOKUP(D19,'Criterios de valor. automáticos'!$B$9:$C$11,2,FALSE),VLOOKUP(E19,'Criterios de valor. automáticos'!$B$14:$C$16,2,FALSE)),'Criterios de valor. automáticos'!$E$4:$I$30,5,FALSE),0) -> 0
G20: =IFERROR(VLOOKUP(_xlfn.CONCAT(VLOOKUP(F20,'Criterios de valor. automáticos'!$B$4:$C$6,2,FALSE),VLOOKUP(D20,'Criterios de valor. automáticos'!$B$9:$C$11,2,FALSE),VLOOKUP(E20,'Criterios de valor. automáticos'!$B$14:$C$16,2,FALSE)),'Criterios de valor. automáticos'!$E$4:$I$30,5,FALSE),0) -> 0
G21: =IFERROR(VLOOKUP(_xlfn.CONCAT(VLOOKUP(F21,'Criterios de valor. automáticos'!$B$4:$C$6,2,FALSE),VLOOKUP(D21,'Criterios de valor. automáticos'!$B$9:$C$11,2,FALSE),VLOOKUP(E21,'Criterios de valor. automáticos'!$B$14:$C$16,2,FALSE)),'Criterios de valor. automáticos'!$E$4:$I$30,5,FALSE),0) -> 0
G22: =IFERROR(VLOOKUP(_xlfn.CONCAT(VLOOKUP(F22,'Criterios de valor. automáticos'!$B$4:$C$6,2,FALSE),VLOOKUP(D22,'Criterios de valor. automáticos'!$B$9:$C$11,2,FALSE),VLOOKUP(E22,'Criterios de valor. automáticos'!$B$14:$C$16,2,FALSE)),'Criterios de valor. automáticos'!$E$4:$I$30,5,FALSE),0) -> 0
G23: =IFERROR(VLOOKUP(_xlfn.CONCAT(VLOOKUP(F23,'Criterios de valor. automáticos'!$B$4:$C$6,2,FALSE),VLOOKUP(D23,'Criterios de valor. automáticos'!$B$9:$C$11,2,FALSE),VLOOKUP(E23,'Criterios de valor. automáticos'!$B$14:$C$16,2,FALSE)),'Criterios de valor. automáticos'!$E$4:$I$30,5,FALSE),0) -> 0
G24: =IFERROR(VLOOKUP(_xlfn.CONCAT(VLOOKUP(F24,'Criterios de valor. automáticos'!$B$4:$C$6,2,FALSE),VLOOKUP(D24,'Criterios de valor. automáticos'!$B$9:$C$11,2,FALSE),VLOOKUP(E24,'Criterios de valor. automáticos'!$B$14:$C$16,2,FALSE)),'Criterios de valor. automáticos'!$E$4:$I$30,5,FALSE),0) -> 0
G25: =IFERROR(VLOOKUP(_xlfn.CONCAT(VLOOKUP(F25,'Criterios de valor. automáticos'!$B$4:$C$6,2,FALSE),VLOOKUP(D25,'Criterios de valor. automáticos'!$B$9:$C$11,2,FALSE),VLOOKUP(E25,'Criterios de valor. automáticos'!$B$14:$C$16,2,FALSE)),'Criterios de valor. automáticos'!$E$4:$I$30,5,FALSE),0) -> 0
G26: =IFERROR(VLOOKUP(_xlfn.CONCAT(VLOOKUP(F26,'Criterios de valor. automáticos'!$B$4:$C$6,2,FALSE),VLOOKUP(D26,'Criterios de valor. automáticos'!$B$9:$C$11,2,FALSE),VLOOKUP(E26,'Criterios de valor. automáticos'!$B$14:$C$16,2,FALSE)),'Criterios de valor. automáticos'!$E$4:$I$30,5,FALSE),0) -> 0
G27: =IFERROR(VLOOKUP(_xlfn.CONCAT(VLOOKUP(F27,'Criterios de valor. automáticos'!$B$4:$C$6,2,FALSE),VLOOKUP(D27,'Criterios de valor. automáticos'!$B$9:$C$11,2,FALSE),VLOOKUP(E27,'Criterios de valor. automáticos'!$B$14:$C$16,2,FALSE)),'Criterios de valor. automáticos'!$E$4:$I$30,5,FALSE),0) -> 0
B28: Subtotal | G28: =IF(GESTEP(SUM(G19:G27),MAX_EXPERIENCIA),MAX_EXPERIENCIA,SUM(G19:G27)) -> 0
B30: Certificaciones en tecnologías relevantes
B31: Certificación | F31: Relevancia | G31: Puntuación
G32: =IFERROR(VLOOKUP(F32,'Criterios de valor. automáticos'!$B$41:$C$43,2,FALSE),0) -> 0
G33: =IFERROR(VLOOKUP(F33,'Criterios de valor. automáticos'!$B$41:$C$43,2,FALSE),0) -> 0
G34: =IFERROR(VLOOKUP(F34,'Criterios de valor. automáticos'!$B$41:$C$43,2,FALSE),0) -> 0
G35: =IFERROR(VLOOKUP(F35,'Criterios de valor. automáticos'!$B$41:$C$43,2,FALSE),0) -> 0
G36: =IFERROR(VLOOKUP(F36,'Criterios de valor. automáticos'!$B$41:$C$43,2,FALSE),0) -> 0
G37: =IFERROR(VLOOKUP(F37,'Criterios de valor. automáticos'!$B$41:$C$43,2,FALSE),0) -> 0
G38: =IFERROR(VLOOKUP(F38,'Criterios de valor. automáticos'!$B$41:$C$43,2,FALSE),0) -> 0
B39: Subtotal | G39: =IF(GESTEP(SUM(G32:G38),MAX_CERTIFICACIONES),MAX_CERTIFICACIONES,SUM(G32:G38)) -> 0
B41: Formación reglada
B42: Título | F42: Nivel MECES | G42: Puntuación
G43: =IF(GESTEP(IFERROR(F43-VLOOKUP($C$6,'Criterios de valor. automáticos'!$B$50:$C$52,2,FALSE),0)),IFERROR(F43-VLOOKUP($C$6,'Criterios de valor. automáticos'!$B$50:$C$52,2,FALSE),0),0) -> 0
G44: =IF(GESTEP(IFERROR(F44-VLOOKUP($C$6,'Criterios de valor. automáticos'!$B$50:$C$52,2,FALSE),0)),IFERROR(F44-VLOOKUP($C$6,'Criterios de valor. automáticos'!$B$50:$C$52,2,FALSE),0),0) -> 0
G45: =IF(GESTEP(IFERROR(F45-VLOOKUP($C$6,'Criterios de valor. automáticos'!$B$50:$C$52,2,FALSE),0)),IFERROR(F45-VLOOKUP($C$6,'Criterios de valor. automáticos'!$B$50:$C$52,2,FALSE),0),0) -> 0
G46: =IF(GESTEP(IFERROR(F46-VLOOKUP($C$6,'Criterios de valor. automáticos'!$B$50:$C$52,2,FALSE),0)),IFERROR(F46-VLOOKUP($C$6,'Criterios de valor. automáticos'!$B$50:$C$52,2,FALSE),0),0) -> 0
B47: Subtotal | G47: =IF(GESTEP(SUM(G43:G46),MAX_FORM_REGLADA),MAX_FORM_REGLADA,SUM(G43:G46)) -> 0
B49: Formación en tecnologías relevantes
B50: Título (Sistema) | E50: Relevancia | F50: Duración (horas) | G50: Puntuación
G51: =ROUNDDOWN(IFERROR(F51/VLOOKUP(E51,'Criterios de valor. automáticos'!$B$46:$D$47,2,FALSE),0),0) -> 0
G52: =ROUNDDOWN(IFERROR(F52/VLOOKUP(E52,'Criterios de valor. automáticos'!$B$46:$D$47,2,FALSE),0),0) -> 0
G53: =ROUNDDOWN(IFERROR(F53/VLOOKUP(E53,'Criterios de valor. automáticos'!$B$46:$D$47,2,FALSE),0),0) -> 0
G54: =ROUNDDOWN(IFERROR(F54/VLOOKUP(E54,'Criterios de valor. automáticos'!$B$46:$D$47,2,FALSE),0),0) -> 0
G55: =ROUNDDOWN(IFERROR(F55/VLOOKUP(E55,'Criterios de valor. automáticos'!$B$46:$D$47,2,FALSE),0),0) -> 0
B56: Subtotal | G56: =IF(GESTEP(SUM(G51:G55),MAX_FORM_TECNOLOGICA),MAX_FORM_TECNOLOGICA,SUM(G51:G55)) -> 0
B59: Total | G59: =G28+G39+G47+G56 -> 0

Sheet UNIX4
B2: Identificación del perfil
B3: Empresa licitante
B4: Empresa de pertenencia
B5: Número de recurso
B6: Categoría ofertada
B7: Servicio a administrar
B9: Experiencia mínima exigida en pliego en sistemas críticos relacionados con el servicio
B10: Sistema | D10: Relevancia | E10: Coincidencia | F10: Experiencia | G10: Puntuación
G11: -
G12: -
G13: -
G14: -
G15: -
B17: Experiencia en tecnologías relacionadas con el servicio
B18: Sistema | D18: Relevancia | E18: Coincidencia | F18: Experiencia | G18: Puntuación
G19: =IFERROR(VLOOKUP(_xlfn.CONCAT(VLOOKUP(F19,'Criterios de valor. automáticos'!$B$4:$C$6,2,FALSE),VLOOKUP(D19,'Criterios de valor. automáticos'!$B$9:$C$11,2,FALSE),VLOOKUP(E19,'Criterios de valor. automáticos'!$B$14:$C$16,2,FALSE)),'Criterios de valor. automáticos'!$E$4:$I$30,5,FALSE),0) -> 0
G20: =IFERROR(VLOOKUP(_xlfn.CONCAT(VLOOKUP(F20,'Criterios de valor. automáticos'!$B$4:$C$6,2,FALSE),VLOOKUP(D20,'Criterios de valor. automáticos'!$B$9:$C$11,2,FALSE),VLOOKUP(E20,'Criterios de valor. automáticos'!$B$14:$C$16,2,FALSE)),'Criterios de valor. automáticos'!$E$4:$I$30,5,FALSE),0) -> 0
G21: =IFERROR(VLOOKUP(_xlfn.CONCAT(VLOOKUP(F21,'Criterios de valor. automáticos'!$B$4:$C$6,2,FALSE),VLOOKUP(D21,'Criterios de valor. automáticos'!$B$9:$C$11,2,FALSE),VLOOKUP(E21,'Criterios de valor. automáticos'!$B$14:$C$16,2,FALSE)),'Criterios de valor. automáticos'!$E$4:$I$30,5,FALSE),0) -> 0
G22: =IFERROR(VLOOKUP(_xlfn.CONCAT(VLOOKUP(F22,'Criterios de valor. automáticos'!$B$4:$C$6,2,FALSE),VLOOKUP(D22,'Criterios de valor. automáticos'!$B$9:$C$11,2,FALSE),VLOOKUP(E22,'Criterios de valor. automáticos'!$B$14:$C$16,2,FALSE)),'Criterios de valor. automáticos'!$E$4:$I$30,5,FALSE),0) -> 0
G23: =IFERROR(VLOOKUP(_xlfn.CONCAT(VLOOKUP(F23,'Criterios de valor. automáticos'!$B$4:$C$6,2,FALSE),VLOOKUP(D23,'Criterios de valor. automáticos'!$B$9:$C$11,2,FALSE),VLOOKUP(E23,'Criterios de valor. automáticos'!$B$14:$C$16,2,FALSE)),'Criterios de valor. automáticos'!$E$4:$I$30,5,FALSE),0) -> 0
G24: =IFERROR(VLOOKUP(_xlfn.CONCAT(VLOOKUP(F24,'Criterios de valor. automáticos'!$B$4:$C$6,2,FALSE),VLOOKUP(D24,'Criterios de valor. automáticos'!$B$9:$C$11,2,FALSE),VLOOKUP(E24,'Criterios de valor. automáticos'!$B$14:$C$16,2,FALSE)),'Criterios de valor. automáticos'!$E$4:$I$30,5,FALSE),0) -> 0
G25: =IFERROR(VLOOKUP(_xlfn.CONCAT(VLOOKUP(F25,'Criterios de valor. automáticos'!$B$4:$C$6,2,FALSE),VLOOKUP(D25,'Criterios de valor. automáticos'!$B$9:$C$11,2,FALSE),VLOOKUP(E25,'Criterios de valor. automáticos'!$B$14:$C$16,2,FALSE)),'Criterios de valor. automáticos'!$E$4:$I$30,5,FALSE),0) -> 0
G26: =IFERROR(VLOOKUP(_xlfn.CONCAT(VLOOKUP(F26,'Criterios de valor. automáticos'!$B$4:$C$6,2,FALSE),VLOOKUP(D26,'Criterios de valor. automáticos'!$B$9:$C$11,2,FALSE),VLOOKUP(E26,'Criterios de valor. automáticos'!$B$14:$C$16,2,FALSE)),'Criterios de valor. automáticos'!$E$4:$I$30,5,FALSE),0) -> 0
G27: =IFERROR(VLOOKUP(_xlfn.CONCAT(VLOOKUP(F27,'Criterios de valor. automáticos'!$B$4:$C$6,2,FALSE),VLOOKUP(D27,'Criterios de valor. automáticos'!$B$9:$C$11,2,FALSE),VLOOKUP(E27,'Criterios de valor. automáticos'!$B$14:$C$16,2,FALSE)),'Criterios de valor. automáticos'!$E$4:$I$30,5,FALSE),0) -> 0
B28: Subtotal | G28: =IF(GESTEP(SUM(G19:G27),MAX_EXPERIENCIA),MAX_EXPERIENCIA,SUM(G19:G27)) -> 0
B30: Certificaciones en tecnologías relevantes
B31: Certificación | F31: Relevancia | G31: Puntuación
G32: =IFERROR(VLOOKUP(F32,'Criterios de valor. automáticos'!$B$41:$C$43,2,FALSE),0) -> 0
G33: =IFERROR(VLOOKUP(F33,'Criterios de valor. automáticos'!$B$41:$C$43,2,FALSE),0) -> 0
G34: =IFERROR(VLOOKUP(F34,'Criterios de valor. automáticos'!$B$41:$C$43,2,FALSE),0) -> 0
G35: =IFERROR(VLOOKUP(F35,'Criterios de valor. automáticos'!$B$41:$C$43,2,FALSE),0) -> 0
G36: =IFERROR(VLOOKUP(F36,'Criterios de valor. automáticos'!$B$41:$C$43,2,FALSE),0) -> 0
G37: =IFERROR(VLOOKUP(F37,'Criterios de valor. automáticos'!$B$41:$C$43,2,FALSE),0) -> 0
G38: =IFERROR(VLOOKUP(F38,'Criterios de valor. automáticos'!$B$41:$C$43,2,FALSE),0) -> 0
B39: Subtotal | G39: =IF(GESTEP(SUM(G32:G38),MAX_CERTIFICACIONES),MAX_CERTIFICACIONES,SUM(G32:G38)) -> 0
B41: Formación reglada
B42: Título | F42: Nivel MECES | G42: Puntuación
G43: =IF(GESTEP(IFERROR(F43-VLOOKUP($C$6,'Criterios de valor. automáticos'!$B$50:$C$52,2,FALSE),0)),IFERROR(F43-VLOOKUP($C$6,'Criterios de valor. automáticos'!$B$50:$C$52,2,FALSE),0),0) -> 0
G44: =IF(GESTEP(IFERROR(F44-VLOOKUP($C$6,'Criterios de valor. automáticos'!$B$50:$C$52,2,FALSE),0)),IFERROR(F44-VLOOKUP($C$6,'Criterios de valor. automáticos'!$B$50:$C$52,2,FALSE),0),0) -> 0
G45: =IF(GESTEP(IFERROR(F45-VLOOKUP($C$6,'Criterios de valor. automáticos'!$B$50:$C$52,2,FALSE),0)),IFERROR(F45-VLOOKUP($C$6,'Criterios de valor. automáticos'!$B$50:$C$52,2,FALSE),0),0) -> 0
G46: =IF(GESTEP(IFERROR(F46-VLOOKUP($C$6,'Criterios de valor. automáticos'!$B$50:$C$52,2,FALSE),0)),IFERROR(F46-VLOOKUP($C$6,'Criterios de valor. automáticos'!$B$50:$C$52,2,FALSE),0),0) -> 0
B47: Subtotal | G47: =IF(GESTEP(SUM(G43:G46),MAX_FORM_REGLADA),MAX_FORM_REGLADA,SUM(G43:G46)) -> 0
B49: Formación en tecnologías relevantes
B50: Título (Sistema) | E50: Relevancia | F50: Duración (horas) | G50: Puntuación
G51: =ROUNDDOWN(IFERROR(F51/VLOOKUP(E51,'Criterios de valor. automáticos'!$B$46:$D$47,2,FALSE),0),0) -> 0
G52: =ROUNDDOWN(IFERROR(F52/VLOOKUP(E52,'Criterios de valor. automáticos'!$B$46:$D$47,2,FALSE),0),0) -> 0
G53: =ROUNDDOWN(IFERROR(F53/VLOOKUP(E53,'Criterios de valor. automáticos'!$B$46:$D$47,2,FALSE),0),0) -> 0
G54: =ROUNDDOWN(IFERROR(F54/VLOOKUP(E54,'Criterios de valor. automáticos'!$B$46:$D$47,2,FALSE),0),0) -> 0
G55: =ROUNDDOWN(IFERROR(F55/VLOOKUP(E55,'Criterios de valor. automáticos'!$B$46:$D$47,2,FALSE),0),0) -> 0
B56: Subtotal | G56: =IF(GESTEP(SUM(G51:G55),MAX_FORM_TECNOLOGICA),MAX_FORM_TECNOLOGICA,SUM(G51:G55)) -> 0
B59: Total | G59: =G28+G39+G47+G56 -> 0

Sheet MICRO1
B2: Identificación del perfil
B3: Empresa licitante
B4: Empresa de pertenencia
B5: Número de recurso
B6: Categoría ofertada
B7: Servicio a administrar
B9: Experiencia mínima exigida en pliego en sistemas críticos relacionados con el servicio
B10: Sistema | D10: Relevancia | E10: Coincidencia | F10: Experiencia | G10: Puntuación
G11: -
G12: -
G13: -
G14: -
G15: -
B17: Experiencia en tecnologías relacionadas con el servicio
B18: Sistema | D18: Relevancia | E18: Coincidencia | F18: Experiencia | G18: Puntuación
G19: =IFERROR(VLOOKUP(_xlfn.CONCAT(VLOOKUP(F19,'Criterios de valor. automáticos'!$B$4:$C$6,2,FALSE),VLOOKUP(D19,'Criterios de valor. automáticos'!$B$9:$C$11,2,FALSE),VLOOKUP(E19,'Criterios de valor. automáticos'!$B$14:$C$16,2,FALSE)),'Criterios de valor. automáticos'!$E$4:$I$30,5,FALSE),0) -> 0
G20: =IFERROR(VLOOKUP(_xlfn.CONCAT(VLOOKUP(F20,'Criterios de valor. automáticos'!$B$4:$C$6,2,FALSE),VLOOKUP(D20,'Criterios de valor. automáticos'!$B$9:$C$11,2,FALSE),VLOOKUP(E20,'Criterios de valor. automáticos'!$B$14:$C$16,2,FALSE)),'Criterios de valor. automáticos'!$E$4:$I$30,5,FALSE),0) -> 0
G21: =IFERROR(VLOOKUP(_xlfn.CONCAT(VLOOKUP(F21,'Criterios de valor. automáticos'!$B$4:$C$6,2,FALSE),VLOOKUP(D21,'Criterios de valor. automáticos'!$B$9:$C$11,2,FALSE),VLOOKUP(E21,'Criterios de valor. automáticos'!$B$14:$C$16,2,FALSE)),'Criterios de valor. automáticos'!$E$4:$I$30,5,FALSE),0) -> 0
G22: =IFERROR(VLOOKUP(_xlfn.CONCAT(VLOOKUP(F22,'Criterios de valor. automáticos'!$B$4:$C$6,2,FALSE),VLOOKUP(D22,'Criterios de valor. automáticos'!$B$9:$C$11,2,FALSE),VLOOKUP(E22,'Criterios de valor. automáticos'!$B$14:$C$16,2,FALSE)),'Criterios de valor. automáticos'!$E$4:$I$30,5,FALSE),0) -> 0
G23: =IFERROR(VLOOKUP(_xlfn.CONCAT(VLOOKUP(F23,'Criterios de valor. automáticos'!$B$4:$C$6,2,FALSE),VLOOKUP(D23,'Criterios de valor. automáticos'!$B$9:$C$11,2,FALSE),VLOOKUP(E23,'Criterios de valor. automáticos'!$B$14:$C$16,2,FALSE)),'Criterios de valor. automáticos'!$E$4:$I$30,5,FALSE),0) -> 0
G24: =IFERROR(VLOOKUP(_xlfn.CONCAT(VLOOKUP(F24,'Criterios de valor. automáticos'!$B$4:$C$6,2,FALSE),VLOOKUP(D24,'Criterios de valor. automáticos'!$B$9:$C$11,2,FALSE),VLOOKUP(E24,'Criterios de valor. automáticos'!$B$14:$C$16,2,FALSE)),'Criterios de valor. automáticos'!$E$4:$I$30,5,FALSE),0) -> 0
G25: =IFERROR(VLOOKUP(_xlfn.CONCAT(VLOOKUP(F25,'Criterios de valor. automáticos'!$B$4:$C$6,2,FALSE),VLOOKUP(D25,'Criterios de valor. automáticos'!$B$9:$C$11,2,FALSE),VLOOKUP(E25,'Criterios de valor. automáticos'!$B$14:$C$16,2,FALSE)),'Criterios de valor. automáticos'!$E$4:$I$30,5,FALSE),0) -> 0
G26: =IFERROR(VLOOKUP(_xlfn.CONCAT(VLOOKUP(F26,'Criterios de valor. automáticos'!$B$4:$C$6,2,FALSE),VLOOKUP(D26,'Criterios de valor. automáticos'!$B$9:$C$11,2,FALSE),VLOOKUP(E26,'Criterios de valor. automáticos'!$B$14:$C$16,2,FALSE)),'Criterios de valor. automáticos'!$E$4:$I$30,5,FALSE),0) -> 0
G27: =IFERROR(VLOOKUP(_xlfn.CONCAT(VLOOKUP(F27,'Criterios de valor. automáticos'!$B$4:$C$6,2,FALSE),VLOOKUP(D27,'Criterios de valor. automáticos'!$B$9:$C$11,2,FALSE),VLOOKUP(E27,'Criterios de valor. automáticos'!$B$14:$C$16,2,FALSE)),'Criterios de valor. automáticos'!$E$4:$I$30,5,FALSE),0) -> 0
B28: Subtotal | G28: =IF(GESTEP(SUM(G19:G27),MAX_EXPERIENCIA),MAX_EXPERIENCIA,SUM(G19:G27)) -> 0
B30: Certificaciones en tecnologías relevantes
B31: Certificación | F31: Relevancia | G31: Puntuación
G32: =IFERROR(VLOOKUP(F32,'Criterios de valor. automáticos'!$B$41:$C$43,2,FALSE),0) -> 0
G33: =IFERROR(VLOOKUP(F33,'Criterios de valor. automáticos'!$B$41:$C$43,2,FALSE),0) -> 0
G34: =IFERROR(VLOOKUP(F34,'Criterios de valor. automáticos'!$B$41:$C$43,2,FALSE),0) -> 0
G35: =IFERROR(VLOOKUP(F35,'Criterios de valor. automáticos'!$B$41:$C$43,2,FALSE),0) -> 0
G36: =IFERROR(VLOOKUP(F36,'Criterios de valor. automáticos'!$B$41:$C$43,2,FALSE),0) -> 0
G37: =IFERROR(VLOOKUP(F37,'Criterios de valor. automáticos'!$B$41:$C$43,2,FALSE),0) -> 0
G38: =IFERROR(VLOOKUP(F38,'Criterios de valor. automáticos'!$B$41:$C$43,2,FALSE),0) -> 0
B39: Subtotal | G39: =IF(GESTEP(SUM(G32:G38),MAX_CERTIFICACIONES),MAX_CERTIFICACIONES,SUM(G32:G38)) -> 0
B41: Formación reglada
B42: Título | F42: Nivel MECES | G42: Puntuación
G43: =IF(GESTEP(IFERROR(F43-VLOOKUP($C$6,'Criterios de valor. automáticos'!$B$50:$C$52,2,FALSE),0)),IFERROR(F43-VLOOKUP($C$6,'Criterios de valor. automáticos'!$B$50:$C$52,2,FALSE),0),0) -> 0
G44: =IF(GESTEP(IFERROR(F44-VLOOKUP($C$6,'Criterios de valor. automáticos'!$B$50:$C$52,2,FALSE),0)),IFERROR(F44-VLOOKUP($C$6,'Criterios de valor. automáticos'!$B$50:$C$52,2,FALSE),0),0) -> 0
G45: =IF(GESTEP(IFERROR(F45-VLOOKUP($C$6,'Criterios de valor. automáticos'!$B$50:$C$52,2,FALSE),0)),IFERROR(F45-VLOOKUP($C$6,'Criterios de valor. automáticos'!$B$50:$C$52,2,FALSE),0),0) -> 0
G46: =IF(GESTEP(IFERROR(F46-VLOOKUP($C$6,'Criterios de valor. automáticos'!$B$50:$C$52,2,FALSE),0)),IFERROR(F46-VLOOKUP($C$6,'Criterios de valor. automáticos'!$B$50:$C$52,2,FALSE),0),0) -> 0
B47: Subtotal | G47: =IF(GESTEP(SUM(G43:G46),MAX_FORM_REGLADA),MAX_FORM_REGLADA,SUM(G43:G46)) -> 0
B49: Formación en tecnologías relevantes
B50: Título (Sistema) | E50: Relevancia | F50: Duración (horas) | G50: Puntuación
G51: =ROUNDDOWN(IFERROR(F51/VLOOKUP(E51,'Criterios de valor. automáticos'!$B$46:$D$47,2,FALSE),0),0) -> 0
G52: =ROUNDDOWN(IFERROR(F52/VLOOKUP(E52,'Criterios de valor. automáticos'!$B$46:$D$47,2,FALSE),0),0) -> 0
G53: =ROUNDDOWN(IFERROR(F53/VLOOKUP(E53,'Criterios de valor. automáticos'!$B$46:$D$47,2,FALSE),0),0) -> 0
G54: =ROUNDDOWN(IFERROR(F54/VLOOKUP(E54,'Criterios de valor. automáticos'!$B$46:$D$47,2,FALSE),0),0) -> 0
G55: =ROUNDDOWN(IFERROR(F55/VLOOKUP(E55,'Criterios de valor. automáticos'!$B$46:$D$47,2,FALSE),0),0) -> 0
B56: Subtotal | G56: =IF(GESTEP(SUM(G51:G55),MAX_FORM_TECNOLOGICA),MAX_FORM_TECNOLOGICA,SUM(G51:G55)) -> 0
B59: Total | G59: =G28+G39+G47+G56 -> 0

Sheet MICRO2
B2: Identificación del perfil
B3: Empresa licitante
B4: Empresa de pertenencia
B5: Número de recurso
B6: Categoría ofertada
B7: Servicio a administrar
B9: Experiencia mínima exigida en pliego en sistemas críticos relacionados con el servicio
B10: Sistema | D10: Relevancia | E10: Coincidencia | F10: Experiencia | G10: Puntuación
G11: -
G12: -
G13: -
G14: -
G15: -
B17: Experiencia en tecnologías relacionadas con el servicio
B18: Sistema | D18: Relevancia | E18: Coincidencia | F18: Experiencia | G18: Puntuación
G19: =IFERROR(VLOOKUP(_xlfn.CONCAT(VLOOKUP(F19,'Criterios de valor. automáticos'!$B$4:$C$6,2,FALSE),VLOOKUP(D19,'Criterios de valor. automáticos'!$B$9:$C$11,2,FALSE),VLOOKUP(E19,'Criterios de valor. automáticos'!$B$14:$C$16,2,FALSE)),'Criterios de valor. automáticos'!$E$4:$I$30,5,FALSE),0) -> 0
G20: =IFERROR(VLOOKUP(_xlfn.CONCAT(VLOOKUP(F20,'Criterios de valor. automáticos'!$B$4:$C$6,2,FALSE),VLOOKUP(D20,'Criterios de valor. automáticos'!$B$9:$C$11,2,FALSE),VLOOKUP(E20,'Criterios de valor. automáticos'!$B$14:$C$16,2,FALSE)),'Criterios de valor. automáticos'!$E$4:$I$30,5,FALSE),0) -> 0
G21: =IFERROR(VLOOKUP(_xlfn.CONCAT(VLOOKUP(F21,'Criterios de valor. automáticos'!$B$4:$C$6,2,FALSE),VLOOKUP(D21,'Criterios de valor. automáticos'!$B$9:$C$11,2,FALSE),VLOOKUP(E21,'Criterios de valor. automáticos'!$B$14:$C$16,2,FALSE)),'Criterios de valor. automáticos'!$E$4:$I$30,5,FALSE),0) -> 0
G22: =IFERROR(VLOOKUP(_xlfn.CONCAT(VLOOKUP(F22,'Criterios de valor. automáticos'!$B$4:$C$6,2,FALSE),VLOOKUP(D22,'Criterios de valor. automáticos'!$B$9:$C$11,2,FALSE),VLOOKUP(E22,'Criterios de valor. automáticos'!$B$14:$C$16,2,FALSE)),'Criterios de valor. automáticos'!$E$4:$I$30,5,FALSE),0) -> 0
G23: =IFERROR(VLOOKUP(_xlfn.CONCAT(VLOOKUP(F23,'Criterios de valor. automáticos'!$B$4:$C$6,2,FALSE),VLOOKUP(D23,'Criterios de valor. automáticos'!$B$9:$C$11,2,FALSE),VLOOKUP(E23,'Criterios de valor. automáticos'!$B$14:$C$16,2,FALSE)),'Criterios de valor. automáticos'!$E$4:$I$30,5,FALSE),0) -> 0
G24: =IFERROR(VLOOKUP(_xlfn.CONCAT(VLOOKUP(F24,'Criterios de valor. automáticos'!$B$4:$C$6,2,FALSE),VLOOKUP(D24,'Criterios de valor. automáticos'!$B$9:$C$11,2,FALSE),VLOOKUP(E24,'Criterios de valor. automáticos'!$B$14:$C$16,2,FALSE)),'Criterios de valor. automáticos'!$E$4:$I$30,5,FALSE),0) -> 0
G25: =IFERROR(VLOOKUP(_xlfn.CONCAT(VLOOKUP(F25,'Criterios de valor. automáticos'!$B$4:$C$6,2,FALSE),VLOOKUP(D25,'Criterios de valor. automáticos'!$B$9:$C$11,2,FALSE),VLOOKUP(E25,'Criterios de valor. automáticos'!$B$14:$C$16,2,FALSE)),'Criterios de valor. automáticos'!$E$4:$I$30,5,FALSE),0) -> 0
G26: =IFERROR(VLOOKUP(_xlfn.CONCAT(VLOOKUP(F26,'Criterios de valor. automáticos'!$B$4:$C$6,2,FALSE),VLOOKUP(D26,'Criterios de valor. automáticos'!$B$9:$C$11,2,FALSE),VLOOKUP(E26,'Criterios de valor. automáticos'!$B$14:$C$16,2,FALSE)),'Criterios de valor. automáticos'!$E$4:$I$30,5,FALSE),0) -> 0
G27: =IFERROR(VLOOKUP(_xlfn.CONCAT(VLOOKUP(F27,'Criterios de valor. automáticos'!$B$4:$C$6,2,FALSE),VLOOKUP(D27,'Criterios de valor. automáticos'!$B$9:$C$11,2,FALSE),VLOOKUP(E27,'Criterios de valor. automáticos'!$B$14:$C$16,2,FALSE)),'Criterios de valor. automáticos'!$E$4:$I$30,5,FALSE),0) -> 0
B28: Subtotal | G28: =IF(GESTEP(SUM(G19:G27),MAX_EXPERIENCIA),MAX_EXPERIENCIA,SUM(G19:G27)) -> 0
B30: Certificaciones en tecnologías relevantes
B31: Certificación | F31: Relevancia | G31: Puntuación
G32: =IFERROR(VLOOKUP(F32,'Criterios de valor. automáticos'!$B$41:$C$43,2,FALSE),0) -> 0
G33: =IFERROR(VLOOKUP(F33,'Criterios de valor. automáticos'!$B$41:$C$43,2,FALSE),0) -> 0
G34: =IFERROR(VLOOKUP(F34,'Criterios de valor. automáticos'!$B$41:$C$43,2,FALSE),0) -> 0
G35: =IFERROR(VLOOKUP(F35,'Criterios de valor. automáticos'!$B$41:$C$43,2,FALSE),0) -> 0
G36: =IFERROR(VLOOKUP(F36,'Criterios de valor. automáticos'!$B$41:$C$43,2,FALSE),0) -> 0
G37: =IFERROR(VLOOKUP(F37,'Criterios de valor. automáticos'!$B$41:$C$43,2,FALSE),0) -> 0
G38: =IFERROR(VLOOKUP(F38,'Criterios de valor. automáticos'!$B$41:$C$43,2,FALSE),0) -> 0
B39: Subtotal | G39: =IF(GESTEP(SUM(G32:G38),MAX_CERTIFICACIONES),MAX_CERTIFICACIONES,SUM(G32:G38)) -> 0
B41: Formación reglada
B42: Título | F42: Nivel MECES | G42: Puntuación
G43: =IF(GESTEP(IFERROR(F43-VLOOKUP($C$6,'Criterios de valor. automáticos'!$B$50:$C$52,2,FALSE),0)),IFERROR(F43-VLOOKUP($C$6,'Criterios de valor. automáticos'!$B$50:$C$52,2,FALSE),0),0) -> 0
G44: =IF(GESTEP(IFERROR(F44-VLOOKUP($C$6,'Criterios de valor. automáticos'!$B$50:$C$52,2,FALSE),0)),IFERROR(F44-VLOOKUP($C$6,'Criterios de valor. automáticos'!$B$50:$C$52,2,FALSE),0),0) -> 0
G45: =IF(GESTEP(IFERROR(F45-VLOOKUP($C$6,'Criterios de valor. automáticos'!$B$50:$C$52,2,FALSE),0)),IFERROR(F45-VLOOKUP($C$6,'Criterios de valor. automáticos'!$B$50:$C$52,2,FALSE),0),0) -> 0
G46: =IF(GESTEP(IFERROR(F46-VLOOKUP($C$6,'Criterios de valor. automáticos'!$B$50:$C$52,2,FALSE),0)),IFERROR(F46-VLOOKUP($C$6,'Criterios de valor. automáticos'!$B$50:$C$52,2,FALSE),0),0) -> 0
B47: Subtotal | G47: =IF(GESTEP(SUM(G43:G46),MAX_FORM_REGLADA),MAX_FORM_REGLADA,SUM(G43:G46)) -> 0
B49: Formación en tecnologías relevantes
B50: Título (Sistema) | E50: Relevancia | F50: Duración (horas) | G50: Puntuación
G51: =ROUNDDOWN(IFERROR(F51/VLOOKUP(E51,'Criterios de valor. automáticos'!$B$46:$D$47,2,FALSE),0),0) -> 0
G52: =ROUNDDOWN(IFERROR(F52/VLOOKUP(E52,'Criterios de valor. automáticos'!$B$46:$D$47,2,FALSE),0),0) -> 0
G53: =ROUNDDOWN(IFERROR(F53/VLOOKUP(E53,'Criterios de valor. automáticos'!$B$46:$D$47,2,FALSE),0),0) -> 0
G54: =ROUNDDOWN(IFERROR(F54/VLOOKUP(E54,'Criterios de valor. automáticos'!$B$46:$D$47,2,FALSE),0),0) -> 0
G55: =ROUNDDOWN(IFERROR(F55/VLOOKUP(E55,'Criterios de valor. automáticos'!$B$46:$D$47,2,FALSE),0),0) -> 0
B56: Subtotal | G56: =IF(GESTEP(SUM(G51:G55),MAX_FORM_TECNOLOGICA),MAX_FORM_TECNOLOGICA,SUM(G51:G55)) -> 0
B59: Total | G59: =G28+G39+G47+G56 -> 0

Sheet MICRO3
B2: Identificación del perfil
B3: Empresa licitante
B4: Empresa de pertenencia
B5: Número de recurso
B6: Categoría ofertada
B7: Servicio a administrar
B9: Experiencia mínima exigida en pliego en sistemas críticos relacionados con el servicio
B10: Sistema | D10: Relevancia | E10: Coincidencia | F10: Experiencia | G10: Puntuación
G11: -
G12: -
G13: -
G14: -
G15: -
B17: Experiencia en tecnologías relacionadas con el servicio
B18: Sistema | D18: Relevancia | E18: Coincidencia | F18: Experiencia | G18: Puntuación
G19: =IFERROR(VLOOKUP(_xlfn.CONCAT(VLOOKUP(F19,'Criterios de valor. automáticos'!$B$4:$C$6,2,FALSE),VLOOKUP(D19,'Criterios de valor. automáticos'!$B$9:$C$11,2,FALSE),VLOOKUP(E19,'Criterios de valor. automáticos'!$B$14:$C$16,2,FALSE)),'Criterios de valor. automáticos'!$E$4:$I$30,5,FALSE),0) -> 0
G20: =IFERROR(VLOOKUP(_xlfn.CONCAT(VLOOKUP(F20,'Criterios de valor. automáticos'!$B$4:$C$6,2,FALSE),VLOOKUP(D20,'Criterios de valor. automáticos'!$B$9:$C$11,2,FALSE),VLOOKUP(E20,'Criterios de valor. automáticos'!$B$14:$C$16,2,FALSE)),'Criterios de valor. automáticos'!$E$4:$I$30,5,FALSE),0) -> 0
G21: =IFERROR(VLOOKUP(_xlfn.CONCAT(VLOOKUP(F21,'Criterios de valor. automáticos'!$B$4:$C$6,2,FALSE),VLOOKUP(D21,'Criterios de valor. automáticos'!$B$9:$C$11,2,FALSE),VLOOKUP(E21,'Criterios de valor. automáticos'!$B$14:$C$16,2,FALSE)),'Criterios de valor. automáticos'!$E$4:$I$30,5,FALSE),0) -> 0
G22: =IFERROR(VLOOKUP(_xlfn.CONCAT(VLOOKUP(F22,'Criterios de valor. automáticos'!$B$4:$C$6,2,FALSE),VLOOKUP(D22,'Criterios de valor. automáticos'!$B$9:$C$11,2,FALSE),VLOOKUP(E22,'Criterios de valor. automáticos'!$B$14:$C$16,2,FALSE)),'Criterios de valor. automáticos'!$E$4:$I$30,5,FALSE),0) -> 0
G23: =IFERROR(VLOOKUP(_xlfn.CONCAT(VLOOKUP(F23,'Criterios de valor. automáticos'!$B$4:$C$6,2,FALSE),VLOOKUP(D23,'Criterios de valor. automáticos'!$B$9:$C$11,2,FALSE),VLOOKUP(E23,'Criterios de valor. automáticos'!$B$14:$C$16,2,FALSE)),'Criterios de valor. automáticos'!$E$4:$I$30,5,FALSE),0) -> 0
G24: =IFERROR(VLOOKUP(_xlfn.CONCAT(VLOOKUP(F24,'Criterios de valor. automáticos'!$B$4:$C$6,2,FALSE),VLOOKUP(D24,'Criterios de valor. automáticos'!$B$9:$C$11,2,FALSE),VLOOKUP(E24,'Criterios de valor. automáticos'!$B$14:$C$16,2,FALSE)),'Criterios de valor. automáticos'!$E$4:$I$30,5,FALSE),0) -> 0
G25: =IFERROR(VLOOKUP(_xlfn.CONCAT(VLOOKUP(F25,'Criterios de valor. automáticos'!$B$4:$C$6,2,FALSE),VLOOKUP(D25,'Criterios de valor. automáticos'!$B$9:$C$11,2,FALSE),VLOOKUP(E25,'Criterios de valor. automáticos'!$B$14:$C$16,2,FALSE)),'Criterios de valor. automáticos'!$E$4:$I$30,5,FALSE),0) -> 0
G26: =IFERROR(VLOOKUP(_xlfn.CONCAT(VLOOKUP(F26,'Criterios de valor. automáticos'!$B$4:$C$6,2,FALSE),VLOOKUP(D26,'Criterios de valor. automáticos'!$B$9:$C$11,2,FALSE),VLOOKUP(E26,'Criterios de valor. automáticos'!$B$14:$C$16,2,FALSE)),'Criterios de valor. automáticos'!$E$4:$I$30,5,FALSE),0) -> 0
G27: =IFERROR(VLOOKUP(_xlfn.CONCAT(VLOOKUP(F27,'Criterios de valor. automáticos'!$B$4:$C$6,2,FALSE),VLOOKUP(D27,'Criterios de valor. automáticos'!$B$9:$C$11,2,FALSE),VLOOKUP(E27,'Criterios de valor. automáticos'!$B$14:$C$16,2,FALSE)),'Criterios de valor. automáticos'!$E$4:$I$30,5,FALSE),0) -> 0
B28: Subtotal | G28: =IF(GESTEP(SUM(G19:G27),MAX_EXPERIENCIA),MAX_EXPERIENCIA,SUM(G19:G27)) -> 0
B30: Certificaciones en tecnologías relevantes
B31: Certificación | F31: Relevancia | G31: Puntuación
G32: =IFERROR(VLOOKUP(F32,'Criterios de valor. automáticos'!$B$41:$C$43,2,FALSE),0) -> 0
G33: =IFERROR(VLOOKUP(F33,'Criterios de valor. automáticos'!$B$41:$C$43,2,FALSE),0) -> 0
G34: =IFERROR(VLOOKUP(F34,'Criterios de valor. automáticos'!$B$41:$C$43,2,FALSE),0) -> 0
G35: =IFERROR(VLOOKUP(F35,'Criterios de valor. automáticos'!$B$41:$C$43,2,FALSE),0) -> 0
G36: =IFERROR(VLOOKUP(F36,'Criterios de valor. automáticos'!$B$41:$C$43,2,FALSE),0) -> 0
G37: =IFERROR(VLOOKUP(F37,'Criterios de valor. automáticos'!$B$41:$C$43,2,FALSE),0) -> 0
G38: =IFERROR(VLOOKUP(F38,'Criterios de valor. automáticos'!$B$41:$C$43,2,FALSE),0) -> 0
B39: Subtotal | G39: =IF(GESTEP(SUM(G32:G38),MAX_CERTIFICACIONES),MAX_CERTIFICACIONES,SUM(G32:G38)) -> 0
B41: Formación reglada
B42: Título | F42: Nivel MECES | G42: Puntuación
G43: =IF(GESTEP(IFERROR(F43-VLOOKUP($C$6,'Criterios de valor. automáticos'!$B$50:$C$52,2,FALSE),0)),IFERROR(F43-VLOOKUP($C$6,'Criterios de valor. automáticos'!$B$50:$C$52,2,FALSE),0),0) -> 0
G44: =IF(GESTEP(IFERROR(F44-VLOOKUP($C$6,'Criterios de valor. automáticos'!$B$50:$C$52,2,FALSE),0)),IFERROR(F44-VLOOKUP($C$6,'Criterios de valor. automáticos'!$B$50:$C$52,2,FALSE),0),0) -> 0
G45: =IF(GESTEP(IFERROR(F45-VLOOKUP($C$6,'Criterios de valor. automáticos'!$B$50:$C$52,2,FALSE),0)),IFERROR(F45-VLOOKUP($C$6,'Criterios de valor. automáticos'!$B$50:$C$52,2,FALSE),0),0) -> 0
G46: =IF(GESTEP(IFERROR(F46-VLOOKUP($C$6,'Criterios de valor. automáticos'!$B$50:$C$52,2,FALSE),0)),IFERROR(F46-VLOOKUP($C$6,'Criterios de valor. automáticos'!$B$50:$C$52,2,FALSE),0),0) -> 0
B47: Subtotal | G47: =IF(GESTEP(SUM(G43:G46),MAX_FORM_REGLADA),MAX_FORM_REGLADA,SUM(G43:G46)) -> 0
B49: Formación en tecnologías relevantes
B50: Título (Sistema) | E50: Relevancia | F50: Duración (horas) | G50: Puntuación
G51: =ROUNDDOWN(IFERROR(F51/VLOOKUP(E51,'Criterios de valor. automáticos'!$B$46:$D$47,2,FALSE),0),0) -> 0
G52: =ROUNDDOWN(IFERROR(F52/VLOOKUP(E52,'Criterios de valor. automáticos'!$B$46:$D$47,2,FALSE),0),0) -> 0
G53: =ROUNDDOWN(IFERROR(F53/VLOOKUP(E53,'Criterios de valor. automáticos'!$B$46:$D$47,2,FALSE),0),0) -> 0
G54: =ROUNDDOWN(IFERROR(F54/VLOOKUP(E54,'Criterios de valor. automáticos'!$B$46:$D$47,2,FALSE),0),0) -> 0
G55: =ROUNDDOWN(IFERROR(F55/VLOOKUP(E55,'Criterios de valor. automáticos'!$B$46:$D$47,2,FALSE),0),0) -> 0
B56: Subtotal | G56: =IF(GESTEP(SUM(G51:G55),MAX_FORM_TECNOLOGICA),MAX_FORM_TECNOLOGICA,SUM(G51:G55)) -> 0
B59: Total | G59: =G28+G39+G47+G56 -> 0

Sheet MICRO4
B2: Identificación del perfil
B3: Empresa licitante
B4: Empresa de pertenencia
B5: Número de recurso
B6: Categoría ofertada
B7: Servicio a administrar
B9: Experiencia mínima exigida en pliego en sistemas críticos relacionados con el servicio
B10: Sistema | D10: Relevancia | E10: Coincidencia | F10: Experiencia | G10: Puntuación
G11: -
G12: -
G13: -
G14: -
G15: -
B17: Experiencia en tecnologías relacionadas con el servicio
B18: Sistema | D18: Relevancia | E18: Coincidencia | F18: Experiencia | G18: Puntuación
G19: =IFERROR(VLOOKUP(_xlfn.CONCAT(VLOOKUP(F19,'Criterios de valor. automáticos'!$B$4:$C$6,2,FALSE),VLOOKUP(D19,'Criterios de valor. automáticos'!$B$9:$C$11,2,FALSE),VLOOKUP(E19,'Criterios de valor. automáticos'!$B$14:$C$16,2,FALSE)),'Criterios de valor. automáticos'!$E$4:$I$30,5,FALSE),0) -> 0
G20: =IFERROR(VLOOKUP(_xlfn.CONCAT(VLOOKUP(F20,'Criterios de valor. automáticos'!$B$4:$C$6,2,FALSE),VLOOKUP(D20,'Criterios de valor. automáticos'!$B$9:$C$11,2,FALSE),VLOOKUP(E20,'Criterios de valor. automáticos'!$B$14:$C$16,2,FALSE)),'Criterios de valor. automáticos'!$E$4:$I$30,5,FALSE),0) -> 0
G21: =IFERROR(VLOOKUP(_xlfn.CONCAT(VLOOKUP(F21,'Criterios de valor. automáticos'!$B$4:$C$6,2,FALSE),VLOOKUP(D21,'Criterios de valor. automáticos'!$B$9:$C$11,2,FALSE),VLOOKUP(E21,'Criterios de valor. automáticos'!$B$14:$C$16,2,FALSE)),'Criterios de valor. automáticos'!$E$4:$I$30,5,FALSE),0) -> 0
G22: =IFERROR(VLOOKUP(_xlfn.CONCAT(VLOOKUP(F22,'Criterios de valor. automáticos'!$B$4:$C$6,2,FALSE),VLOOKUP(D22,'Criterios de valor. automáticos'!$B$9:$C$11,2,FALSE),VLOOKUP(E22,'Criterios de valor. automáticos'!$B$14:$C$16,2,FALSE)),'Criterios de valor. automáticos'!$E$4:$I$30,5,FALSE),0) -> 0
G23: =IFERROR(VLOOKUP(_xlfn.CONCAT(VLOOKUP(F23,'Criterios de valor. automáticos'!$B$4:$C$6,2,FALSE),VLOOKUP(D23,'Criterios de valor. automáticos'!$B$9:$C$11,2,FALSE),VLOOKUP(E23,'Criterios de valor. automáticos'!$B$14:$C$16,2,FALSE)),'Criterios de valor. automáticos'!$E$4:$I$30,5,FALSE),0) -> 0
G24: =IFERROR(VLOOKUP(_xlfn.CONCAT(VLOOKUP(F24,'Criterios de valor. automáticos'!$B$4:$C$6,2,FALSE),VLOOKUP(D24,'Criterios de valor. automáticos'!$B$9:$C$11,2,FALSE),VLOOKUP(E24,'Criterios de valor. automáticos'!$B$14:$C$16,2,FALSE)),'Criterios de valor. automáticos'!$E$4:$I$30,5,FALSE),0) -> 0
G25: =IFERROR(VLOOKUP(_xlfn.CONCAT(VLOOKUP(F25,'Criterios de valor. automáticos'!$B$4:$C$6,2,FALSE),VLOOKUP(D25,'Criterios de valor. automáticos'!$B$9:$C$11,2,FALSE),VLOOKUP(E25,'Criterios de valor. automáticos'!$B$14:$C$16,2,FALSE)),'Criterios de valor. automáticos'!$E$4:$I$30,5,FALSE),0) -> 0
G26: =IFERROR(VLOOKUP(_xlfn.CONCAT(VLOOKUP(F26,'Criterios de valor. automáticos'!$B$4:$C$6,2,FALSE),VLOOKUP(D26,'Criterios de valor. automáticos'!$B$9:$C$11,2,FALSE),VLOOKUP(E26,'Criterios de valor. automáticos'!$B$14:$C$16,2,FALSE)),'Criterios de valor. automáticos'!$E$4:$I$30,5,FALSE),0) -> 0
G27: =IFERROR(VLOOKUP(_xlfn.CONCAT(VLOOKUP(F27,'Criterios de valor. automáticos'!$B$4:$C$6,2,FALSE),VLOOKUP(D27,'Criterios de valor. automáticos'!$B$9:$C$11,2,FALSE),VLOOKUP(E27,'Criterios de valor. automáticos'!$B$14:$C$16,2,FALSE)),'Criterios de valor. automáticos'!$E$4:$I$30,5,FALSE),0) -> 0
B28: Subtotal | G28: =IF(GESTEP(SUM(G19:G27),MAX_EXPERIENCIA),MAX_EXPERIENCIA,SUM(G19:G27)) -> 0
B30: Certificaciones en tecnologías relevantes
B31: Certificación | F31: Relevancia | G31: Puntuación
G32: =IFERROR(VLOOKUP(F32,'Criterios de valor. automáticos'!$B$41:$C$43,2,FALSE),0) -> 0
G33: =IFERROR(VLOOKUP(F33,'Criterios de valor. automáticos'!$B$41:$C$43,2,FALSE),0) -> 0
G34: =IFERROR(VLOOKUP(F34,'Criterios de valor. automáticos'!$B$41:$C$43,2,FALSE),0) -> 0
G35: =IFERROR(VLOOKUP(F35,'Criterios de valor. automáticos'!$B$41:$C$43,2,FALSE),0) -> 0
G36: =IFERROR(VLOOKUP(F36,'Criterios de valor. automáticos'!$B$41:$C$43,2,FALSE),0) -> 0
G37: =IFERROR(VLOOKUP(F37,'Criterios de valor. automáticos'!$B$41:$C$43,2,FALSE),0) -> 0
G38: =IFERROR(VLOOKUP(F38,'Criterios de valor. automáticos'!$B$41:$C$43,2,FALSE),0) -> 0
B39: Subtotal | G39: =IF(GESTEP(SUM(G32:G38),MAX_CERTIFICACIONES),MAX_CERTIFICACIONES,SUM(G32:G38)) -> 0
B41: Formación reglada
B42: Título | F42: Nivel MECES | G42: Puntuación
G43: =IF(GESTEP(IFERROR(F43-VLOOKUP($C$6,'Criterios de valor. automáticos'!$B$50:$C$52,2,FALSE),0)),IFERROR(F43-VLOOKUP($C$6,'Criterios de valor. automáticos'!$B$50:$C$52,2,FALSE),0),0) -> 0
G44: =IF(GESTEP(IFERROR(F44-VLOOKUP($C$6,'Criterios de valor. automáticos'!$B$50:$C$52,2,FALSE),0)),IFERROR(F44-VLOOKUP($C$6,'Criterios de valor. automáticos'!$B$50:$C$52,2,FALSE),0),0) -> 0
G45: =IF(GESTEP(IFERROR(F45-VLOOKUP($C$6,'Criterios de valor. automáticos'!$B$50:$C$52,2,FALSE),0)),IFERROR(F45-VLOOKUP($C$6,'Criterios de valor. automáticos'!$B$50:$C$52,2,FALSE),0),0) -> 0
G46: =IF(GESTEP(IFERROR(F46-VLOOKUP($C$6,'Criterios de valor. automáticos'!$B$50:$C$52,2,FALSE),0)),IFERROR(F46-VLOOKUP($C$6,'Criterios de valor. automáticos'!$B$50:$C$52,2,FALSE),0),0) -> 0
B47: Subtotal | G47: =IF(GESTEP(SUM(G43:G46),MAX_FORM_REGLADA),MAX_FORM_REGLADA,SUM(G43:G46)) -> 0
B49: Formación en tecnologías relevantes
B50: Título (Sistema) | E50: Relevancia | F50: Duración (horas) | G50: Puntuación
G51: =ROUNDDOWN(IFERROR(F51/VLOOKUP(E51,'Criterios de valor. automáticos'!$B$46:$D$47,2,FALSE),0),0) -> 0
G52: =ROUNDDOWN(IFERROR(F52/VLOOKUP(E52,'Criterios de valor. automáticos'!$B$46:$D$47,2,FALSE),0),0) -> 0
G53: =ROUNDDOWN(IFERROR(F53/VLOOKUP(E53,'Criterios de valor. automáticos'!$B$46:$D$47,2,FALSE),0),0) -> 0
G54: =ROUNDDOWN(IFERROR(F54/VLOOKUP(E54,'Criterios de valor. automáticos'!$B$46:$D$47,2,FALSE),0),0) -> 0
G55: =ROUNDDOWN(IFERROR(F55/VLOOKUP(E55,'Criterios de valor. automáticos'!$B$46:$D$47,2,FALSE),0),0) -> 0
B56: Subtotal | G56: =IF(GESTEP(SUM(G51:G55),MAX_FORM_TECNOLOGICA),MAX_FORM_TECNOLOGICA,SUM(G51:G55)) -> 0
B59: Total | G59: =G28+G39+G47+G56 -> 0

Sheet MIDDLE1
B2: Identificación del perfil
B3: Empresa licitante
B4: Empresa de pertenencia
B5: Número de recurso
B6: Categoría ofertada
B7: Servicio a administrar
B9: Experiencia mínima exigida en pliego en sistemas críticos relacionados con el servicio
B10: Sistema | D10: Relevancia | E10: Coincidencia | F10: Experiencia | G10: Puntuación
G11: -
G12: -
G13: -
G14: -
G15: -
B17: Experiencia en tecnologías relacionadas con el servicio
B18: Sistema | D18: Relevancia | E18: Coincidencia | F18: Experiencia | G18: Puntuación
G19: =IFERROR(VLOOKUP(_xlfn.CONCAT(VLOOKUP(F19,'Criterios de valor. automáticos'!$B$4:$C$6,2,FALSE),VLOOKUP(D19,'Criterios de valor. automáticos'!$B$9:$C$11,2,FALSE),VLOOKUP(E19,'Criterios de valor. automáticos'!$B$14:$C$16,2,FALSE)),'Criterios de valor. automáticos'!$E$4:$I$30,5,FALSE),0) -> 0
G20: =IFERROR(VLOOKUP(_xlfn.CONCAT(VLOOKUP(F20,'Criterios de valor. automáticos'!$B$4:$C$6,2,FALSE),VLOOKUP(D20,'Criterios de valor. automáticos'!$B$9:$C$11,2,FALSE),VLOOKUP(E20,'Criterios de valor. automáticos'!$B$14:$C$16,2,FALSE)),'Criterios de valor. automáticos'!$E$4:$I$30,5,FALSE),0) -> 0
G21: =IFERROR(VLOOKUP(_xlfn.CONCAT(VLOOKUP(F21,'Criterios de valor. automáticos'!$B$4:$C$6,2,FALSE),VLOOKUP(D21,'Criterios de valor. automáticos'!$B$9:$C$11,2,FALSE),VLOOKUP(E21,'Criterios de valor. automáticos'!$B$14:$C$16,2,FALSE)),'Criterios de valor. automáticos'!$E$4:$I$30,5,FALSE),0) -> 0
G22: =IFERROR(VLOOKUP(_xlfn.CONCAT(VLOOKUP(F22,'Criterios de valor. automáticos'!$B$4:$C$6,2,FALSE),VLOOKUP(D22,'Criterios de valor. automáticos'!$B$9:$C$11,2,FALSE),VLOOKUP(E22,'Criterios de valor. automáticos'!$B$14:$C$16,2,FALSE)),'Criterios de valor. automáticos'!$E$4:$I$30,5,FALSE),0) -> 0
G23: =IFERROR(VLOOKUP(_xlfn.CONCAT(VLOOKUP(F23,'Criterios de valor. automáticos'!$B$4:$C$6,2,FALSE),VLOOKUP(D23,'Criterios de valor. automáticos'!$B$9:$C$11,2,FALSE),VLOOKUP(E23,'Criterios de valor. automáticos'!$B$14:$C$16,2,FALSE)),'Criterios de valor. automáticos'!$E$4:$I$30,5,FALSE),0) -> 0
G24: =IFERROR(VLOOKUP(_xlfn.CONCAT(VLOOKUP(F24,'Criterios de valor. automáticos'!$B$4:$C$6,2,FALSE),VLOOKUP(D24,'Criterios de valor. automáticos'!$B$9:$C$11,2,FALSE),VLOOKUP(E24,'Criterios de valor. automáticos'!$B$14:$C$16,2,FALSE)),'Criterios de valor. automáticos'!$E$4:$I$30,5,FALSE),0) -> 0
G25: =IFERROR(VLOOKUP(_xlfn.CONCAT(VLOOKUP(F25,'Criterios de valor. automáticos'!$B$4:$C$6,2,FALSE),VLOOKUP(D25,'Criterios de valor. automáticos'!$B$9:$C$11,2,FALSE),VLOOKUP(E25,'Criterios de valor. automáticos'!$B$14:$C$16,2,FALSE)),'Criterios de valor. automáticos'!$E$4:$I$30,5,FALSE),0) -> 0
G26: =IFERROR(VLOOKUP(_xlfn.CONCAT(VLOOKUP(F26,'Criterios de valor. automáticos'!$B$4:$C$6,2,FALSE),VLOOKUP(D26,'Criterios de valor. automáticos'!$B$9:$C$11,2,FALSE),VLOOKUP(E26,'Criterios de valor. automáticos'!$B$14:$C$16,2,FALSE)),'Criterios de valor. automáticos'!$E$4:$I$30,5,FALSE),0) -> 0
G27: =IFERROR(VLOOKUP(_xlfn.CONCAT(VLOOKUP(F27,'Criterios de valor. automáticos'!$B$4:$C$6,2,FALSE),VLOOKUP(D27,'Criterios de valor. automáticos'!$B$9:$C$11,2,FALSE),VLOOKUP(E27,'Criterios de valor. automáticos'!$B$14:$C$16,2,FALSE)),'Criterios de valor. automáticos'!$E$4:$I$30,5,FALSE),0) -> 0
B28: Subtotal | G28: =IF(GESTEP(SUM(G19:G27),MAX_EXPERIENCIA),MAX_EXPERIENCIA,SUM(G19:G27)) -> 0
B30: Certificaciones en tecnologías relevantes
B31: Certificación | F31: Relevancia | G31: Puntuación
G32: =IFERROR(VLOOKUP(F32,'Criterios de valor. automáticos'!$B$41:$C$43,2,FALSE),0) -> 0
G33: =IFERROR(VLOOKUP(F33,'Criterios de valor. automáticos'!$B$41:$C$43,2,FALSE),0) -> 0
G34: =IFERROR(VLOOKUP(F34,'Criterios de valor. automáticos'!$B$41:$C$43,2,FALSE),0) -> 0
G35: =IFERROR(VLOOKUP(F35,'Criterios de valor. automáticos'!$B$41:$C$43,2,FALSE),0) -> 0
G36: =IFERROR(VLOOKUP(F36,'Criterios de valor. automáticos'!$B$41:$C$43,2,FALSE),0) -> 0
G37: =IFERROR(VLOOKUP(F37,'Criterios de valor. automáticos'!$B$41:$C$43,2,FALSE),0) -> 0
G38: =IFERROR(VLOOKUP(F38,'Criterios de valor. automáticos'!$B$41:$C$43,2,FALSE),0) -> 0
B39: Subtotal | G39: =IF(GESTEP(SUM(G32:G38),MAX_CERTIFICACIONES),MAX_CERTIFICACIONES,SUM(G32:G38)) -> 0
B41: Formación reglada
B42: Título | F42: Nivel MECES | G42: Puntuación
G43: =IF(GESTEP(IFERROR(F43-VLOOKUP($C$6,'Criterios de valor. automáticos'!$B$50:$C$52,2,FALSE),0)),IFERROR(F43-VLOOKUP($C$6,'Criterios de valor. automáticos'!$B$50:$C$52,2,FALSE),0),0) -> 0
G44: =IF(GESTEP(IFERROR(F44-VLOOKUP($C$6,'Criterios de valor. automáticos'!$B$50:$C$52,2,FALSE),0)),IFERROR(F44-VLOOKUP($C$6,'Criterios de valor. automáticos'!$B$50:$C$52,2,FALSE),0),0) -> 0
G45: =IF(GESTEP(IFERROR(F45-VLOOKUP($C$6,'Criterios de valor. automáticos'!$B$50:$C$52,2,FALSE),0)),IFERROR(F45-VLOOKUP($C$6,'Criterios de valor. automáticos'!$B$50:$C$52,2,FALSE),0),0) -> 0
G46: =IF(GESTEP(IFERROR(F46-VLOOKUP($C$6,'Criterios de valor. automáticos'!$B$50:$C$52,2,FALSE),0)),IFERROR(F46-VLOOKUP($C$6,'Criterios de valor. automáticos'!$B$50:$C$52,2,FALSE),0),0) -> 0
B47: Subtotal | G47: =IF(GESTEP(SUM(G43:G46),MAX_FORM_REGLADA),MAX_FORM_REGLADA,SUM(G43:G46)) -> 0
B49: Formación en tecnologías relevantes
B50: Título (Sistema) | E50: Relevancia | F50: Duración (horas) | G50: Puntuación
G51: =ROUNDDOWN(IFERROR(F51/VLOOKUP(E51,'Criterios de valor. automáticos'!$B$46:$D$47,2,FALSE),0),0) -> 0
G52: =ROUNDDOWN(IFERROR(F52/VLOOKUP(E52,'Criterios de valor. automáticos'!$B$46:$D$47,2,FALSE),0),0) -> 0
G53: =ROUNDDOWN(IFERROR(F53/VLOOKUP(E53,'Criterios de valor. automáticos'!$B$46:$D$47,2,FALSE),0),0) -> 0
G54: =ROUNDDOWN(IFERROR(F54/VLOOKUP(E54,'Criterios de valor. automáticos'!$B$46:$D$47,2,FALSE),0),0) -> 0
G55: =ROUNDDOWN(IFERROR(F55/VLOOKUP(E55,'Criterios de valor. automáticos'!$B$46:$D$47,2,FALSE),0),0) -> 0
B56: Subtotal | G56: =IF(GESTEP(SUM(G51:G55),MAX_FORM_TECNOLOGICA),MAX_FORM_TECNOLOGICA,SUM(G51:G55)) -> 0
B59: Total | G59: =G28+G39+G47+G56 -> 0

Sheet MIDDLE2
B2: Identificación del perfil
B3: Empresa licitante
B4: Empresa de pertenencia
B5: Número de recurso
B6: Categoría ofertada
B7: Servicio a administrar
B9: Experiencia mínima exigida en pliego en sistemas críticos relacionados con el servicio
B10: Sistema | D10: Relevancia | E10: Coincidencia | F10: Experiencia | G10: Puntuación
G11: -
G12: -
G13: -
G14: -
G15: -
B17: Experiencia en tecnologías relacionadas con el servicio
B18: Sistema | D18: Relevancia | E18: Coincidencia | F18: Experiencia | G18: Puntuación
G19: =IFERROR(VLOOKUP(_xlfn.CONCAT(VLOOKUP(F19,'Criterios de valor. automáticos'!$B$4:$C$6,2,FALSE),VLOOKUP(D19,'Criterios de valor. automáticos'!$B$9:$C$11,2,FALSE),VLOOKUP(E19,'Criterios de valor. automáticos'!$B$14:$C$16,2,FALSE)),'Criterios de valor. automáticos'!$E$4:$I$30,5,FALSE),0) -> 0
G20: =IFERROR(VLOOKUP(_xlfn.CONCAT(VLOOKUP(F20,'Criterios de valor. automáticos'!$B$4:$C$6,2,FALSE),VLOOKUP(D20,'Criterios de valor. automáticos'!$B$9:$C$11,2,FALSE),VLOOKUP(E20,'Criterios de valor. automáticos'!$B$14:$C$16,2,FALSE)),'Criterios de valor. automáticos'!$E$4:$I$30,5,FALSE),0) -> 0
G21: =IFERROR(VLOOKUP(_xlfn.CONCAT(VLOOKUP(F21,'Criterios de valor. automáticos'!$B$4:$C$6,2,FALSE),VLOOKUP(D21,'Criterios de valor. automáticos'!$B$9:$C$11,2,FALSE),VLOOKUP(E21,'Criterios de valor. automáticos'!$B$14:$C$16,2,FALSE)),'Criterios de valor. automáticos'!$E$4:$I$30,5,FALSE),0) -> 0
G22: =IFERROR(VLOOKUP(_xlfn.CONCAT(VLOOKUP(F22,'Criterios de valor. automáticos'!$B$4:$C$6,2,FALSE),VLOOKUP(D22,'Criterios de valor. automáticos'!$B$9:$C$11,2,FALSE),VLOOKUP(E22,'Criterios de valor. automáticos'!$B$14:$C$16,2,FALSE)),'Criterios de valor. automáticos'!$E$4:$I$30,5,FALSE),0) -> 0
G23: =IFERROR(VLOOKUP(_xlfn.CONCAT(VLOOKUP(F23,'Criterios de valor. automáticos'!$B$4:$C$6,2,FALSE),VLOOKUP(D23,'Criterios de valor. automáticos'!$B$9:$C$11,2,FALSE),VLOOKUP(E23,'Criterios de valor. automáticos'!$B$14:$C$16,2,FALSE)),'Criterios de valor. automáticos'!$E$4:$I$30,5,FALSE),0) -> 0
G24: =IFERROR(VLOOKUP(_xlfn.CONCAT(VLOOKUP(F24,'Criterios de valor. automáticos'!$B$4:$C$6,2,FALSE),VLOOKUP(D24,'Criterios de valor. automáticos'!$B$9:$C$11,2,FALSE),VLOOKUP(E24,'Criterios de valor. automáticos'!$B$14:$C$16,2,FALSE)),'Criterios de valor. automáticos'!$E$4:$I$30,5,FALSE),0) -> 0
G25: =IFERROR(VLOOKUP(_xlfn.CONCAT(VLOOKUP(F25,'Criterios de valor. automáticos'!$B$4:$C$6,2,FALSE),VLOOKUP(D25,'Criterios de valor. automáticos'!$B$9:$C$11,2,FALSE),VLOOKUP(E25,'Criterios de valor. automáticos'!$B$14:$C$16,2,FALSE)),'Criterios de valor. automáticos'!$E$4:$I$30,5,FALSE),0) -> 0
G26: =IFERROR(VLOOKUP(_xlfn.CONCAT(VLOOKUP(F26,'Criterios de valor. automáticos'!$B$4:$C$6,2,FALSE),VLOOKUP(D26,'Criterios de valor. automáticos'!$B$9:$C$11,2,FALSE),VLOOKUP(E26,'Criterios de valor. automáticos'!$B$14:$C$16,2,FALSE)),'Criterios de valor. automáticos'!$E$4:$I$30,5,FALSE),0) -> 0
G27: =IFERROR(VLOOKUP(_xlfn.CONCAT(VLOOKUP(F27,'Criterios de valor. automáticos'!$B$4:$C$6,2,FALSE),VLOOKUP(D27,'Criterios de valor. automáticos'!$B$9:$C$11,2,FALSE),VLOOKUP(E27,'Criterios de valor. automáticos'!$B$14:$C$16,2,FALSE)),'Criterios de valor. automáticos'!$E$4:$I$30,5,FALSE),0) -> 0
B28: Subtotal | G28: =IF(GESTEP(SUM(G19:G27),MAX_EXPERIENCIA),MAX_EXPERIENCIA,SUM(G19:G27)) -> 0
B30: Certificaciones en tecnologías relevantes
B31: Certificación | F31: Relevancia | G31: Puntuación
G32: =IFERROR(VLOOKUP(F32,'Criterios de valor. automáticos'!$B$41:$C$43,2,FALSE),0) -> 0
G33: =IFERROR(VLOOKUP(F33,'Criterios de valor. automáticos'!$B$41:$C$43,2,FALSE),0) -> 0
G34: =IFERROR(VLOOKUP(F34,'Criterios de valor. automáticos'!$B$41:$C$43,2,FALSE),0) -> 0
G35: =IFERROR(VLOOKUP(F35,'Criterios de valor. automáticos'!$B$41:$C$43,2,FALSE),0) -> 0
G36: =IFERROR(VLOOKUP(F36,'Criterios de valor. automáticos'!$B$41:$C$43,2,FALSE),0) -> 0
G37: =IFERROR(VLOOKUP(F37,'Criterios de valor. automáticos'!$B$41:$C$43,2,FALSE),0) -> 0
G38: =IFERROR(VLOOKUP(F38,'Criterios de valor. automáticos'!$B$41:$C$43,2,FALSE),0) -> 0
B39: Subtotal | G39: =IF(GESTEP(SUM(G32:G38),MAX_CERTIFICACIONES),MAX_CERTIFICACIONES,SUM(G32:G38)) -> 0
B41: Formación reglada
B42: Título | F42: Nivel MECES | G42: Puntuación
G43: =IF(GESTEP(IFERROR(F43-VLOOKUP($C$6,'Criterios de valor. automáticos'!$B$50:$C$52,2,FALSE),0)),IFERROR(F43-VLOOKUP($C$6,'Criterios de valor. automáticos'!$B$50:$C$52,2,FALSE),0),0) -> 0
G44: =IF(GESTEP(IFERROR(F44-VLOOKUP($C$6,'Criterios de valor. automáticos'!$B$50:$C$52,2,FALSE),0)),IFERROR(F44-VLOOKUP($C$6,'Criterios de valor. automáticos'!$B$50:$C$52,2,FALSE),0),0) -> 0
G45: =IF(GESTEP(IFERROR(F45-VLOOKUP($C$6,'Criterios de valor. automáticos'!$B$50:$C$52,2,FALSE),0)),IFERROR(F45-VLOOKUP($C$6,'Criterios de valor. automáticos'!$B$50:$C$52,2,FALSE),0),0) -> 0
G46: =IF(GESTEP(IFERROR(F46-VLOOKUP($C$6,'Criterios de valor. automáticos'!$B$50:$C$52,2,FALSE),0)),IFERROR(F46-VLOOKUP($C$6,'Criterios de valor. automáticos'!$B$50:$C$52,2,FALSE),0),0) -> 0
B47: Subtotal | G47: =IF(GESTEP(SUM(G43:G46),MAX_FORM_REGLADA),MAX_FORM_REGLADA,SUM(G43:G46)) -> 0
B49: Formación en tecnologías relevantes
B50: Título (Sistema) | E50: Relevancia | F50: Duración (horas) | G50: Puntuación
G51: =ROUNDDOWN(IFERROR(F51/VLOOKUP(E51,'Criterios de valor. automáticos'!$B$46:$D$47,2,FALSE),0),0) -> 0
G52: =ROUNDDOWN(IFERROR(F52/VLOOKUP(E52,'Criterios de valor. automáticos'!$B$46:$D$47,2,FALSE),0),0) -> 0
G53: =ROUNDDOWN(IFERROR(F53/VLOOKUP(E53,'Criterios de valor. automáticos'!$B$46:$D$47,2,FALSE),0),0) -> 0
G54: =ROUNDDOWN(IFERROR(F54/VLOOKUP(E54,'Criterios de valor. automáticos'!$B$46:$D$47,2,FALSE),0),0) -> 0
G55: =ROUNDDOWN(IFERROR(F55/VLOOKUP(E55,'Criterios de valor. automáticos'!$B$46:$D$47,2,FALSE),0),0) -> 0
B56: Subtotal | G56: =IF(GESTEP(SUM(G51:G55),MAX_FORM_TECNOLOGICA),MAX_FORM_TECNOLOGICA,SUM(G51:G55)) -> 0
B59: Total | G59: =G28+G39+G47+G56 -> 0

Sheet MIDDLE3
B2: Identificación del perfil
B3: Empresa licitante
B4: Empresa de pertenencia
B5: Número de recurso
B6: Categoría ofertada
B7: Servicio a administrar
B9: Experiencia mínima exigida en pliego en sistemas críticos relacionados con el servicio
B10: Sistema | D10: Relevancia | E10: Coincidencia | F10: Experiencia | G10: Puntuación
G11: -
G12: -
G13: -
G14: -
G15: -
B17: Experiencia en tecnologías relacionadas con el servicio
B18: Sistema | D18: Relevancia | E18: Coincidencia | F18: Experiencia | G18: Puntuación
G19: =IFERROR(VLOOKUP(_xlfn.CONCAT(VLOOKUP(F19,'Criterios de valor. automáticos'!$B$4:$C$6,2,FALSE),VLOOKUP(D19,'Criterios de valor. automáticos'!$B$9:$C$11,2,FALSE),VLOOKUP(E19,'Criterios de valor. automáticos'!$B$14:$C$16,2,FALSE)),'Criterios de valor. automáticos'!$E$4:$I$30,5,FALSE),0) -> 0
G20: =IFERROR(VLOOKUP(_xlfn.CONCAT(VLOOKUP(F20,'Criterios de valor. automáticos'!$B$4:$C$6,2,FALSE),VLOOKUP(D20,'Criterios de valor. automáticos'!$B$9:$C$11,2,FALSE),VLOOKUP(E20,'Criterios de valor. automáticos'!$B$14:$C$16,2,FALSE)),'Criterios de valor. automáticos'!$E$4:$I$30,5,FALSE),0) -> 0
G21: =IFERROR(VLOOKUP(_xlfn.CONCAT(VLOOKUP(F21,'Criterios de valor. automáticos'!$B$4:$C$6,2,FALSE),VLOOKUP(D21,'Criterios de valor. automáticos'!$B$9:$C$11,2,FALSE),VLOOKUP(E21,'Criterios de valor. automáticos'!$B$14:$C$16,2,FALSE)),'Criterios de valor. automáticos'!$E$4:$I$30,5,FALSE),0) -> 0
G22: =IFERROR(VLOOKUP(_xlfn.CONCAT(VLOOKUP(F22,'Criterios de valor. automáticos'!$B$4:$C$6,2,FALSE),VLOOKUP(D22,'Criterios de valor. automáticos'!$B$9:$C$11,2,FALSE),VLOOKUP(E22,'Criterios de valor. automáticos'!$B$14:$C$16,2,FALSE)),'Criterios de valor. automáticos'!$E$4:$I$30,5,FALSE),0) -> 0
G23: =IFERROR(VLOOKUP(_xlfn.CONCAT(VLOOKUP(F23,'Criterios de valor. automáticos'!$B$4:$C$6,2,FALSE),VLOOKUP(D23,'Criterios de valor. automáticos'!$B$9:$C$11,2,FALSE),VLOOKUP(E23,'Criterios de valor. automáticos'!$B$14:$C$16,2,FALSE)),'Criterios de valor. automáticos'!$E$4:$I$30,5,FALSE),0) -> 0
G24: =IFERROR(VLOOKUP(_xlfn.CONCAT(VLOOKUP(F24,'Criterios de valor. automáticos'!$B$4:$C$6,2,FALSE),VLOOKUP(D24,'Criterios de valor. automáticos'!$B$9:$C$11,2,FALSE),VLOOKUP(E24,'Criterios de valor. automáticos'!$B$14:$C$16,2,FALSE)),'Criterios de valor. automáticos'!$E$4:$I$30,5,FALSE),0) -> 0
G25: =IFERROR(VLOOKUP(_xlfn.CONCAT(VLOOKUP(F25,'Criterios de valor. automáticos'!$B$4:$C$6,2,FALSE),VLOOKUP(D25,'Criterios de valor. automáticos'!$B$9:$C$11,2,FALSE),VLOOKUP(E25,'Criterios de valor. automáticos'!$B$14:$C$16,2,FALSE)),'Criterios de valor. automáticos'!$E$4:$I$30,5,FALSE),0) -> 0
G26: =IFERROR(VLOOKUP(_xlfn.CONCAT(VLOOKUP(F26,'Criterios de valor. automáticos'!$B$4:$C$6,2,FALSE),VLOOKUP(D26,'Criterios de valor. automáticos'!$B$9:$C$11,2,FALSE),VLOOKUP(E26,'Criterios de valor. automáticos'!$B$14:$C$16,2,FALSE)),'Criterios de valor. automáticos'!$E$4:$I$30,5,FALSE),0) -> 0
G27: =IFERROR(VLOOKUP(_xlfn.CONCAT(VLOOKUP(F27,'Criterios de valor. automáticos'!$B$4:$C$6,2,FALSE),VLOOKUP(D27,'Criterios de valor. automáticos'!$B$9:$C$11,2,FALSE),VLOOKUP(E27,'Criterios de valor. automáticos'!$B$14:$C$16,2,FALSE)),'Criterios de valor. automáticos'!$E$4:$I$30,5,FALSE),0) -> 0
B28: Subtotal | G28: =IF(GESTEP(SUM(G19:G27),MAX_EXPERIENCIA),MAX_EXPERIENCIA,SUM(G19:G27)) -> 0
B30: Certificaciones en tecnologías relevantes
B31: Certificación | F31: Relevancia | G31: Puntuación
G32: =IFERROR(VLOOKUP(F32,'Criterios de valor. automáticos'!$B$41:$C$43,2,FALSE),0) -> 0
G33: =IFERROR(VLOOKUP(F33,'Criterios de valor. automáticos'!$B$41:$C$43,2,FALSE),0) -> 0
G34: =IFERROR(VLOOKUP(F34,'Criterios de valor. automáticos'!$B$41:$C$43,2,FALSE),0) -> 0
G35: =IFERROR(VLOOKUP(F35,'Criterios de valor. automáticos'!$B$41:$C$43,2,FALSE),0) -> 0
G36: =IFERROR(VLOOKUP(F36,'Criterios de valor. automáticos'!$B$41:$C$43,2,FALSE),0) -> 0
G37: =IFERROR(VLOOKUP(F37,'Criterios de valor. automáticos'!$B$41:$C$43,2,FALSE),0) -> 0
G38: =IFERROR(VLOOKUP(F38,'Criterios de valor. automáticos'!$B$41:$C$43,2,FALSE),0) -> 0
B39: Subtotal | G39: =IF(GESTEP(SUM(G32:G38),MAX_CERTIFICACIONES),MAX_CERTIFICACIONES,SUM(G32:G38)) -> 0
B41: Formación reglada
B42: Título | F42: Nivel MECES | G42: Puntuación
G43: =IF(GESTEP(IFERROR(F43-VLOOKUP($C$6,'Criterios de valor. automáticos'!$B$50:$C$52,2,FALSE),0)),IFERROR(F43-VLOOKUP($C$6,'Criterios de valor. automáticos'!$B$50:$C$52,2,FALSE),0),0) -> 0
G44: =IF(GESTEP(IFERROR(F44-VLOOKUP($C$6,'Criterios de valor. automáticos'!$B$50:$C$52,2,FALSE),0)),IFERROR(F44-VLOOKUP($C$6,'Criterios de valor. automáticos'!$B$50:$C$52,2,FALSE),0),0) -> 0
G45: =IF(GESTEP(IFERROR(F45-VLOOKUP($C$6,'Criterios de valor. automáticos'!$B$50:$C$52,2,FALSE),0)),IFERROR(F45-VLOOKUP($C$6,'Criterios de valor. automáticos'!$B$50:$C$52,2,FALSE),0),0) -> 0
G46: =IF(GESTEP(IFERROR(F46-VLOOKUP($C$6,'Criterios de valor. automáticos'!$B$50:$C$52,2,FALSE),0)),IFERROR(F46-VLOOKUP($C$6,'Criterios de valor. automáticos'!$B$50:$C$52,2,FALSE),0),0) -> 0
B47: Subtotal | G47: =IF(GESTEP(SUM(G43:G46),MAX_FORM_REGLADA),MAX_FORM_REGLADA,SUM(G43:G46)) -> 0
B49: Formación en tecnologías relevantes
B50: Título (Sistema) | E50: Relevancia | F50: Duración (horas) | G50: Puntuación
G51: =ROUNDDOWN(IFERROR(F51/VLOOKUP(E51,'Criterios de valor. automáticos'!$B$46:$D$47,2,FALSE),0),0) -> 0
G52: =ROUNDDOWN(IFERROR(F52/VLOOKUP(E52,'Criterios de valor. automáticos'!$B$46:$D$47,2,FALSE),0),0) -> 0
G53: =ROUNDDOWN(IFERROR(F53/VLOOKUP(E53,'Criterios de valor. automáticos'!$B$46:$D$47,2,FALSE),0),0) -> 0
G54: =ROUNDDOWN(IFERROR(F54/VLOOKUP(E54,'Criterios de valor. automáticos'!$B$46:$D$47,2,FALSE),0),0) -> 0
G55: =ROUNDDOWN(IFERROR(F55/VLOOKUP(E55,'Criterios de valor. automáticos'!$B$46:$D$47,2,FALSE),0),0) -> 0
B56: Subtotal | G56: =IF(GESTEP(SUM(G51:G55),MAX_FORM_TECNOLOGICA),MAX_FORM_TECNOLOGICA,SUM(G51:G55)) -> 0
B59: Total | G59: =G28+G39+G47+G56 -> 0

Sheet DOCS
B2: Identificación del perfil
B3: Empresa licitante
B4: Empresa de pertenencia
B5: Número de recurso
B6: Categoría ofertada
B7: Servicio a administrar
B9: Experiencia mínima exigida en pliego en sistemas críticos relacionados con el servicio
B10: Sistema | D10: Relevancia | E10: Coincidencia | F10: Experiencia | G10: Puntuación
G11: -
G12: -
G13: -
G14: -
G15: -
B17: Experiencia en tecnologías relacionadas con el servicio
B18: Sistema | D18: Relevancia | E18: Coincidencia | F18: Experiencia | G18: Puntuación
G19: =IFERROR(VLOOKUP(_xlfn.CONCAT(VLOOKUP(F19,'Criterios de valor. automáticos'!$B$4:$C$6,2,FALSE),VLOOKUP(D19,'Criterios de valor. automáticos'!$B$9:$C$11,2,FALSE),VLOOKUP(E19,'Criterios de valor. automáticos'!$B$14:$C$16,2,FALSE)),'Criterios de valor. automáticos'!$E$4:$I$30,5,FALSE),0) -> 0
G20: =IFERROR(VLOOKUP(_xlfn.CONCAT(VLOOKUP(F20,'Criterios de valor. automáticos'!$B$4:$C$6,2,FALSE),VLOOKUP(D20,'Criterios de valor. automáticos'!$B$9:$C$11,2,FALSE),VLOOKUP(E20,'Criterios de valor. automáticos'!$B$14:$C$16,2,FALSE)),'Criterios de valor. automáticos'!$E$4:$I$30,5,FALSE),0) -> 0
G21: =IFERROR(VLOOKUP(_xlfn.CONCAT(VLOOKUP(F21,'Criterios de valor. automáticos'!$B$4:$C$6,2,FALSE),VLOOKUP(D21,'Criterios de valor. automáticos'!$B$9:$C$11,2,FALSE),VLOOKUP(E21,'Criterios de valor. automáticos'!$B$14:$C$16,2,FALSE)),'Criterios de valor. automáticos'!$E$4:$I$30,5,FALSE),0) -> 0
G22: =IFERROR(VLOOKUP(_xlfn.CONCAT(VLOOKUP(F22,'Criterios de valor. automáticos'!$B$4:$C$6,2,FALSE),VLOOKUP(D22,'Criterios de valor. automáticos'!$B$9:$C$11,2,FALSE),VLOOKUP(E22,'Criterios de valor. automáticos'!$B$14:$C$16,2,FALSE)),'Criterios de valor. automáticos'!$E$4:$I$30,5,FALSE),0) -> 0
G23: =IFERROR(VLOOKUP(_xlfn.CONCAT(VLOOKUP(F23,'Criterios de valor. automáticos'!$B$4:$C$6,2,FALSE),VLOOKUP(D23,'Criterios de valor. automáticos'!$B$9:$C$11,2,FALSE),VLOOKUP(E23,'Criterios de valor. automáticos'!$B$14:$C$16,2,FALSE)),'Criterios de valor. automáticos'!$E$4:$I$30,5,FALSE),0) -> 0
G24: =IFERROR(VLOOKUP(_xlfn.CONCAT(VLOOKUP(F24,'Criterios de valor. automáticos'!$B$4:$C$6,2,FALSE),VLOOKUP(D24,'Criterios de valor. automáticos'!$B$9:$C$11,2,FALSE),VLOOKUP(E24,'Criterios de valor. automáticos'!$B$14:$C$16,2,FALSE)),'Criterios de valor. automáticos'!$E$4:$I$30,5,FALSE),0) -> 0
G25: =IFERROR(VLOOKUP(_xlfn.CONCAT(VLOOKUP(F25,'Criterios de valor. automáticos'!$B$4:$C$6,2,FALSE),VLOOKUP(D25,'Criterios de valor. automáticos'!$B$9:$C$11,2,FALSE),VLOOKUP(E25,'Criterios de valor. automáticos'!$B$14:$C$16,2,FALSE)),'Criterios de valor. automáticos'!$E$4:$I$30,5,FALSE),0) -> 0
G26: =IFERROR(VLOOKUP(_xlfn.CONCAT(VLOOKUP(F26,'Criterios de valor. automáticos'!$B$4:$C$6,2,FALSE),VLOOKUP(D26,'Criterios de valor. automáticos'!$B$9:$C$11,2,FALSE),VLOOKUP(E26,'Criterios de valor. automáticos'!$B$14:$C$16,2,FALSE)),'Criterios de valor. automáticos'!$E$4:$I$30,5,FALSE),0) -> 0
G27: =IFERROR(VLOOKUP(_xlfn.CONCAT(VLOOKUP(F27,'Criterios de valor. automáticos'!$B$4:$C$6,2,FALSE),VLOOKUP(D27,'Criterios de valor. automáticos'!$B$9:$C$11,2,FALSE),VLOOKUP(E27,'Criterios de valor. automáticos'!$B$14:$C$16,2,FALSE)),'Criterios de valor. automáticos'!$E$4:$I$30,5,FALSE),0) -> 0
B28: Subtotal | G28: =IF(GESTEP(SUM(G19:G27),MAX_EXPERIENCIA),MAX_EXPERIENCIA,SUM(G19:G27)) -> 0
B30: Certificaciones en tecnologías relevantes
B31: Certificación | F31: Relevancia | G31: Puntuación
G32: =IFERROR(VLOOKUP(F32,'Criterios de valor. automáticos'!$B$41:$C$43,2,FALSE),0) -> 0
G33: =IFERROR(VLOOKUP(F33,'Criterios de valor. automáticos'!$B$41:$C$43,2,FALSE),0) -> 0
G34: =IFERROR(VLOOKUP(F34,'Criterios de valor. automáticos'!$B$41:$C$43,2,FALSE),0) -> 0
G35: =IFERROR(VLOOKUP(F35,'Criterios de valor. automáticos'!$B$41:$C$43,2,FALSE),0) -> 0
G36: =IFERROR(VLOOKUP(F36,'Criterios de valor. automáticos'!$B$41:$C$43,2,FALSE),0) -> 0
G37: =IFERROR(VLOOKUP(F37,'Criterios de valor. automáticos'!$B$41:$C$43,2,FALSE),0) -> 0
G38: =IFERROR(VLOOKUP(F38,'Criterios de valor. automáticos'!$B$41:$C$43,2,FALSE),0) -> 0
B39: Subtotal | G39: =IF(GESTEP(SUM(G32:G38),MAX_CERTIFICACIONES),MAX_CERTIFICACIONES,SUM(G32:G38)) -> 0
B41: Formación reglada
B42: Título | F42: Nivel MECES | G42: Puntuación
G43: =IF(GESTEP(IFERROR(F43-VLOOKUP($C$6,'Criterios de valor. automáticos'!$B$50:$C$52,2,FALSE),0)),IFERROR(F43-VLOOKUP($C$6,'Criterios de valor. automáticos'!$B$50:$C$52,2,FALSE),0),0) -> 0
G44: =IF(GESTEP(IFERROR(F44-VLOOKUP($C$6,'Criterios de valor. automáticos'!$B$50:$C$52,2,FALSE),0)),IFERROR(F44-VLOOKUP($C$6,'Criterios de valor. automáticos'!$B$50:$C$52,2,FALSE),0),0) -> 0
G45: =IF(GESTEP(IFERROR(F45-VLOOKUP($C$6,'Criterios de valor. automáticos'!$B$50:$C$52,2,FALSE),0)),IFERROR(F45-VLOOKUP($C$6,'Criterios de valor. automáticos'!$B$50:$C$52,2,FALSE),0),0) -> 0
G46: =IF(GESTEP(IFERROR(F46-VLOOKUP($C$6,'Criterios de valor. automáticos'!$B$50:$C$52,2,FALSE),0)),IFERROR(F46-VLOOKUP($C$6,'Criterios de valor. automáticos'!$B$50:$C$52,2,FALSE),0),0) -> 0
B47: Subtotal | G47: =IF(GESTEP(SUM(G43:G46),MAX_FORM_REGLADA),MAX_FORM_REGLADA,SUM(G43:G46)) -> 0
B49: Formación en tecnologías relevantes
B50: Título (Sistema) | E50: Relevancia | F50: Duración (horas) | G50: Puntuación
G51: =ROUNDDOWN(IFERROR(F51/VLOOKUP(E51,'Criterios de valor. automáticos'!$B$46:$D$47,2,FALSE),0),0) -> 0
G52: =ROUNDDOWN(IFERROR(F52/VLOOKUP(E52,'Criterios de valor. automáticos'!$B$46:$D$47,2,FALSE),0),0) -> 0
G53: =ROUNDDOWN(IFERROR(F53/VLOOKUP(E53,'Criterios de valor. automáticos'!$B$46:$D$47,2,FALSE),0),0) -> 0
G54: =ROUNDDOWN(IFERROR(F54/VLOOKUP(E54,'Criterios de valor. automáticos'!$B$46:$D$47,2,FALSE),0),0) -> 0
G55: =ROUNDDOWN(IFERROR(F55/VLOOKUP(E55,'Criterios de valor. automáticos'!$B$46:$D$47,2,FALSE),0),0) -> 0
B56: Subtotal | G56: =IF(GESTEP(SUM(G51:G55),MAX_FORM_TECNOLOGICA),MAX_FORM_TECNOLOGICA,SUM(G51:G55)) -> 0
B59: Total | G59: =G28+G39+G47+G56 -> 0

Sheet ALMA
B2: Identificación del perfil
B3: Empresa licitante
B4: Empresa de pertenencia
B5: Número de recurso
B6: Categoría ofertada
B7: Servicio a administrar
B9: Experiencia mínima exigida en pliego en sistemas críticos relacionados con el servicio
B10: Sistema | D10: Relevancia | E10: Coincidencia | F10: Experiencia | G10: Puntuación
G11: -
G12: -
G13: -
G14: -
G15: -
B17: Experiencia en tecnologías relacionadas con el servicio
B18: Sistema | D18: Relevancia | E18: Coincidencia | F18: Experiencia | G18: Puntuación
G19: =IFERROR(VLOOKUP(_xlfn.CONCAT(VLOOKUP(F19,'Criterios de valor. automáticos'!$B$4:$C$6,2,FALSE),VLOOKUP(D19,'Criterios de valor. automáticos'!$B$9:$C$11,2,FALSE),VLOOKUP(E19,'Criterios de valor. automáticos'!$B$14:$C$16,2,FALSE)),'Criterios de valor. automáticos'!$E$4:$I$30,5,FALSE),0) -> 0
G20: =IFERROR(VLOOKUP(_xlfn.CONCAT(VLOOKUP(F20,'Criterios de valor. automáticos'!$B$4:$C$6,2,FALSE),VLOOKUP(D20,'Criterios de valor. automáticos'!$B$9:$C$11,2,FALSE),VLOOKUP(E20,'Criterios de valor. automáticos'!$B$14:$C$16,2,FALSE)),'Criterios de valor. automáticos'!$E$4:$I$30,5,FALSE),0) -> 0
G21: =IFERROR(VLOOKUP(_xlfn.CONCAT(VLOOKUP(F21,'Criterios de valor. automáticos'!$B$4:$C$6,2,FALSE),VLOOKUP(D21,'Criterios de valor. automáticos'!$B$9:$C$11,2,FALSE),VLOOKUP(E21,'Criterios de valor. automáticos'!$B$14:$C$16,2,FALSE)),'Criterios de valor. automáticos'!$E$4:$I$30,5,FALSE),0) -> 0
G22: =IFERROR(VLOOKUP(_xlfn.CONCAT(VLOOKUP(F22,'Criterios de valor. automáticos'!$B$4:$C$6,2,FALSE),VLOOKUP(D22,'Criterios de valor. automáticos'!$B$9:$C$11,2,FALSE),VLOOKUP(E22,'Criterios de valor. automáticos'!$B$14:$C$16,2,FALSE)),'Criterios de valor. automáticos'!$E$4:$I$30,5,FALSE),0) -> 0
G23: =IFERROR(VLOOKUP(_xlfn.CONCAT(VLOOKUP(F23,'Criterios de valor. automáticos'!$B$4:$C$6,2,FALSE),VLOOKUP(D23,'Criterios de valor. automáticos'!$B$9:$C$11,2,FALSE),VLOOKUP(E23,'Criterios de valor. automáticos'!$B$14:$C$16,2,FALSE)),'Criterios de valor. automáticos'!$E$4:$I$30,5,FALSE),0) -> 0
G24: =IFERROR(VLOOKUP(_xlfn.CONCAT(VLOOKUP(F24,'Criterios de valor. automáticos'!$B$4:$C$6,2,FALSE),VLOOKUP(D24,'Criterios de valor. automáticos'!$B$9:$C$11,2,FALSE),VLOOKUP(E24,'Criterios de valor. automáticos'!$B$14:$C$16,2,FALSE)),'Criterios de valor. automáticos'!$E$4:$I$30,5,FALSE),0) -> 0
G25: =IFERROR(VLOOKUP(_xlfn.CONCAT(VLOOKUP(F25,'Criterios de valor. automáticos'!$B$4:$C$6,2,FALSE),VLOOKUP(D25,'Criterios de valor. automáticos'!$B$9:$C$11,2,FALSE),VLOOKUP(E25,'Criterios de valor. automáticos'!$B$14:$C$16,2,FALSE)),'Criterios de valor. automáticos'!$E$4:$I$30,5,FALSE),0) -> 0
G26: =IFERROR(VLOOKUP(_xlfn.CONCAT(VLOOKUP(F26,'Criterios de valor. automáticos'!$B$4:$C$6,2,FALSE),VLOOKUP(D26,'Criterios de valor. automáticos'!$B$9:$C$11,2,FALSE),VLOOKUP(E26,'Criterios de valor. automáticos'!$B$14:$C$16,2,FALSE)),'Criterios de valor. automáticos'!$E$4:$I$30,5,FALSE),0) -> 0
G27: =IFERROR(VLOOKUP(_xlfn.CONCAT(VLOOKUP(F27,'Criterios de valor. automáticos'!$B$4:$C$6,2,FALSE),VLOOKUP(D27,'Criterios de valor. automáticos'!$B$9:$C$11,2,FALSE),VLOOKUP(E27,'Criterios de valor. automáticos'!$B$14:$C$16,2,FALSE)),'Criterios de valor. automáticos'!$E$4:$I$30,5,FALSE),0) -> 0
B28: Subtotal | G28: =IF(GESTEP(SUM(G19:G27),MAX_EXPERIENCIA),MAX_EXPERIENCIA,SUM(G19:G27)) -> 0
B30: Certificaciones en tecnologías relevantes
B31: Certificación | F31: Relevancia | G31: Puntuación
G32: =IFERROR(VLOOKUP(F32,'Criterios de valor. automáticos'!$B$41:$C$43,2,FALSE),0) -> 0
G33: =IFERROR(VLOOKUP(F33,'Criterios de valor. automáticos'!$B$41:$C$43,2,FALSE),0) -> 0
G34: =IFERROR(VLOOKUP(F34,'Criterios de valor. automáticos'!$B$41:$C$43,2,FALSE),0) -> 0
G35: =IFERROR(VLOOKUP(F35,'Criterios de valor. automáticos'!$B$41:$C$43,2,FALSE),0) -> 0
G36: =IFERROR(VLOOKUP(F36,'Criterios de valor. automáticos'!$B$41:$C$43,2,FALSE),0) -> 0
G37: =IFERROR(VLOOKUP(F37,'Criterios de valor. automáticos'!$B$41:$C$43,2,FALSE),0) -> 0
G38: =IFERROR(VLOOKUP(F38,'Criterios de valor. automáticos'!$B$41:$C$43,2,FALSE),0) -> 0
B39: Subtotal | G39: =IF(GESTEP(SUM(G32:G38),MAX_CERTIFICACIONES),MAX_CERTIFICACIONES,SUM(G32:G38)) -> 0
B41: Formación reglada
B42: Título | F42: Nivel MECES | G42: Puntuación
G43: =IF(GESTEP(IFERROR(F43-VLOOKUP($C$6,'Criterios de valor. automáticos'!$B$50:$C$52,2,FALSE),0)),IFERROR(F43-VLOOKUP($C$6,'Criterios de valor. automáticos'!$B$50:$C$52,2,FALSE),0),0) -> 0
G44: =IF(GESTEP(IFERROR(F44-VLOOKUP($C$6,'Criterios de valor. automáticos'!$B$50:$C$52,2,FALSE),0)),IFERROR(F44-VLOOKUP($C$6,'Criterios de valor. automáticos'!$B$50:$C$52,2,FALSE),0),0) -> 0
G45: =IF(GESTEP(IFERROR(F45-VLOOKUP($C$6,'Criterios de valor. automáticos'!$B$50:$C$52,2,FALSE),0)),IFERROR(F45-VLOOKUP($C$6,'Criterios de valor. automáticos'!$B$50:$C$52,2,FALSE),0),0) -> 0
G46: =IF(GESTEP(IFERROR(F46-VLOOKUP($C$6,'Criterios de valor. automáticos'!$B$50:$C$52,2,FALSE),0)),IFERROR(F46-VLOOKUP($C$6,'Criterios de valor. automáticos'!$B$50:$C$52,2,FALSE),0),0) -> 0
B47: Subtotal | G47: =IF(GESTEP(SUM(G43:G46),MAX_FORM_REGLADA),MAX_FORM_REGLADA,SUM(G43:G46)) -> 0
B49: Formación en tecnologías relevantes
B50: Título (Sistema) | E50: Relevancia | F50: Duración (horas) | G50: Puntuación
G51: =ROUNDDOWN(IFERROR(F51/VLOOKUP(E51,'Criterios de valor. automáticos'!$B$46:$D$47,2,FALSE),0),0) -> 0
G52: =ROUNDDOWN(IFERROR(F52/VLOOKUP(E52,'Criterios de valor. automáticos'!$B$46:$D$47,2,FALSE),0),0) -> 0
G53: =ROUNDDOWN(IFERROR(F53/VLOOKUP(E53,'Criterios de valor. automáticos'!$B$46:$D$47,2,FALSE),0),0) -> 0
G54: =ROUNDDOWN(IFERROR(F54/VLOOKUP(E54,'Criterios de valor. automáticos'!$B$46:$D$47,2,FALSE),0),0) -> 0
G55: =ROUNDDOWN(IFERROR(F55/VLOOKUP(E55,'Criterios de valor. automáticos'!$B$46:$D$47,2,FALSE),0),0) -> 0
B56: Subtotal | G56: =IF(GESTEP(SUM(G51:G55),MAX_FORM_TECNOLOGICA),MAX_FORM_TECNOLOGICA,SUM(G51:G55)) -> 0
B59: Total | G59: =G28+G39+G47+G56 -> 0

Sheet BBDD1
B2: Identificación del perfil
B3: Empresa licitante
B4: Empresa de pertenencia
B5: Número de recurso
B6: Categoría ofertada
B7: Servicio a administrar
B9: Experiencia mínima exigida en pliego en sistemas críticos relacionados con el servicio
B10: Sistema | D10: Relevancia | E10: Coincidencia | F10: Experiencia | G10: Puntuación
G11: -
G12: -
G13: -
G14: -
G15: -
B17: Experiencia en tecnologías relacionadas con el servicio
B18: Sistema | D18: Relevancia | E18: Coincidencia | F18: Experiencia | G18: Puntuación
G19: =IFERROR(VLOOKUP(_xlfn.CONCAT(VLOOKUP(F19,'Criterios de valor. automáticos'!$B$4:$C$6,2,FALSE),VLOOKUP(D19,'Criterios de valor. automáticos'!$B$9:$C$11,2,FALSE),VLOOKUP(E19,'Criterios de valor. automáticos'!$B$14:$C$16,2,FALSE)),'Criterios de valor. automáticos'!$E$4:$I$30,5,FALSE),0) -> 0
G20: =IFERROR(VLOOKUP(_xlfn.CONCAT(VLOOKUP(F20,'Criterios de valor. automáticos'!$B$4:$C$6,2,FALSE),VLOOKUP(D20,'Criterios de valor. automáticos'!$B$9:$C$11,2,FALSE),VLOOKUP(E20,'Criterios de valor. automáticos'!$B$14:$C$16,2,FALSE)),'Criterios de valor. automáticos'!$E$4:$I$30,5,FALSE),0) -> 0
G21: =IFERROR(VLOOKUP(_xlfn.CONCAT(VLOOKUP(F21,'Criterios de valor. automáticos'!$B$4:$C$6,2,FALSE),VLOOKUP(D21,'Criterios de valor. automáticos'!$B$9:$C$11,2,FALSE),VLOOKUP(E21,'Criterios de valor. automáticos'!$B$14:$C$16,2,FALSE)),'Criterios de valor. automáticos'!$E$4:$I$30,5,FALSE),0) -> 0
G22: =IFERROR(VLOOKUP(_xlfn.CONCAT(VLOOKUP(F22,'Criterios de valor. automáticos'!$B$4:$C$6,2,FALSE),VLOOKUP(D22,'Criterios de valor. automáticos'!$B$9:$C$11,2,FALSE),VLOOKUP(E22,'Criterios de valor. automáticos'!$B$14:$C$16,2,FALSE)),'Criterios de valor. automáticos'!$E$4:$I$30,5,FALSE),0) -> 0
G23: =IFERROR(VLOOKUP(_xlfn.CONCAT(VLOOKUP(F23,'Criterios de valor. automáticos'!$B$4:$C$6,2,FALSE),VLOOKUP(D23,'Criterios de valor. automáticos'!$B$9:$C$11,2,FALSE),VLOOKUP(E23,'Criterios de valor. automáticos'!$B$14:$C$16,2,FALSE)),'Criterios de valor. automáticos'!$E$4:$I$30,5,FALSE),0) -> 0
G24: =IFERROR(VLOOKUP(_xlfn.CONCAT(VLOOKUP(F24,'Criterios de valor. automáticos'!$B$4:$C$6,2,FALSE),VLOOKUP(D24,'Criterios de valor. automáticos'!$B$9:$C$11,2,FALSE),VLOOKUP(E24,'Criterios de valor. automáticos'!$B$14:$C$16,2,FALSE)),'Criterios de valor. automáticos'!$E$4:$I$30,5,FALSE),0) -> 0
G25: =IFERROR(VLOOKUP(_xlfn.CONCAT(VLOOKUP(F25,'Criterios de valor. automáticos'!$B$4:$C$6,2,FALSE),VLOOKUP(D25,'Criterios de valor. automáticos'!$B$9:$C$11,2,FALSE),VLOOKUP(E25,'Criterios de valor. automáticos'!$B$14:$C$16,2,FALSE)),'Criterios de valor. automáticos'!$E$4:$I$30,5,FALSE),0) -> 0
G26: =IFERROR(VLOOKUP(_xlfn.CONCAT(VLOOKUP(F26,'Criterios de valor. automáticos'!$B$4:$C$6,2,FALSE),VLOOKUP(D26,'Criterios de valor. automáticos'!$B$9:$C$11,2,FALSE),VLOOKUP(E26,'Criterios de valor. automáticos'!$B$14:$C$16,2,FALSE)),'Criterios de valor. automáticos'!$E$4:$I$30,5,FALSE),0) -> 0
G27: =IFERROR(VLOOKUP(_xlfn.CONCAT(VLOOKUP(F27,'Criterios de valor. automáticos'!$B$4:$C$6,2,FALSE),VLOOKUP(D27,'Criterios de valor. automáticos'!$B$9:$C$11,2,FALSE),VLOOKUP(E27,'Criterios de valor. automáticos'!$B$14:$C$16,2,FALSE)),'Criterios de valor. automáticos'!$E$4:$I$30,5,FALSE),0) -> 0
B28: Subtotal | G28: =IF(GESTEP(SUM(G19:G27),MAX_EXPERIENCIA),MAX_EXPERIENCIA,SUM(G19:G27)) -> 0
B30: Certificaciones en tecnologías relevantes
B31: Certificación | F31: Relevancia | G31: Puntuación
G32: =IFERROR(VLOOKUP(F32,'Criterios de valor. automáticos'!$B$41:$C$43,2,FALSE),0) -> 0
G33: =IFERROR(VLOOKUP(F33,'Criterios de valor. automáticos'!$B$41:$C$43,2,FALSE),0) -> 0
G34: =IFERROR(VLOOKUP(F34,'Criterios de valor. automáticos'!$B$41:$C$43,2,FALSE),0) -> 0
G35: =IFERROR(VLOOKUP(F35,'Criterios de valor. automáticos'!$B$41:$C$43,2,FALSE),0) -> 0
G36: =IFERROR(VLOOKUP(F36,'Criterios de valor. automáticos'!$B$41:$C$43,2,FALSE),0) -> 0
G37: =IFERROR(VLOOKUP(F37,'Criterios de valor. automáticos'!$B$41:$C$43,2,FALSE),0) -> 0
G38: =IFERROR(VLOOKUP(F38,'Criterios de valor. automáticos'!$B$41:$C$43,2,FALSE),0) -> 0
B39: Subtotal | G39: =IF(GESTEP(SUM(G32:G38),MAX_CERTIFICACIONES),MAX_CERTIFICACIONES,SUM(G32:G38)) -> 0
B41: Formación reglada
B42: Título | F42: Nivel MECES | G42: Puntuación
G43: =IF(GESTEP(IFERROR(F43-VLOOKUP($C$6,'Criterios de valor. automáticos'!$B$50:$C$52,2,FALSE),0)),IFERROR(F43-VLOOKUP($C$6,'Criterios de valor. automáticos'!$B$50:$C$52,2,FALSE),0),0) -> 0
G44: =IF(GESTEP(IFERROR(F44-VLOOKUP($C$6,'Criterios de valor. automáticos'!$B$50:$C$52,2,FALSE),0)),IFERROR(F44-VLOOKUP($C$6,'Criterios de valor. automáticos'!$B$50:$C$52,2,FALSE),0),0) -> 0
G45: =IF(GESTEP(IFERROR(F45-VLOOKUP($C$6,'Criterios de valor. automáticos'!$B$50:$C$52,2,FALSE),0)),IFERROR(F45-VLOOKUP($C$6,'Criterios de valor. automáticos'!$B$50:$C$52,2,FALSE),0),0) -> 0
G46: =IF(GESTEP(IFERROR(F46-VLOOKUP($C$6,'Criterios de valor. automáticos'!$B$50:$C$52,2,FALSE),0)),IFERROR(F46-VLOOKUP($C$6,'Criterios de valor. automáticos'!$B$50:$C$52,2,FALSE),0),0) -> 0
B47: Subtotal | G47: =IF(GESTEP(SUM(G43:G46),MAX_FORM_REGLADA),MAX_FORM_REGLADA,SUM(G43:G46)) -> 0
B49: Formación en tecnologías relevantes
B50: Título (Sistema) | E50: Relevancia | F50: Duración (horas) | G50: Puntuación
G51: =ROUNDDOWN(IFERROR(F51/VLOOKUP(E51,'Criterios de valor. automáticos'!$B$46:$D$47,2,FALSE),0),0) -> 0
G52: =ROUNDDOWN(IFERROR(F52/VLOOKUP(E52,'Criterios de valor. automáticos'!$B$46:$D$47,2,FALSE),0),0) -> 0
G53: =ROUNDDOWN(IFERROR(F53/VLOOKUP(E53,'Criterios de valor. automáticos'!$B$46:$D$47,2,FALSE),0),0) -> 0
G54: =ROUNDDOWN(IFERROR(F54/VLOOKUP(E54,'Criterios de valor. automáticos'!$B$46:$D$47,2,FALSE),0),0) -> 0
G55: =ROUNDDOWN(IFERROR(F55/VLOOKUP(E55,'Criterios de valor. automáticos'!$B$46:$D$47,2,FALSE),0),0) -> 0
B56: Subtotal | G56: =IF(GESTEP(SUM(G51:G55),MAX_FORM_TECNOLOGICA),MAX_FORM_TECNOLOGICA,SUM(G51:G55)) -> 0
B59: Total | G59: =G28+G39+G47+G56 -> 0

Sheet BBDD2
B2: Identificación del perfil
B3: Empresa licitante
B4: Empresa de pertenencia
B5: Número de recurso
B6: Categoría ofertada
B7: Servicio a administrar
B9: Experiencia mínima exigida en pliego en sistemas críticos relacionados con el servicio
B10: Sistema | D10: Relevancia | E10: Coincidencia | F10: Experiencia | G10: Puntuación
G11: -
G12: -
G13: -
G14: -
G15: -
B17: Experiencia en tecnologías relacionadas con el servicio
B18: Sistema | D18: Relevancia | E18: Coincidencia | F18: Experiencia | G18: Puntuación
G19: =IFERROR(VLOOKUP(_xlfn.CONCAT(VLOOKUP(F19,'Criterios de valor. automáticos'!$B$4:$C$6,2,FALSE),VLOOKUP(D19,'Criterios de valor. automáticos'!$B$9:$C$11,2,FALSE),VLOOKUP(E19,'Criterios de valor. automáticos'!$B$14:$C$16,2,FALSE)),'Criterios de valor. automáticos'!$E$4:$I$30,5,FALSE),0) -> 0
G20: =IFERROR(VLOOKUP(_xlfn.CONCAT(VLOOKUP(F20,'Criterios de valor. automáticos'!$B$4:$C$6,2,FALSE),VLOOKUP(D20,'Criterios de valor. automáticos'!$B$9:$C$11,2,FALSE),VLOOKUP(E20,'Criterios de valor. automáticos'!$B$14:$C$16,2,FALSE)),'Criterios de valor. automáticos'!$E$4:$I$30,5,FALSE),0) -> 0
G21: =IFERROR(VLOOKUP(_xlfn.CONCAT(VLOOKUP(F21,'Criterios de valor. automáticos'!$B$4:$C$6,2,FALSE),VLOOKUP(D21,'Criterios de valor. automáticos'!$B$9:$C$11,2,FALSE),VLOOKUP(E21,'Criterios de valor. automáticos'!$B$14:$C$16,2,FALSE)),'Criterios de valor. automáticos'!$E$4:$I$30,5,FALSE),0) -> 0
G22: =IFERROR(VLOOKUP(_xlfn.CONCAT(VLOOKUP(F22,'Criterios de valor. automáticos'!$B$4:$C$6,2,FALSE),VLOOKUP(D22,'Criterios de valor. automáticos'!$B$9:$C$11,2,FALSE),VLOOKUP(E22,'Criterios de valor. automáticos'!$B$14:$C$16,2,FALSE)),'Criterios de valor. automáticos'!$E$4:$I$30,5,FALSE),0) -> 0
G23: =IFERROR(VLOOKUP(_xlfn.CONCAT(VLOOKUP(F23,'Criterios de valor. automáticos'!$B$4:$C$6,2,FALSE),VLOOKUP(D23,'Criterios de valor. automáticos'!$B$9:$C$11,2,FALSE),VLOOKUP(E23,'Criterios de valor. automáticos'!$B$14:$C$16,2,FALSE)),'Criterios de valor. automáticos'!$E$4:$I$30,5,FALSE),0) -> 0
G24: =IFERROR(VLOOKUP(_xlfn.CONCAT(VLOOKUP(F24,'Criterios de valor. automáticos'!$B$4:$C$6,2,FALSE),VLOOKUP(D24,'Criterios de valor. automáticos'!$B$9:$C$11,2,FALSE),VLOOKUP(E24,'Criterios de valor. automáticos'!$B$14:$C$16,2,FALSE)),'Criterios de valor. automáticos'!$E$4:$I$30,5,FALSE),0) -> 0
G25: =IFERROR(VLOOKUP(_xlfn.CONCAT(VLOOKUP(F25,'Criterios de valor. automáticos'!$B$4:$C$6,2,FALSE),VLOOKUP(D25,'Criterios de valor. automáticos'!$B$9:$C$11,2,FALSE),VLOOKUP(E25,'Criterios de valor. automáticos'!$B$14:$C$16,2,FALSE)),'Criterios de valor. automáticos'!$E$4:$I$30,5,FALSE),0) -> 0
G26: =IFERROR(VLOOKUP(_xlfn.CONCAT(VLOOKUP(F26,'Criterios de valor. automáticos'!$B$4:$C$6,2,FALSE),VLOOKUP(D26,'Criterios de valor. automáticos'!$B$9:$C$11,2,FALSE),VLOOKUP(E26,'Criterios de valor. automáticos'!$B$14:$C$16,2,FALSE)),'Criterios de valor. automáticos'!$E$4:$I$30,5,FALSE),0) -> 0
G27: =IFERROR(VLOOKUP(_xlfn.CONCAT(VLOOKUP(F27,'Criterios de valor. automáticos'!$B$4:$C$6,2,FALSE),VLOOKUP(D27,'Criterios de valor. automáticos'!$B$9:$C$11,2,FALSE),VLOOKUP(E27,'Criterios de valor. automáticos'!$B$14:$C$16,2,FALSE)),'Criterios de valor. automáticos'!$E$4:$I$30,5,FALSE),0) -> 0
B28: Subtotal | G28: =IF(GESTEP(SUM(G19:G27),MAX_EXPERIENCIA),MAX_EXPERIENCIA,SUM(G19:G27)) -> 0
B30: Certificaciones en tecnologías relevantes
B31: Certificación | F31: Relevancia | G31: Puntuación
G32: =IFERROR(VLOOKUP(F32,'Criterios de valor. automáticos'!$B$41:$C$43,2,FALSE),0) -> 0
G33: =IFERROR(VLOOKUP(F33,'Criterios de valor. automáticos'!$B$41:$C$43,2,FALSE),0) -> 0
G34: =IFERROR(VLOOKUP(F34,'Criterios de valor. automáticos'!$B$41:$C$43,2,FALSE),0) -> 0
G35: =IFERROR(VLOOKUP(F35,'Criterios de valor. automáticos'!$B$41:$C$43,2,FALSE),0) -> 0
G36: =IFERROR(VLOOKUP(F36,'Criterios de valor. automáticos'!$B$41:$C$43,2,FALSE),0) -> 0
G37: =IFERROR(VLOOKUP(F37,'Criterios de valor. automáticos'!$B$41:$C$43,2,FALSE),0) -> 0
G38: =IFERROR(VLOOKUP(F38,'Criterios de valor. automáticos'!$B$41:$C$43,2,FALSE),0) -> 0
B39: Subtotal | G39: =IF(GESTEP(SUM(G32:G38),MAX_CERTIFICACIONES),MAX_CERTIFICACIONES,SUM(G32:G38)) -> 0
B41: Formación reglada
B42: Título | F42: Nivel MECES | G42: Puntuación
G43: =IF(GESTEP(IFERROR(F43-VLOOKUP($C$6,'Criterios de valor. automáticos'!$B$50:$C$52,2,FALSE),0)),IFERROR(F43-VLOOKUP($C$6,'Criterios de valor. automáticos'!$B$50:$C$52,2,FALSE),0),0) -> 0
G44: =IF(GESTEP(IFERROR(F44-VLOOKUP($C$6,'Criterios de valor. automáticos'!$B$50:$C$52,2,FALSE),0)),IFERROR(F44-VLOOKUP($C$6,'Criterios de valor. automáticos'!$B$50:$C$52,2,FALSE),0),0) -> 0
G45: =IF(GESTEP(IFERROR(F45-VLOOKUP($C$6,'Criterios de valor. automáticos'!$B$50:$C$52,2,FALSE),0)),IFERROR(F45-VLOOKUP($C$6,'Criterios de valor. automáticos'!$B$50:$C$52,2,FALSE),0),0) -> 0
G46: =IF(GESTEP(IFERROR(F46-VLOOKUP($C$6,'Criterios de valor. automáticos'!$B$50:$C$52,2,FALSE),0)),IFERROR(F46-VLOOKUP($C$6,'Criterios de valor. automáticos'!$B$50:$C$52,2,FALSE),0),0) -> 0
B47: Subtotal | G47: =IF(GESTEP(SUM(G43:G46),MAX_FORM_REGLADA),MAX_FORM_REGLADA,SUM(G43:G46)) -> 0
B49: Formación en tecnologías relevantes
B50: Título (Sistema) | E50: Relevancia | F50: Duración (horas) | G50: Puntuación
G51: =ROUNDDOWN(IFERROR(F51/VLOOKUP(E51,'Criterios de valor. automáticos'!$B$46:$D$47,2,FALSE),0),0) -> 0
G52: =ROUNDDOWN(IFERROR(F52/VLOOKUP(E52,'Criterios de valor. automáticos'!$B$46:$D$47,2,FALSE),0),0) -> 0
G53: =ROUNDDOWN(IFERROR(F53/VLOOKUP(E53,'Criterios de valor. automáticos'!$B$46:$D$47,2,FALSE),0),0) -> 0
G54: =ROUNDDOWN(IFERROR(F54/VLOOKUP(E54,'Criterios de valor. automáticos'!$B$46:$D$47,2,FALSE),0),0) -> 0
G55: =ROUNDDOWN(IFERROR(F55/VLOOKUP(E55,'Criterios de valor. automáticos'!$B$46:$D$47,2,FALSE),0),0) -> 0
B56: Subtotal | G56: =IF(GESTEP(SUM(G51:G55),MAX_FORM_TECNOLOGICA),MAX_FORM_TECNOLOGICA,SUM(G51:G55)) -> 0
B59: Total | G59: =G28+G39+G47+G56 -> 0

Sheet MON
B2: Identificación del perfil
B3: Empresa licitante
B4: Empresa de pertenencia
B5: Número de recurso
B6: Categoría ofertada
B7: Servicio a administrar
B9: Experiencia mínima exigida en pliego en sistemas críticos relacionados con el servicio
B10: Sistema | D10: Relevancia | E10: Coincidencia | F10: Experiencia | G10: Puntuación
G11: -
G12: -
G13: -
G14: -
G15: -
B17: Experiencia en tecnologías relacionadas con el servicio
B18: Sistema | D18: Relevancia | E18: Coincidencia | F18: Experiencia | G18: Puntuación
G19: =IFERROR(VLOOKUP(_xlfn.CONCAT(VLOOKUP(F19,'Criterios de valor. automáticos'!$B$4:$C$6,2,FALSE),VLOOKUP(D19,'Criterios de valor. automáticos'!$B$9:$C$11,2,FALSE),VLOOKUP(E19,'Criterios de valor. automáticos'!$B$14:$C$16,2,FALSE)),'Criterios de valor. automáticos'!$E$4:$I$30,5,FALSE),0) -> 0
G20: =IFERROR(VLOOKUP(_xlfn.CONCAT(VLOOKUP(F20,'Criterios de valor. automáticos'!$B$4:$C$6,2,FALSE),VLOOKUP(D20,'Criterios de valor. automáticos'!$B$9:$C$11,2,FALSE),VLOOKUP(E20,'Criterios de valor. automáticos'!$B$14:$C$16,2,FALSE)),'Criterios de valor. automáticos'!$E$4:$I$30,5,FALSE),0) -> 0
G21: =IFERROR(VLOOKUP(_xlfn.CONCAT(VLOOKUP(F21,'Criterios de valor. automáticos'!$B$4:$C$6,2,FALSE),VLOOKUP(D21,'Criterios de valor. automáticos'!$B$9:$C$11,2,FALSE),VLOOKUP(E21,'Criterios de valor. automáticos'!$B$14:$C$16,2,FALSE)),'Criterios de valor. automáticos'!$E$4:$I$30,5,FALSE),0) -> 0
G22: =IFERROR(VLOOKUP(_xlfn.CONCAT(VLOOKUP(F22,'Criterios de valor. automáticos'!$B$4:$C$6,2,FALSE),VLOOKUP(D22,'Criterios de valor. automáticos'!$B$9:$C$11,2,FALSE),VLOOKUP(E22,'Criterios de valor. automáticos'!$B$14:$C$16,2,FALSE)),'Criterios de valor. automáticos'!$E$4:$I$30,5,FALSE),0) -> 0
G23: =IFERROR(VLOOKUP(_xlfn.CONCAT(VLOOKUP(F23,'Criterios de valor. automáticos'!$B$4:$C$6,2,FALSE),VLOOKUP(D23,'Criterios de valor. automáticos'!$B$9:$C$11,2,FALSE),VLOOKUP(E23,'Criterios de valor. automáticos'!$B$14:$C$16,2,FALSE)),'Criterios de valor. automáticos'!$E$4:$I$30,5,FALSE),0) -> 0
G24: =IFERROR(VLOOKUP(_xlfn.CONCAT(VLOOKUP(F24,'Criterios de valor. automáticos'!$B$4:$C$6,2,FALSE),VLOOKUP(D24,'Criterios de valor. automáticos'!$B$9:$C$11,2,FALSE),VLOOKUP(E24,'Criterios de valor. automáticos'!$B$14:$C$16,2,FALSE)),'Criterios de valor. automáticos'!$E$4:$I$30,5,FALSE),0) -> 0
G25: =IFERROR(VLOOKUP(_xlfn.CONCAT(VLOOKUP(F25,'Criterios de valor. automáticos'!$B$4:$C$6,2,FALSE),VLOOKUP(D25,'Criterios de valor. automáticos'!$B$9:$C$11,2,FALSE),VLOOKUP(E25,'Criterios de valor. automáticos'!$B$14:$C$16,2,FALSE)),'Criterios de valor. automáticos'!$E$4:$I$30,5,FALSE),0) -> 0
G26: =IFERROR(VLOOKUP(_xlfn.CONCAT(VLOOKUP(F26,'Criterios de valor. automáticos'!$B$4:$C$6,2,FALSE),VLOOKUP(D26,'Criterios de valor. automáticos'!$B$9:$C$11,2,FALSE),VLOOKUP(E26,'Criterios de valor. automáticos'!$B$14:$C$16,2,FALSE)),'Criterios de valor. automáticos'!$E$4:$I$30,5,FALSE),0) -> 0
G27: =IFERROR(VLOOKUP(_xlfn.CONCAT(VLOOKUP(F27,'Criterios de valor. automáticos'!$B$4:$C$6,2,FALSE),VLOOKUP(D27,'Criterios de valor. automáticos'!$B$9:$C$11,2,FALSE),VLOOKUP(E27,'Criterios de valor. automáticos'!$B$14:$C$16,2,FALSE)),'Criterios de valor. automáticos'!$E$4:$I$30,5,FALSE),0) -> 0
B28: Subtotal | G28: =IF(GESTEP(SUM(G19:G27),MAX_EXPERIENCIA),MAX_EXPERIENCIA,SUM(G19:G27)) -> 0
B30: Certificaciones en tecnologías relevantes
B31: Certificación | F31: Relevancia | G31: Puntuación
G32: =IFERROR(VLOOKUP(F32,'Criterios de valor. automáticos'!$B$41:$C$43,2,FALSE),0) -> 0
G33: =IFERROR(VLOOKUP(F33,'Criterios de valor. automáticos'!$B$41:$C$43,2,FALSE),0) -> 0
G34: =IFERROR(VLOOKUP(F34,'Criterios de valor. automáticos'!$B$41:$C$43,2,FALSE),0) -> 0
G35: =IFERROR(VLOOKUP(F35,'Criterios de valor. automáticos'!$B$41:$C$43,2,FALSE),0) -> 0
G36: =IFERROR(VLOOKUP(F36,'Criterios de valor. automáticos'!$B$41:$C$43,2,FALSE),0) -> 0
G37: =IFERROR(VLOOKUP(F37,'Criterios de valor. automáticos'!$B$41:$C$43,2,FALSE),0) -> 0
G38: =IFERROR(VLOOKUP(F38,'Criterios de valor. automáticos'!$B$41:$C$43,2,FALSE),0) -> 0
B39: Subtotal | G39: =IF(GESTEP(SUM(G32:G38),MAX_CERTIFICACIONES),MAX_CERTIFICACIONES,SUM(G32:G38)) -> 0
B41: Formación reglada
B42: Título | F42: Nivel MECES | G42: Puntuación
G43: =IF(GESTEP(IFERROR(F43-VLOOKUP($C$6,'Criterios de valor. automáticos'!$B$50:$C$52,2,FALSE),0)),IFERROR(F43-VLOOKUP($C$6,'Criterios de valor. automáticos'!$B$50:$C$52,2,FALSE),0),0) -> 0
G44: =IF(GESTEP(IFERROR(F44-VLOOKUP($C$6,'Criterios de valor. automáticos'!$B$50:$C$52,2,FALSE),0)),IFERROR(F44-VLOOKUP($C$6,'Criterios de valor. automáticos'!$B$50:$C$52,2,FALSE),0),0) -> 0
G45: =IF(GESTEP(IFERROR(F45-VLOOKUP($C$6,'Criterios de valor. automáticos'!$B$50:$C$52,2,FALSE),0)),IFERROR(F45-VLOOKUP($C$6,'Criterios de valor. automáticos'!$B$50:$C$52,2,FALSE),0),0) -> 0
G46: =IF(GESTEP(IFERROR(F46-VLOOKUP($C$6,'Criterios de valor. automáticos'!$B$50:$C$52,2,FALSE),0)),IFERROR(F46-VLOOKUP($C$6,'Criterios de valor. automáticos'!$B$50:$C$52,2,FALSE),0),0) -> 0
B47: Subtotal | G47: =IF(GESTEP(SUM(G43:G46),MAX_FORM_REGLADA),MAX_FORM_REGLADA,SUM(G43:G46)) -> 0
B49: Formación en tecnologías relevantes
B50: Título (Sistema) | E50: Relevancia | F50: Duración (horas) | G50: Puntuación
G51: =ROUNDDOWN(IFERROR(F51/VLOOKUP(E51,'Criterios de valor. automáticos'!$B$46:$D$47,2,FALSE),0),0) -> 0
G52: =ROUNDDOWN(IFERROR(F52/VLOOKUP(E52,'Criterios de valor. automáticos'!$B$46:$D$47,2,FALSE),0),0) -> 0
G53: =ROUNDDOWN(IFERROR(F53/VLOOKUP(E53,'Criterios de valor. automáticos'!$B$46:$D$47,2,FALSE),0),0) -> 0
G54: =ROUNDDOWN(IFERROR(F54/VLOOKUP(E54,'Criterios de valor. automáticos'!$B$46:$D$47,2,FALSE),0),0) -> 0
G55: =ROUNDDOWN(IFERROR(F55/VLOOKUP(E55,'Criterios de valor. automáticos'!$B$46:$D$47,2,FALSE),0),0) -> 0
B56: Subtotal | G56: =IF(GESTEP(SUM(G51:G55),MAX_FORM_TECNOLOGICA),MAX_FORM_TECNOLOGICA,SUM(G51:G55)) -> 0
B59: Total | G59: =G28+G39+G47+G56 -> 0

Sheet EXTRA1
B2: Identificación del perfil
B3: Empresa licitante
B4: Empresa de pertenencia
B5: Número de recurso
B6: Categoría ofertada
B7: Servicio a administrar
B9: Experiencia mínima exigida en pliego en sistemas críticos relacionados con el servicio
B10: Sistema | D10: Relevancia | E10: Coincidencia | F10: Experiencia | G10: Puntuación
G11: -
G12: -
G13: -
G14: -
G15: -
B17: Experiencia en tecnologías relacionadas con el servicio
B18: Sistema | D18: Relevancia | E18: Coincidencia | F18: Experiencia | G18: Puntuación
G19: =IFERROR(VLOOKUP(_xlfn.CONCAT(VLOOKUP(F19,'Criterios de valor. automáticos'!$B$4:$C$6,2,FALSE),VLOOKUP(D19,'Criterios de valor. automáticos'!$B$9:$C$11,2,FALSE),VLOOKUP(E19,'Criterios de valor. automáticos'!$B$14:$C$16,2,FALSE)),'Criterios de valor. automáticos'!$E$4:$I$30,5,FALSE),0) -> 0
G20: =IFERROR(VLOOKUP(_xlfn.CONCAT(VLOOKUP(F20,'Criterios de valor. automáticos'!$B$4:$C$6,2,FALSE),VLOOKUP(D20,'Criterios de valor. automáticos'!$B$9:$C$11,2,FALSE),VLOOKUP(E20,'Criterios de valor. automáticos'!$B$14:$C$16,2,FALSE)),'Criterios de valor. automáticos'!$E$4:$I$30,5,FALSE),0) -> 0
G21: =IFERROR(VLOOKUP(_xlfn.CONCAT(VLOOKUP(F21,'Criterios de valor. automáticos'!$B$4:$C$6,2,FALSE),VLOOKUP(D21,'Criterios de valor. automáticos'!$B$9:$C$11,2,FALSE),VLOOKUP(E21,'Criterios de valor. automáticos'!$B$14:$C$16,2,FALSE)),'Criterios de valor. automáticos'!$E$4:$I$30,5,FALSE),0) -> 0
G22: =IFERROR(VLOOKUP(_xlfn.CONCAT(VLOOKUP(F22,'Criterios de valor. automáticos'!$B$4:$C$6,2,FALSE),VLOOKUP(D22,'Criterios de valor. automáticos'!$B$9:$C$11,2,FALSE),VLOOKUP(E22,'Criterios de valor. automáticos'!$B$14:$C$16,2,FALSE)),'Criterios de valor. automáticos'!$E$4:$I$30,5,FALSE),0) -> 0
G23: =IFERROR(VLOOKUP(_xlfn.CONCAT(VLOOKUP(F23,'Criterios de valor. automáticos'!$B$4:$C$6,2,FALSE),VLOOKUP(D23,'Criterios de valor. automáticos'!$B$9:$C$11,2,FALSE),VLOOKUP(E23,'Criterios de valor. automáticos'!$B$14:$C$16,2,FALSE)),'Criterios de valor. automáticos'!$E$4:$I$30,5,FALSE),0) -> 0
G24: =IFERROR(VLOOKUP(_xlfn.CONCAT(VLOOKUP(F24,'Criterios de valor. automáticos'!$B$4:$C$6,2,FALSE),VLOOKUP(D24,'Criterios de valor. automáticos'!$B$9:$C$11,2,FALSE),VLOOKUP(E24,'Criterios de valor. automáticos'!$B$14:$C$16,2,FALSE)),'Criterios de valor. automáticos'!$E$4:$I$30,5,FALSE),0) -> 0
G25: =IFERROR(VLOOKUP(_xlfn.CONCAT(VLOOKUP(F25,'Criterios de valor. automáticos'!$B$4:$C$6,2,FALSE),VLOOKUP(D25,'Criterios de valor. automáticos'!$B$9:$C$11,2,FALSE),VLOOKUP(E25,'Criterios de valor. automáticos'!$B$14:$C$16,2,FALSE)),'Criterios de valor. automáticos'!$E$4:$I$30,5,FALSE),0) -> 0
G26: =IFERROR(VLOOKUP(_xlfn.CONCAT(VLOOKUP(F26,'Criterios de valor. automáticos'!$B$4:$C$6,2,FALSE),VLOOKUP(D26,'Criterios de valor. automáticos'!$B$9:$C$11,2,FALSE),VLOOKUP(E26,'Criterios de valor. automáticos'!$B$14:$C$16,2,FALSE)),'Criterios de valor. automáticos'!$E$4:$I$30,5,FALSE),0) -> 0
G27: =IFERROR(VLOOKUP(_xlfn.CONCAT(VLOOKUP(F27,'Criterios de valor. automáticos'!$B$4:$C$6,2,FALSE),VLOOKUP(D27,'Criterios de valor. automáticos'!$B$9:$C$11,2,FALSE),VLOOKUP(E27,'Criterios de valor. automáticos'!$B$14:$C$16,2,FALSE)),'Criterios de valor. automáticos'!$E$4:$I$30,5,FALSE),0) -> 0
B28: Subtotal | G28: =IF(GESTEP(SUM(G19:G27),MAX_EXPERIENCIA),MAX_EXPERIENCIA,SUM(G19:G27)) -> 0
B30: Certificaciones en tecnologías relevantes
B31: Certificación | F31: Relevancia | G31: Puntuación
G32: =IFERROR(VLOOKUP(F32,'Criterios de valor. automáticos'!$B$41:$C$43,2,FALSE),0) -> 0
G33: =IFERROR(VLOOKUP(F33,'Criterios de valor. automáticos'!$B$41:$C$43,2,FALSE),0) -> 0
G34: =IFERROR(VLOOKUP(F34,'Criterios de valor. automáticos'!$B$41:$C$43,2,FALSE),0) -> 0
G35: =IFERROR(VLOOKUP(F35,'Criterios de valor. automáticos'!$B$41:$C$43,2,FALSE),0) -> 0
G36: =IFERROR(VLOOKUP(F36,'Criterios de valor. automáticos'!$B$41:$C$43,2,FALSE),0) -> 0
G37: =IFERROR(VLOOKUP(F37,'Criterios de valor. automáticos'!$B$41:$C$43,2,FALSE),0) -> 0
G38: =IFERROR(VLOOKUP(F38,'Criterios de valor. automáticos'!$B$41:$C$43,2,FALSE),0) -> 0
B39: Subtotal | G39: =IF(GESTEP(SUM(G32:G38),MAX_CERTIFICACIONES),MAX_CERTIFICACIONES,SUM(G32:G38)) -> 0
B41: Formación reglada
B42: Título | F42: Nivel MECES | G42: Puntuación
G43: =IF(GESTEP(IFERROR(F43-VLOOKUP($C$6,'Criterios de valor. automáticos'!$B$50:$C$52,2,FALSE),0)),IFERROR(F43-VLOOKUP($C$6,'Criterios de valor. automáticos'!$B$50:$C$52,2,FALSE),0),0) -> 0
G44: =IF(GESTEP(IFERROR(F44-VLOOKUP($C$6,'Criterios de valor. automáticos'!$B$50:$C$52,2,FALSE),0)),IFERROR(F44-VLOOKUP($C$6,'Criterios de valor. automáticos'!$B$50:$C$52,2,FALSE),0),0) -> 0
G45: =IF(GESTEP(IFERROR(F45-VLOOKUP($C$6,'Criterios de valor. automáticos'!$B$50:$C$52,2,FALSE),0)),IFERROR(F45-VLOOKUP($C$6,'Criterios de valor. automáticos'!$B$50:$C$52,2,FALSE),0),0) -> 0
G46: =IF(GESTEP(IFERROR(F46-VLOOKUP($C$6,'Criterios de valor. automáticos'!$B$50:$C$52,2,FALSE),0)),IFERROR(F46-VLOOKUP($C$6,'Criterios de valor. automáticos'!$B$50:$C$52,2,FALSE),0),0) -> 0
B47: Subtotal | G47: =IF(GESTEP(SUM(G43:G46),MAX_FORM_REGLADA),MAX_FORM_REGLADA,SUM(G43:G46)) -> 0
B49: Formación en tecnologías relevantes
B50: Título (Sistema) | E50: Relevancia | F50: Duración (horas) | G50: Puntuación
G51: =ROUNDDOWN(IFERROR(F51/VLOOKUP(E51,'Criterios de valor. automáticos'!$B$46:$D$47,2,FALSE),0),0) -> 0
G52: =ROUNDDOWN(IFERROR(F52/VLOOKUP(E52,'Criterios de valor. automáticos'!$B$46:$D$47,2,FALSE),0),0) -> 0
G53: =ROUNDDOWN(IFERROR(F53/VLOOKUP(E53,'Criterios de valor. automáticos'!$B$46:$D$47,2,FALSE),0),0) -> 0
G54: =ROUNDDOWN(IFERROR(F54/VLOOKUP(E54,'Criterios de valor. automáticos'!$B$46:$D$47,2,FALSE),0),0) -> 0
G55: =ROUNDDOWN(IFERROR(F55/VLOOKUP(E55,'Criterios de valor. automáticos'!$B$46:$D$47,2,FALSE),0),0) -> 0
B56: Subtotal | G56: =IF(GESTEP(SUM(G51:G55),MAX_FORM_TECNOLOGICA),MAX_FORM_TECNOLOGICA,SUM(G51:G55)) -> 0
B59: Total | G59: =G28+G39+G47+G56 -> 0

Sheet EXTRA2
B2: Identificación del perfil
B3: Empresa licitante
B4: Empresa de pertenencia
B5: Número de recurso
B6: Categoría ofertada
B7: Servicio a administrar
B9: Experiencia mínima exigida en pliego en sistemas críticos relacionados con el servicio
B10: Sistema | D10: Relevancia | E10: Coincidencia | F10: Experiencia | G10: Puntuación
G11: -
G12: -
G13: -
G14: -
G15: -
B17: Experiencia en tecnologías relacionadas con el servicio
B18: Sistema | D18: Relevancia | E18: Coincidencia | F18: Experiencia | G18: Puntuación
G19: =IFERROR(VLOOKUP(_xlfn.CONCAT(VLOOKUP(F19,'Criterios de valor. automáticos'!$B$4:$C$6,2,FALSE),VLOOKUP(D19,'Criterios de valor. automáticos'!$B$9:$C$11,2,FALSE),VLOOKUP(E19,'Criterios de valor. automáticos'!$B$14:$C$16,2,FALSE)),'Criterios de valor. automáticos'!$E$4:$I$30,5,FALSE),0) -> 0
G20: =IFERROR(VLOOKUP(_xlfn.CONCAT(VLOOKUP(F20,'Criterios de valor. automáticos'!$B$4:$C$6,2,FALSE),VLOOKUP(D20,'Criterios de valor. automáticos'!$B$9:$C$11,2,FALSE),VLOOKUP(E20,'Criterios de valor. automáticos'!$B$14:$C$16,2,FALSE)),'Criterios de valor. automáticos'!$E$4:$I$30,5,FALSE),0) -> 0
G21: =IFERROR(VLOOKUP(_xlfn.CONCAT(VLOOKUP(F21,'Criterios de valor. automáticos'!$B$4:$C$6,2,FALSE),VLOOKUP(D21,'Criterios de valor. automáticos'!$B$9:$C$11,2,FALSE),VLOOKUP(E21,'Criterios de valor. automáticos'!$B$14:$C$16,2,FALSE)),'Criterios de valor. automáticos'!$E$4:$I$30,5,FALSE),0) -> 0
G22: =IFERROR(VLOOKUP(_xlfn.CONCAT(VLOOKUP(F22,'Criterios de valor. automáticos'!$B$4:$C$6,2,FALSE),VLOOKUP(D22,'Criterios de valor. automáticos'!$B$9:$C$11,2,FALSE),VLOOKUP(E22,'Criterios de valor. automáticos'!$B$14:$C$16,2,FALSE)),'Criterios de valor. automáticos'!$E$4:$I$30,5,FALSE),0) -> 0
G23: =IFERROR(VLOOKUP(_xlfn.CONCAT(VLOOKUP(F23,'Criterios de valor. automáticos'!$B$4:$C$6,2,FALSE),VLOOKUP(D23,'Criterios de valor. automáticos'!$B$9:$C$11,2,FALSE),VLOOKUP(E23,'Criterios de valor. automáticos'!$B$14:$C$16,2,FALSE)),'Criterios de valor. automáticos'!$E$4:$I$30,5,FALSE),0) -> 0
G24: =IFERROR(VLOOKUP(_xlfn.CONCAT(VLOOKUP(F24,'Criterios de valor. automáticos'!$B$4:$C$6,2,FALSE),VLOOKUP(D24,'Criterios de valor. automáticos'!$B$9:$C$11,2,FALSE),VLOOKUP(E24,'Criterios de valor. automáticos'!$B$14:$C$16,2,FALSE)),'Criterios de valor. automáticos'!$E$4:$I$30,5,FALSE),0) -> 0
G25: =IFERROR(VLOOKUP(_xlfn.CONCAT(VLOOKUP(F25,'Criterios de valor. automáticos'!$B$4:$C$6,2,FALSE),VLOOKUP(D25,'Criterios de valor. automáticos'!$B$9:$C$11,2,FALSE),VLOOKUP(E25,'Criterios de valor. automáticos'!$B$14:$C$16,2,FALSE)),'Criterios de valor. automáticos'!$E$4:$I$30,5,FALSE),0) -> 0
G26: =IFERROR(VLOOKUP(_xlfn.CONCAT(VLOOKUP(F26,'Criterios de valor. automáticos'!$B$4:$C$6,2,FALSE),VLOOKUP(D26,'Criterios de valor. automáticos'!$B$9:$C$11,2,FALSE),VLOOKUP(E26,'Criterios de valor. automáticos'!$B$14:$C$16,2,FALSE)),'Criterios de valor. automáticos'!$E$4:$I$30,5,FALSE),0) -> 0
G27: =IFERROR(VLOOKUP(_xlfn.CONCAT(VLOOKUP(F27,'Criterios de valor. automáticos'!$B$4:$C$6,2,FALSE),VLOOKUP(D27,'Criterios de valor. automáticos'!$B$9:$C$11,2,FALSE),VLOOKUP(E27,'Criterios de valor. automáticos'!$B$14:$C$16,2,FALSE)),'Criterios de valor. automáticos'!$E$4:$I$30,5,FALSE),0) -> 0
B28: Subtotal | G28: =IF(GESTEP(SUM(G19:G27),MAX_EXPERIENCIA),MAX_EXPERIENCIA,SUM(G19:G27)) -> 0
B30: Certificaciones en tecnologías relevantes
B31: Certificación | F31: Relevancia | G31: Puntuación
G32: =IFERROR(VLOOKUP(F32,'Criterios de valor. automáticos'!$B$41:$C$43,2,FALSE),0) -> 0
G33: =IFERROR(VLOOKUP(F33,'Criterios de valor. automáticos'!$B$41:$C$43,2,FALSE),0) -> 0
G34: =IFERROR(VLOOKUP(F34,'Criterios de valor. automáticos'!$B$41:$C$43,2,FALSE),0) -> 0
G35: =IFERROR(VLOOKUP(F35,'Criterios de valor. automáticos'!$B$41:$C$43,2,FALSE),0) -> 0
G36: =IFERROR(VLOOKUP(F36,'Criterios de valor. automáticos'!$B$41:$C$43,2,FALSE),0) -> 0
G37: =IFERROR(VLOOKUP(F37,'Criterios de valor. automáticos'!$B$41:$C$43,2,FALSE),0) -> 0
G38: =IFERROR(VLOOKUP(F38,'Criterios de valor. automáticos'!$B$41:$C$43,2,FALSE),0) -> 0
B39: Subtotal | G39: =IF(GESTEP(SUM(G32:G38),MAX_CERTIFICACIONES),MAX_CERTIFICACIONES,SUM(G32:G38)) -> 0
B41: Formación reglada
B42: Título | F42: Nivel MECES | G42: Puntuación
G43: =IF(GESTEP(IFERROR(F43-VLOOKUP($C$6,'Criterios de valor. automáticos'!$B$50:$C$52,2,FALSE),0)),IFERROR(F43-VLOOKUP($C$6,'Criterios de valor. automáticos'!$B$50:$C$52,2,FALSE),0),0) -> 0
G44: =IF(GESTEP(IFERROR(F44-VLOOKUP($C$6,'Criterios de valor. automáticos'!$B$50:$C$52,2,FALSE),0)),IFERROR(F44-VLOOKUP($C$6,'Criterios de valor. automáticos'!$B$50:$C$52,2,FALSE),0),0) -> 0
G45: =IF(GESTEP(IFERROR(F45-VLOOKUP($C$6,'Criterios de valor. automáticos'!$B$50:$C$52,2,FALSE),0)),IFERROR(F45-VLOOKUP($C$6,'Criterios de valor. automáticos'!$B$50:$C$52,2,FALSE),0),0) -> 0
G46: =IF(GESTEP(IFERROR(F46-VLOOKUP($C$6,'Criterios de valor. automáticos'!$B$50:$C$52,2,FALSE),0)),IFERROR(F46-VLOOKUP($C$6,'Criterios de valor. automáticos'!$B$50:$C$52,2,FALSE),0),0) -> 0
B47: Subtotal | G47: =IF(GESTEP(SUM(G43:G46),MAX_FORM_REGLADA),MAX_FORM_REGLADA,SUM(G43:G46)) -> 0
B49: Formación en tecnologías relevantes
B50: Título (Sistema) | E50: Relevancia | F50: Duración (horas) | G50: Puntuación
G51: =ROUNDDOWN(IFERROR(F51/VLOOKUP(E51,'Criterios de valor. automáticos'!$B$46:$D$47,2,FALSE),0),0) -> 0
G52: =ROUNDDOWN(IFERROR(F52/VLOOKUP(E52,'Criterios de valor. automáticos'!$B$46:$D$47,2,FALSE),0),0) -> 0
G53: =ROUNDDOWN(IFERROR(F53/VLOOKUP(E53,'Criterios de valor. automáticos'!$B$46:$D$47,2,FALSE),0),0) -> 0
G54: =ROUNDDOWN(IFERROR(F54/VLOOKUP(E54,'Criterios de valor. automáticos'!$B$46:$D$47,2,FALSE),0),0) -> 0
B55: e | G55: =ROUNDDOWN(IFERROR(F55/VLOOKUP(E55,'Criterios de valor. automáticos'!$B$46:$D$47,2,FALSE),0),0) -> 0
B56: Subtotal | G56: =IF(GESTEP(SUM(G51:G55),MAX_FORM_TECNOLOGICA),MAX_FORM_TECNOLOGICA,SUM(G51:G55)) -> 0
B59: Total | G59: =G28+G39+G47+G56 -> 0

Sheet EXTRA3
B2: Identificación del perfil
B3: Empresa licitante
B4: Empresa de pertenencia
B5: Número de recurso
B6: Categoría ofertada
B7: Servicio a administrar
B9: Experiencia mínima exigida en pliego en sistemas críticos relacionados con el servicio
B10: Sistema | D10: Relevancia | E10: Coincidencia | F10: Experiencia | G10: Puntuación
G11: -
G12: -
G13: -
G14: -
G15: -
B17: Experiencia en tecnologías relacionadas con el servicio
B18: Sistema | D18: Relevancia | E18: Coincidencia | F18: Experiencia | G18: Puntuación
G19: =IFERROR(VLOOKUP(_xlfn.CONCAT(VLOOKUP(F19,'Criterios de valor. automáticos'!$B$4:$C$6,2,FALSE),VLOOKUP(D19,'Criterios de valor. automáticos'!$B$9:$C$11,2,FALSE),VLOOKUP(E19,'Criterios de valor. automáticos'!$B$14:$C$16,2,FALSE)),'Criterios de valor. automáticos'!$E$4:$I$30,5,FALSE),0) -> 0
G20: =IFERROR(VLOOKUP(_xlfn.CONCAT(VLOOKUP(F20,'Criterios de valor. automáticos'!$B$4:$C$6,2,FALSE),VLOOKUP(D20,'Criterios de valor. automáticos'!$B$9:$C$11,2,FALSE),VLOOKUP(E20,'Criterios de valor. automáticos'!$B$14:$C$16,2,FALSE)),'Criterios de valor. automáticos'!$E$4:$I$30,5,FALSE),0) -> 0
G21: =IFERROR(VLOOKUP(_xlfn.CONCAT(VLOOKUP(F21,'Criterios de valor. automáticos'!$B$4:$C$6,2,FALSE),VLOOKUP(D21,'Criterios de valor. automáticos'!$B$9:$C$11,2,FALSE),VLOOKUP(E21,'Criterios de valor. automáticos'!$B$14:$C$16,2,FALSE)),'Criterios de valor. automáticos'!$E$4:$I$30,5,FALSE),0) -> 0
G22: =IFERROR(VLOOKUP(_xlfn.CONCAT(VLOOKUP(F22,'Criterios de valor. automáticos'!$B$4:$C$6,2,FALSE),VLOOKUP(D22,'Criterios de valor. automáticos'!$B$9:$C$11,2,FALSE),VLOOKUP(E22,'Criterios de valor. automáticos'!$B$14:$C$16,2,FALSE)),'Criterios de valor. automáticos'!$E$4:$I$30,5,FALSE),0) -> 0
G23: =IFERROR(VLOOKUP(_xlfn.CONCAT(VLOOKUP(F23,'Criterios de valor. automáticos'!$B$4:$C$6,2,FALSE),VLOOKUP(D23,'Criterios de valor. automáticos'!$B$9:$C$11,2,FALSE),VLOOKUP(E23,'Criterios de valor. automáticos'!$B$14:$C$16,2,FALSE)),'Criterios de valor. automáticos'!$E$4:$I$30,5,FALSE),0) -> 0
G24: =IFERROR(VLOOKUP(_xlfn.CONCAT(VLOOKUP(F24,'Criterios de valor. automáticos'!$B$4:$C$6,2,FALSE),VLOOKUP(D24,'Criterios de valor. automáticos'!$B$9:$C$11,2,FALSE),VLOOKUP(E24,'Criterios de valor. automáticos'!$B$14:$C$16,2,FALSE)),'Criterios de valor. automáticos'!$E$4:$I$30,5,FALSE),0) -> 0
G25: =IFERROR(VLOOKUP(_xlfn.CONCAT(VLOOKUP(F25,'Criterios de valor. automáticos'!$B$4:$C$6,2,FALSE),VLOOKUP(D25,'Criterios de valor. automáticos'!$B$9:$C$11,2,FALSE),VLOOKUP(E25,'Criterios de valor. automáticos'!$B$14:$C$16,2,FALSE)),'Criterios de valor. automáticos'!$E$4:$I$30,5,FALSE),0) -> 0
G26: =IFERROR(VLOOKUP(_xlfn.CONCAT(VLOOKUP(F26,'Criterios de valor. automáticos'!$B$4:$C$6,2,FALSE),VLOOKUP(D26,'Criterios de valor. automáticos'!$B$9:$C$11,2,FALSE),VLOOKUP(E26,'Criterios de valor. automáticos'!$B$14:$C$16,2,FALSE)),'Criterios de valor. automáticos'!$E$4:$I$30,5,FALSE),0) -> 0
G27: =IFERROR(VLOOKUP(_xlfn.CONCAT(VLOOKUP(F27,'Criterios de valor. automáticos'!$B$4:$C$6,2,FALSE),VLOOKUP(D27,'Criterios de valor. automáticos'!$B$9:$C$11,2,FALSE),VLOOKUP(E27,'Criterios de valor. automáticos'!$B$14:$C$16,2,FALSE)),'Criterios de valor. automáticos'!$E$4:$I$30,5,FALSE),0) -> 0
B28: Subtotal | G28: =IF(GESTEP(SUM(G19:G27),MAX_EXPERIENCIA),MAX_EXPERIENCIA,SUM(G19:G27)) -> 0
B30: Certificaciones en tecnologías relevantes
B31: Certificación | F31: Relevancia | G31: Puntuación
G32: =IFERROR(VLOOKUP(F32,'Criterios de valor. automáticos'!$B$41:$C$43,2,FALSE),0) -> 0
G33: =IFERROR(VLOOKUP(F33,'Criterios de valor. automáticos'!$B$41:$C$43,2,FALSE),0) -> 0
G34: =IFERROR(VLOOKUP(F34,'Criterios de valor. automáticos'!$B$41:$C$43,2,FALSE),0) -> 0
G35: =IFERROR(VLOOKUP(F35,'Criterios de valor. automáticos'!$B$41:$C$43,2,FALSE),0) -> 0
G36: =IFERROR(VLOOKUP(F36,'Criterios de valor. automáticos'!$B$41:$C$43,2,FALSE),0) -> 0
G37: =IFERROR(VLOOKUP(F37,'Criterios de valor. automáticos'!$B$41:$C$43,2,FALSE),0) -> 0
G38: =IFERROR(VLOOKUP(F38,'Criterios de valor. automáticos'!$B$41:$C$43,2,FALSE),0) -> 0
B39: Subtotal | G39: =IF(GESTEP(SUM(G32:G38),MAX_CERTIFICACIONES),MAX_CERTIFICACIONES,SUM(G32:G38)) -> 0
B41: Formación reglada
B42: Título | F42: Nivel MECES | G42: Puntuación
G43: =IF(GESTEP(IFERROR(F43-VLOOKUP($C$6,'Criterios de valor. automáticos'!$B$50:$C$52,2,FALSE),0)),IFERROR(F43-VLOOKUP($C$6,'Criterios de valor. automáticos'!$B$50:$C$52,2,FALSE),0),0) -> 0
G44: =IF(GESTEP(IFERROR(F44-VLOOKUP($C$6,'Criterios de valor. automáticos'!$B$50:$C$52,2,FALSE),0)),IFERROR(F44-VLOOKUP($C$6,'Criterios de valor. automáticos'!$B$50:$C$52,2,FALSE),0),0) -> 0
G45: =IF(GESTEP(IFERROR(F45-VLOOKUP($C$6,'Criterios de valor. automáticos'!$B$50:$C$52,2,FALSE),0)),IFERROR(F45-VLOOKUP($C$6,'Criterios de valor. automáticos'!$B$50:$C$52,2,FALSE),0),0) -> 0
G46: =IF(GESTEP(IFERROR(F46-VLOOKUP($C$6,'Criterios de valor. automáticos'!$B$50:$C$52,2,FALSE),0)),IFERROR(F46-VLOOKUP($C$6,'Criterios de valor. automáticos'!$B$50:$C$52,2,FALSE),0),0) -> 0
B47: Subtotal | G47: =IF(GESTEP(SUM(G43:G46),MAX_FORM_REGLADA),MAX_FORM_REGLADA,SUM(G43:G46)) -> 0
B49: Formación en tecnologías relevantes
B50: Título (Sistema) | E50: Relevancia | F50: Duración (horas) | G50: Puntuación
G51: =ROUNDDOWN(IFERROR(F51/VLOOKUP(E51,'Criterios de valor. automáticos'!$B$46:$D$47,2,FALSE),0),0) -> 0
G52: =ROUNDDOWN(IFERROR(F52/VLOOKUP(E52,'Criterios de valor. automáticos'!$B$46:$D$47,2,FALSE),0),0) -> 0
G53: =ROUNDDOWN(IFERROR(F53/VLOOKUP(E53,'Criterios de valor. automáticos'!$B$46:$D$47,2,FALSE),0),0) -> 0
G54: =ROUNDDOWN(IFERROR(F54/VLOOKUP(E54,'Criterios de valor. automáticos'!$B$46:$D$47,2,FALSE),0),0) -> 0
G55: =ROUNDDOWN(IFERROR(F55/VLOOKUP(E55,'Criterios de valor. automáticos'!$B$46:$D$47,2,FALSE),0),0) -> 0
B56: Subtotal | G56: =IF(GESTEP(SUM(G51:G55),MAX_FORM_TECNOLOGICA),MAX_FORM_TECNOLOGICA,SUM(G51:G55)) -> 0
B59: Total | G59: =G28+G39+G47+G56 -> 0

Sheet EXTRA4
B2: Identificación del perfil
B3: Empresa licitante
B4: Empresa de pertenencia
B5: Número de recurso
B6: Categoría ofertada
B7: Servicio a administrar
B9: Experiencia mínima exigida en pliego en sistemas críticos relacionados con el servicio
B10: Sistema | D10: Relevancia | E10: Coincidencia | F10: Experiencia | G10: Puntuación
G11: -
G12: -
G13: -
G14: -
G15: -
B17: Experiencia en tecnologías relacionadas con el servicio
B18: Sistema | D18: Relevancia | E18: Coincidencia | F18: Experiencia | G18: Puntuación
G19: =IFERROR(VLOOKUP(_xlfn.CONCAT(VLOOKUP(F19,'Criterios de valor. automáticos'!$B$4:$C$6,2,FALSE),VLOOKUP(D19,'Criterios de valor. automáticos'!$B$9:$C$11,2,FALSE),VLOOKUP(E19,'Criterios de valor. automáticos'!$B$14:$C$16,2,FALSE)),'Criterios de valor. automáticos'!$E$4:$I$30,5,FALSE),0) -> 0
G20: =IFERROR(VLOOKUP(_xlfn.CONCAT(VLOOKUP(F20,'Criterios de valor. automáticos'!$B$4:$C$6,2,FALSE),VLOOKUP(D20,'Criterios de valor. automáticos'!$B$9:$C$11,2,FALSE),VLOOKUP(E20,'Criterios de valor. automáticos'!$B$14:$C$16,2,FALSE)),'Criterios de valor. automáticos'!$E$4:$I$30,5,FALSE),0) -> 0
G21: =IFERROR(VLOOKUP(_xlfn.CONCAT(VLOOKUP(F21,'Criterios de valor. automáticos'!$B$4:$C$6,2,FALSE),VLOOKUP(D21,'Criterios de valor. automáticos'!$B$9:$C$11,2,FALSE),VLOOKUP(E21,'Criterios de valor. automáticos'!$B$14:$C$16,2,FALSE)),'Criterios de valor. automáticos'!$E$4:$I$30,5,FALSE),0) -> 0
G22: =IFERROR(VLOOKUP(_xlfn.CONCAT(VLOOKUP(F22,'Criterios de valor. automáticos'!$B$4:$C$6,2,FALSE),VLOOKUP(D22,'Criterios de valor. automáticos'!$B$9:$C$11,2,FALSE),VLOOKUP(E22,'Criterios de valor. automáticos'!$B$14:$C$16,2,FALSE)),'Criterios de valor. automáticos'!$E$4:$I$30,5,FALSE),0) -> 0
G23: =IFERROR(VLOOKUP(_xlfn.CONCAT(VLOOKUP(F23,'Criterios de valor. automáticos'!$B$4:$C$6,2,FALSE),VLOOKUP(D23,'Criterios de valor. automáticos'!$B$9:$C$11,2,FALSE),VLOOKUP(E23,'Criterios de valor. automáticos'!$B$14:$C$16,2,FALSE)),'Criterios de valor. automáticos'!$E$4:$I$30,5,FALSE),0) -> 0
G24: =IFERROR(VLOOKUP(_xlfn.CONCAT(VLOOKUP(F24,'Criterios de valor. automáticos'!$B$4:$C$6,2,FALSE),VLOOKUP(D24,'Criterios de valor. automáticos'!$B$9:$C$11,2,FALSE),VLOOKUP(E24,'Criterios de valor. automáticos'!$B$14:$C$16,2,FALSE)),'Criterios de valor. automáticos'!$E$4:$I$30,5,FALSE),0) -> 0
G25: =IFERROR(VLOOKUP(_xlfn.CONCAT(VLOOKUP(F25,'Criterios de valor. automáticos'!$B$4:$C$6,2,FALSE),VLOOKUP(D25,'Criterios de valor. automáticos'!$B$9:$C$11,2,FALSE),VLOOKUP(E25,'Criterios de valor. automáticos'!$B$14:$C$16,2,FALSE)),'Criterios de valor. automáticos'!$E$4:$I$30,5,FALSE),0) -> 0
G26: =IFERROR(VLOOKUP(_xlfn.CONCAT(VLOOKUP(F26,'Criterios de valor. automáticos'!$B$4:$C$6,2,FALSE),VLOOKUP(D26,'Criterios de valor. automáticos'!$B$9:$C$11,2,FALSE),VLOOKUP(E26,'Criterios de valor. automáticos'!$B$14:$C$16,2,FALSE)),'Criterios de valor. automáticos'!$E$4:$I$30,5,FALSE),0) -> 0
G27: =IFERROR(VLOOKUP(_xlfn.CONCAT(VLOOKUP(F27,'Criterios de valor. automáticos'!$B$4:$C$6,2,FALSE),VLOOKUP(D27,'Criterios de valor. automáticos'!$B$9:$C$11,2,FALSE),VLOOKUP(E27,'Criterios de valor. automáticos'!$B$14:$C$16,2,FALSE)),'Criterios de valor. automáticos'!$E$4:$I$30,5,FALSE),0) -> 0
B28: Subtotal | G28: =IF(GESTEP(SUM(G19:G27),MAX_EXPERIENCIA),MAX_EXPERIENCIA,SUM(G19:G27)) -> 0
B30: Certificaciones en tecnologías relevantes
B31: Certificación | F31: Relevancia | G31: Puntuación
G32: =IFERROR(VLOOKUP(F32,'Criterios de valor. automáticos'!$B$41:$C$43,2,FALSE),0) -> 0
G33: =IFERROR(VLOOKUP(F33,'Criterios de valor. automáticos'!$B$41:$C$43,2,FALSE),0) -> 0
G34: =IFERROR(VLOOKUP(F34,'Criterios de valor. automáticos'!$B$41:$C$43,2,FALSE),0) -> 0
G35: =IFERROR(VLOOKUP(F35,'Criterios de valor. automáticos'!$B$41:$C$43,2,FALSE),0) -> 0
G36: =IFERROR(VLOOKUP(F36,'Criterios de valor. automáticos'!$B$41:$C$43,2,FALSE),0) -> 0
G37: =IFERROR(VLOOKUP(F37,'Criterios de valor. automáticos'!$B$41:$C$43,2,FALSE),0) -> 0
G38: =IFERROR(VLOOKUP(F38,'Criterios de valor. automáticos'!$B$41:$C$43,2,FALSE),0) -> 0
B39: Subtotal | G39: =IF(GESTEP(SUM(G32:G38),MAX_CERTIFICACIONES),MAX_CERTIFICACIONES,SUM(G32:G38)) -> 0
B41: Formación reglada
B42: Título | F42: Nivel MECES | G42: Puntuación
G43: =IF(GESTEP(IFERROR(F43-VLOOKUP($C$6,'Criterios de valor. automáticos'!$B$50:$C$52,2,FALSE),0)),IFERROR(F43-VLOOKUP($C$6,'Criterios de valor. automáticos'!$B$50:$C$52,2,FALSE),0),0) -> 0
G44: =IF(GESTEP(IFERROR(F44-VLOOKUP($C$6,'Criterios de valor. automáticos'!$B$50:$C$52,2,FALSE),0)),IFERROR(F44-VLOOKUP($C$6,'Criterios de valor. automáticos'!$B$50:$C$52,2,FALSE),0),0) -> 0
G45: =IF(GESTEP(IFERROR(F45-VLOOKUP($C$6,'Criterios de valor. automáticos'!$B$50:$C$52,2,FALSE),0)),IFERROR(F45-VLOOKUP($C$6,'Criterios de valor. automáticos'!$B$50:$C$52,2,FALSE),0),0) -> 0
G46: =IF(GESTEP(IFERROR(F46-VLOOKUP($C$6,'Criterios de valor. automáticos'!$B$50:$C$52,2,FALSE),0)),IFERROR(F46-VLOOKUP($C$6,'Criterios de valor. automáticos'!$B$50:$C$52,2,FALSE),0),0) -> 0
B47: Subtotal | G47: =IF(GESTEP(SUM(G43:G46),MAX_FORM_REGLADA),MAX_FORM_REGLADA,SUM(G43:G46)) -> 0
B49: Formación en tecnologías relevantes
B50: Título (Sistema) | E50: Relevancia | F50: Duración (horas) | G50: Puntuación
G51: =ROUNDDOWN(IFERROR(F51/VLOOKUP(E51,'Criterios de valor. automáticos'!$B$46:$D$47,2,FALSE),0),0) -> 0
G52: =ROUNDDOWN(IFERROR(F52/VLOOKUP(E52,'Criterios de valor. automáticos'!$B$46:$D$47,2,FALSE),0),0) -> 0
G53: =ROUNDDOWN(IFERROR(F53/VLOOKUP(E53,'Criterios de valor. automáticos'!$B$46:$D$47,2,FALSE),0),0) -> 0
G54: =ROUNDDOWN(IFERROR(F54/VLOOKUP(E54,'Criterios de valor. automáticos'!$B$46:$D$47,2,FALSE),0),0) -> 0
G55: =ROUNDDOWN(IFERROR(F55/VLOOKUP(E55,'Criterios de valor. automáticos'!$B$46:$D$47,2,FALSE),0),0) -> 0
B56: Subtotal | G56: =IF(GESTEP(SUM(G51:G55),MAX_FORM_TECNOLOGICA),MAX_FORM_TECNOLOGICA,SUM(G51:G55)) -> 0
B59: Total | G59: =G28+G39+G47+G56 -> 0
