Workbook

Sheet ALTERNATIVA ADJUDICADA
A3: PROPUESTA DE ADJUDICACIÓN DEL EXPEDIENTE S-03125-2024
A4: =valoración!A4 -> "PROYECTO HAZ - DOCENCIA CFGS PRODUCCIÓN AUDIOVISUALES Y ESPECTÁCULOS"
A5: =valoración!A5 -> RESUMEN PUNTUACIÓN TÉCNICA Y ECONÓMICA
E8: Alternativa 1: ofertas individuales
A9: Lotes | B9: Ofertas | C9: Valor estimado (Sin modificación) | D9: Puntuación técnica | E9: Importe Oferta (Contrato + prorroga/s) | F9: Puntuación económica | G9: Total Puntuación | H9: Oferta seleccionada | I9: Factor de ponderación | J9: Valoración ponderada | K9: % Ahorro s/ licitación
A10: =valoración!A9 -> LOTE 1:Tutorización presencial de ciclo | B10: =valoración!B9 -> ALFREDO CORDERO MARCOS | C10: =valoración!C9 -> 47334 | D10: 75 | E10: 47334 | F10: 24.893919 | G10: 99.893919 | H10: 1 | I10: 0.29595455 | J10: 29.56406 | K10: =100-($E10*100/$C10) -> 0
B11: =valoración!B10 -> ANDREU FULLANA ARIAS | C11: =valoración!C10 -> 47334 | D11: 69 | E11: 47134 | F11: 25 | G11: 94 | K11: =100-($E11*100/$C11) -> 0.42252926
B12: =valoración!B11 -> UNIVERSO MEDIA TECH S.L. | C12: =valoración!C11 -> 47334 | D12: - | E12: EXCLUIDA / INADMITIDA: | F12: Junto a la oferta adminsitrativa, incluye las propuestas que se tienen que valorar con criterios automáticos: técnicos y económicos.
A13: =valoración!A12 -> LOTE 2: Docentes especialistas módulo empleabilidad I | B13: =valoración!B12 -> ALFREDO CORDERO MARCOS | C13: =valoración!C12 -> 9196.44 | D13: 68 | E13: 9196.44 | F13: 25 | G13: 93 | H13: 1 | I13: 0.057500491 | J13: 5.3475457 | K13: =100-($E13*100/$C13) -> 0
B14: =valoración!B13 -> UNIVERSO MEDIA TECH S.L. | C14: =valoración!C13 -> 9196.44 | D14: - | E14: EXCLUIDA / INADMITIDA: | F14: Junto a la oferta adminsitrativa, incluye las propuestas que se tienen que valorar con criterios automáticos: técnicos y económicos.
A15: LOTE 3:Docentes especialistas de PPA | B15: ANDREU FULLANA ARIAS | C15: =12719.76+12719.76 -> 25439.52 | D15: =27+38 -> 65 | E15: 25239.52 | F15: 24.602344 | G15: 89.602344 | H15: 1 | I15: 0.15905991 | J15: 14.220129 | K15: =100-($E15*100/$C15) -> 0.78617836 | R15: =12619.76*2 -> 25239.52
B16: SMIZ & PIXEL S.L. | C16: =12719.76+12719.76 -> 25439.52 | D16: =18+35 -> 53 | E16: 25439.52 | F16: 24.801898 | G16: 77.801898 | K16: =100-($E16*100/$C16) -> 0
B17: UNIVERSO MEDIA TECH S.L. | C17: =12719.76+12719.76 -> 25439.52 | D17: - | E17: EXCLUIDA / INADMITIDA: | F17: Junto a la oferta adminsitrativa, incluye las propuestas que se tienen que valorar con criterios automáticos: técnicos y económicos.
A18: LOTE 4:Docentes especialistas módulo PPE | B18: ANDREU FULLANA ARIAS | C18: =17542.17+17542.17 -> 35084.34 | D18: =27+38 -> 65 | E18: 34844.34 | F18: 25 | G18: 90 | H18: 1 | I18: 0.21936388 | J18: 19.74275 | K18: =100-($E18*100/$C18) -> 0.68406588
B19: ANA GIL PÉREZ | C19: =17542.17+17542.17 -> 35084.34 | D19: - | E19: EXCLUIDA / INADMITIDA: | F19: No dispone de solvencias técnicas
B20: UNIVERSO MEDIA TECH S.L. | C20: =17542.17+17542.17 -> 35084.34 | D20: - | E20: EXCLUIDA / INADMITIDA: | F20: Junto a la oferta adminsitrativa, incluye las propuestas que se tienen que valorar con criterios automáticos: técnicos y económicos.
A21: LOTE 5:Docentes especialistas módulo MTA | B21: ANA GIL PÉREZ | C21: =9913.59+9913.59 -> 19827.18 | D21: DESIERTO | E21: EXCLUIDA / INADMITIDA: | F21: No dispone de solvencias técnicas
B22: UNIVERSO MEDIA TECH S.L. | C22: =9913.59+9913.59 -> 19827.18 | E22: EXCLUIDA / INADMITIDA: | F22: Junto a la oferta adminsitrativa, incluye las propuestas que se tienen que valorar con criterios automáticos: técnicos y económicos.
A23: LOTE 6: Docentes especialistas módulo REA | B23: SMIZ & PIXEL S.L. | C23: 23055.24 | D23: =18+35 -> 53 | E23: 23055.24 | F23: 25 | G23: 78 | H23: 1 | I23: 0.14415226 | J23: 11.243876 | K23: =100-($E23*100/$C23) -> 0
B24: ANA GIL PÉREZ | C24: 23055.24 | D24: - | E24: EXCLUIDA / INADMITIDA: | F24: No dispone de solvencias técnicas
B25: UNIVERSO MEDIA TECH S.L. | C25: 23055.24 | D25: - | E25: EXCLUIDA / INADMITIDA: | F25: Junto a la oferta adminsitrativa, incluye las propuestas que se tienen que valorar con criterios automáticos: técnicos y económicos.
B26: Valor estimado total: | C26: =C10+C13+C15+C18+C21+C23 -> 159936.72
A28: De conformidad con los criterios de valoración establecidos en el Pliego de Condiciones Generales de Contratación de este Expediente.
A29: Madrid, a 24 de julio de 2024

Sheet valoración
T1: FÓRMULA PUNTUACIÓN ECONÓMICA: Adaptar a cada lote, estará condicionada por el número de ofertas y por los puntos que se dan a la oferta económica.
T2: Celda contigua: incluir puntuación económica indicada en los pliegos. Si los lotes se valoran con diferente puntuación económica hay que tenerlo en cuenta en la fórmula. | U2: 25
A3: VALORACIÓN PONDERADA DE LAS OFERTAS PRESENTADAS AL EXPEDIENTE S-03125-2024 | T3: Adaptar la tabla al número de lotes y ofertas recibidas, insertando o eliminando filas, tener en cuenta si se desestima una oferta, indicar los motivos..
A4: "PROYECTO HAZ - DOCENCIA CFGS PRODUCCIÓN AUDIOVISUALES Y ESPECTÁCULOS"
A5: RESUMEN PUNTUACIÓN TÉCNICA Y ECONÓMICA
E7: Alternativa 1: ofertas individuales | K7: Alternativa 2: oferta conjunta "SMIZ&PIXEL SL" por los lotes 3 y 6 (3% de descuento)
A8: Lotes | B8: Ofertas | C8: Valor estimado Contrato + prórroga (Sin modificación) | D8: Puntuación técnica | E8: Importe Oferta (Contrato + prorroga/s) | F8: Puntuación económica | G8: Puntuación Total | H8: Oferta seleccionada | I8: Factor de ponderación | J8: Valoración ponderada | K8: Baja oferta conjunta | L8: Importe Oferta (Contrato + prorroga/s) | M8: Puntuación económica | N8: Total Puntuación | O8: Oferta seleccionada | P8: Factor de ponderación | Q8: Valoración ponderada
A9: LOTE 1:Tutorización presencial de ciclo | B9: ALFREDO CORDERO MARCOS | C9: =23667+23667 -> 47334 | D9: 75 | E9: =23667+23667 -> 47334 | F9: =$U$2*(2-E9/MIN(E$9:E$11)) -> 24.893919 | G9: =D9+F9 -> 99.893919 | H9: 1 | I9: =+$C9/$C$25*H9 -> 0.29595455 | J9: =+G9*I9 -> 29.56406 | L9: =+$E9*(1-K9) -> 47334 | M9: =$U$2*(2-L9/MIN(L$9:L$11)) -> 24.893919 | N9: =$D9+M9 -> 99.893919 | O9: 1 | P9: =+$C9/$C$25*O9 -> 0.29595455 | Q9: =+N9*P9 -> 29.56406
B10: ANDREU FULLANA ARIAS | C10: =C9 -> 47334 | D10: 69 | E10: =23567*2 -> 47134 | F10: =$U$2*(2-E10/MIN(E$9:E$11)) -> 25 | G10: =D10+F10 -> 94 | I10: =+$C10/$C$25*H10 -> 0 | L10: =+$E10*(1-K10) -> 47134 | M10: =$U$2*(2-L10/MIN(L$9:L$11)) -> 25 | N10: =$D10+M10 -> 94 | P10: =+$C10/$C$25*O10 -> 0 | Q10: =+N10*P10 -> 0
B11: UNIVERSO MEDIA TECH S.L. | C11: =C10 -> 47334 | D11: - | E11: EXCLUIDA / INADMITIDA: | F11: Junto a la oferta adminsitrativa, incluye las propuestas que se tienen que valorar con criterios automáticos: técnicos y económicos.
A12: LOTE 2: Docentes especialistas módulo empleabilidad I | B12: ALFREDO CORDERO MARCOS | C12: =4598.22+4598.22 -> 9196.44 | D12: 68 | E12: =4598.22*2 -> 9196.44 | F12: =$U$2*(2-E12/MIN(E$12:E$13)) -> 25 | G12: =D12+F12 -> 93 | H12: 1 | I12: =+$C12/$C$25*H12 -> 0.057500491 | J12: =+G12*I12 -> 5.3475457 | L12: =+$E12*(1-K12) -> 9196.44 | M12: =$U$2*(2-L12/MIN(L$12:L$13)) -> 25 | N12: =$D12+M12 -> 93 | O12: 1 | P12: =+$C12/$C$25*O12 -> 0.057500491 | Q12: =+N12*P12 -> 5.3475457
B13: UNIVERSO MEDIA TECH S.L. | C13: =4598.22+4598.22 -> 9196.44 | D13: - | E13: EXCLUIDA / INADMITIDA: | F13: Junto a la oferta adminsitrativa, incluye las propuestas que se tienen que valorar con criterios automáticos: técnicos y económicos.
A14: LOTE 3:Docentes especialistas de PPA | B14: ANDREU FULLANA ARIAS | C14: =12719.76+12719.76 -> 25439.52 | D14: =27+38 -> 65 | E14: =12619.76*2 -> 25239.52 | F14: =$U$2*(2-E14/MIN(E$14:E$16)) -> 25 | G14: =D14+F14 -> 90 | H14: 1 | I14: =+$C14/$C$25*H14 -> 0.15905991 | J14: =+G14*I14 -> 14.315392 | L14: =+$E14*(1-K14) -> 25239.52 | M14: =$U$2*(2-L14/MIN(L$14:L$16)) -> 24.429427 | N14: =$D14+M14 -> 89.429427 | P14: =+$C14/$C$25*O14 -> 0 | Q14: =+N14*P14 -> 0
B15: SMIZ & PIXEL S.L. | C15: =12719.76+12719.76 -> 25439.52 | D15: =18+35 -> 53 | E15: =12719.76*2 -> 25439.52 | F15: =$U$2*(2-E15/MIN(E$14:E$16)) -> 24.801898 | G15: =D15+F15 -> 77.801898 | K15: 0.03 | L15: =+$E15*(1-K15) -> 24676.334 | M15: =$U$2*(2-L15/MIN(L$14:L$16)) -> 25 | N15: =$D15+M15 -> 78 | O15: 1 | P15: =+$C15/$C$25*O15 -> 0.15905991 | Q15: =+N15*P15 -> 12.406673
B16: UNIVERSO MEDIA TECH S.L. | C16: =12719.76+12719.76 -> 25439.52 | D16: - | E16: EXCLUIDA / INADMITIDA: | F16: Junto a la oferta adminsitrativa, incluye las propuestas que se tienen que valorar con criterios automáticos: técnicos y económicos.
A17: LOTE 4:Docentes especialistas módulo PPE | B17: ANDREU FULLANA ARIAS | C17: =17542.17+17542.17 -> 35084.34 | D17: =27+38 -> 65 | E17: =17422.17*2 -> 34844.34 | F17: =$U$2*(2-E17/MIN(E$17:E$19)) -> 25 | G17: =D17+F17 -> 90 | H17: 1 | I17: =+$C17/$C$25*H17 -> 0.21936388 | J17: =+G17*I17 -> 19.74275 | L17: =+$E17*(1-K17) -> 34844.34 | M17: =F17 -> 25 | N17: =$D17+M17 -> 90 | O17: 1 | P17: =+$C17/$C$25*O17 -> 0.21936388 | Q17: =+N17*P17 -> 19.74275
B18: ANA GIL PÉREZ | C18: =17542.17+17542.17 -> 35084.34 | D18: - | E18: EXCLUIDA / INADMITIDA: | F18: No dispone de solvencias técnicas
B19: UNIVERSO MEDIA TECH S.L. | C19: =17542.17+17542.17 -> 35084.34 | D19: - | E19: EXCLUIDA / INADMITIDA: | F19: Junto a la oferta adminsitrativa, incluye las propuestas que se tienen que valorar con criterios automáticos: técnicos y económicos.
A20: LOTE 5: Docentes especialistas módulo MTA | B20: ANA GIL PÉREZ | C20: =9913.59+9913.59 -> 19827.18 | D20: DESIERTO | E20: EXCLUIDA / INADMITIDA: | F20: No dispone de solvencias técnicas
B21: UNIVERSO MEDIA TECH S.L. | C21: =9913.59+9913.59 -> 19827.18 | E21: EXCLUIDA / INADMITIDA: | F21: Junto a la oferta adminsitrativa, incluye las propuestas que se tienen que valorar con criterios automáticos: técnicos y económicos.
A22: LOTE 6: Docentes especialistas módulo REA | B22: SMIZ & PIXEL S.L. | C22: 23055.24 | D22: =18+35 -> 53 | E22: =11527.62*2 -> 23055.24 | F22: =$U$2*(2-E22/MIN(E$22:E$24)) -> 25 | G22: =D22+F22 -> 78 | H22: 1 | I22: =+$C22/$C$25*H22 -> 0.14415226 | J22: =+G22*I22 -> 11.243876 | K22: 0.03 | L22: =+$E22*(1-K22) -> 22363.583 | M22: =+F22 -> 25 | N22: =$D22+M22 -> 78 | O22: 1 | P22: =+$C22/$C$25*O22 -> 0.14415226 | Q22: =+N22*P22 -> 11.243876
B23: ANA GIL PÉREZ | C23: 23055.24 | D23: 0 | E23: EXCLUIDA / INADMITIDA: | F23: No dispone de solvencias técnicas
B24: UNIVERSO MEDIA TECH S.L. | C24: 23055.24 | D24: 0 | E24: EXCLUIDA / INADMITIDA: | F24: Junto a la oferta adminsitrativa, incluye las propuestas que se tienen que valorar con criterios automáticos: técnicos y económicos.
B25: Valor estimado total: | C25: =C9+C12+C14+C17+C20+C22 -> 159936.72 | I25: Puntuación total ponderada | J25: =SUM(J9:J24) -> 80.213623 | P25: Puntuación total ponderada | Q25: =SUM(Q9:Q24) -> 78.304904
A28: De conformidad con los criterios de valoración establecidos en el Pliego de Condiciones Generales de Contratación de este Expediente.
A29: Madrid, a 24 de julio de 2024
