Workbook

Sheet ALTERNATIVA ADJUDICADA
A2: =valoración!A3 -> PROPUESTA DE ADJUDICACIÓN DEL EXPEDIENTE S-04553-2024
A3: =valoración!A4 -> "Adquisición de tarjetas de memoria y discos duros"
A4: =valoración!A5 -> RESUMEN PUNTUACIÓN TÉCNICA Y ECONÓMICA
E7: Alternativa 1: Ofertas individuales
A8: Lotes | B8: Ofertas | C8: Valor estimado | D8: Puntuación técnica | E8: Baja oferta conjunta | F8: Importe Oferta | G8: Puntuación económica | H8: Total Puntuación | I8: Oferta seleccionada | J8: Factor de ponderación | K8: Valoración ponderada | L8: % Ahorro s/ licitación
A9: Lote 1: Tarjetas de memoria SXS y XQD | B9: BROAD SERVICE TECHICAL SUPPORT, S.L. | C9: 23420 | D9: 10 | F9: 20125 | G9: =valoración!F9 -> 84.585242 | H9: =G9+D9 -> 94.585242 | J9: =valoración!I9 -> 0 | K9: =valoración!J9 -> 0 | L9: =100-(F9*100/$C$9) -> 14.069172
B10: ENERGIA, INSTALACIONES T ASESORIA, SLU | C10: 23420 | D10: 3 | F10: 22990.85 | G10: =valoración!F10 -> 74.041543 | H10: =G10+D10 -> 77.041543 | J10: =valoración!I10 -> 0 | K10: =valoración!J10 -> 0 | L10: =100-(F10*100/$C$9) -> 1.8324082
B11: GERSA INFORMATICA SL | C11: 23420 | D11: 10 | F11: 22730.7 | G11: =valoración!F11 -> 74.888939 | H11: =G11+D11 -> 84.888939 | J11: =valoración!I11 -> 0 | K11: =valoración!J11 -> 0 | L11: =100-(F11*100/$C$9) -> 2.9432109
B12: KUIPER INFORMÁTICA, S.A. | C12: 23420 | D12: 10 | F12: 20789 | G12: =valoración!F12 -> 81.883592 | H12: =G12+D12 -> 91.883592 | J12: =valoración!I12 -> 0 | K12: =valoración!J12 -> 0 | L12: =100-(F12*100/$C$9) -> 11.233988
B13: TEDITRONIC, S.L. | C13: 23420 | D13: 3 | F13: 23119.7 | G13: =valoración!F13 -> 73.628897 | H13: =G13+D13 -> 76.628897 | J13: =valoración!I13 -> 0 | K13: =valoración!J13 -> 0 | L13: =100-(F13*100/$C$9) -> 1.2822374
B14: VIDEOLAB, S.A. | C14: 23420 | D14: 10 | F14: 18914.2 | G14: =valoración!F14 -> 90 | H14: =G14+D14 -> 100 | I14: 1 | J14: =valoración!I14 -> 0.90389811 | K14: =valoración!J14 -> 90.389811 | L14: =100-(F14*100/$C$9) -> 19.239112
B15: SINERGIA FACILITY, S.L. | C15: 23420 | D15: 2 | E15: EXCLUIDA: supera el valor estimado del PCG
A16: Lote 2: Discos duros de 2TB y 4TB | B16: BROAD SERVICE TECHICAL SUPPORT, S.L. | C16: 2490 | D16: 10 | F16: 1945 | G16: =valoración!F16 -> 68.034447 | H16: =G16+D16 -> 78.034447 | J16: =valoración!I16 -> 0 | K16: =valoración!J16 -> 0 | L16: =100-(F16*100/$C$16) -> 21.88755
B17: ENERGIA, INSTALACIONES T ASESORIA, SLU | C17: 2490 | D17: 10 | F17: 2104.5 | G17: =valoración!F17 -> 62.878118 | H17: =G17+D17 -> 72.878118 | J17: =valoración!I17 -> 0 | K17: =valoración!J17 -> 0 | L17: =100-(F17*100/$C$16) -> 15.481928
B18: GERSA INFORMATICA SL | C18: 2490 | D18: 10 | F18: 2017.5 | G18: =valoración!F18 -> 65.589591 | H18: =G18+D18 -> 75.589591 | J18: =valoración!I18 -> 0 | K18: =valoración!J18 -> 0 | L18: =100-(F18*100/$C$16) -> 18.975904
B19: INFOREIN SA | C19: 2490 | D19: 10 | F19: 2316.08 | G19: =valoración!F19 -> 57.134037 | H19: =G19+D19 -> 67.134037 | J19: =valoración!I19 -> 0 | K19: =valoración!J19 -> 0 | L19: =100-(F19*100/$C$16) -> 6.984739
B20: KUIPER INFORMÁTICA, S.A. | C20: 2490 | D20: 10 | F20: 1470.3 | G20: =valoración!F20 -> 90 | H20: =G20+D20 -> 100 | I20: 1 | J20: =valoración!I20 -> 0.096101891 | K20: =valoración!J20 -> 9.6101891 | L20: =100-(F20*100/$C$16) -> 40.951807
B21: TEDITRONIC, S.L. | C21: 2490 | D21: 3 | F21: 1473.6 | G21: =valoración!F21 -> 89.798453 | H21: =G21+D21 -> 92.798453 | J21: =valoración!I21 -> 0 | K21: =valoración!J21 -> 0 | L21: =100-(F21*100/$C$16) -> 40.819277
B22: VIDEOLAB S.A. | C22: 2490 | D22: 10 | F22: 1963.1 | G22: =valoración!F22 -> 67.407162 | H22: =G22+D22 -> 77.407162 | J22: =valoración!I22 -> 0 | K22: =valoración!J22 -> 0 | L22: =100-(F22*100/$C$16) -> 21.160643
B23: SINERGIA FACILITY, S.L. | C23: 2490 | D23: 3 | E23: EXCLUIDA: supera el valor estimado del PCG
B24: Valor estimado total: | C24: =C9+C16 -> 25910 | J24: Puntuación total ponderada: | K24: =SUM(K9:K23) -> 100
A27: De conformidad con los criterios de valoración establecidos en el Pliego de Condiciones Generales de Contratación de este Expediente.
A28: Madrid, a 26 de septiembre de 2024
A29: “De conformidad con lo dispuesto en el artículo 44.6 (párrafo segundo) de la Ley 9/2017, de 8 de noviembre, de Contratos del Sector Público, por la que se transponen al ordenamiento jurídico español las Directivas del Parlamento Europeo y del Consejo 2014/23/UE y 2014/24/UE, de 26 de febrero de 2014 (“LCSP”), el presente acuerdo podrá impugnarse en vía administrativa de conformidad con lo dispuesto en la Ley 39/2015, de 1 de octubre, del Procedimiento Administrativo Común de las Administraciones Públicas, ante el Presidente de la Sociedad Estatal de Participaciones Industriales (SEPI), C/ Velázquez nº 134, 28006 Madrid, entidad de derecho público que ostenta la condición de accionista único de la Corporación de Radio y Televisión Española, Sociedad Anónima, S.M.E. en el plazo de un mes a contar desde el día siguiente de la notificación, de acuerdo con lo establecido en la Ley 39/2015, de 1 de octubre, del Procedimiento Administrativo Común de las Administraciones Públicas. Igualmente, le comunicamos que puede ejercer su derecho de acceso al expediente en los términos legalmente establecidos”.

Sheet valoración
T1: FÓRMULA PUNTUACIÓN ECONÓMICA: Adaptar a cada lote, estará condicionada por el número de ofertas y por los puntos que se dan a la oferta económica.
T2: Celda contigua: incluir puntuación económica indicada en los pliegos. Si los lotes se valoran con diferente puntuación económica hay que tenerlo en cuenta en la fórmula. | U2: 90
A3: PROPUESTA DE ADJUDICACIÓN DEL EXPEDIENTE S-04553-2024 | T3: Adaptar la tabla al número de lotes y ofertas recibidas, insertando o eliminando filas, tener en cuenta si se desestima una oferta, indicar los motivos..
A4: "Adquisición de tarjetas de memoria y discos duros"
A5: RESUMEN PUNTUACIÓN TÉCNICA Y ECONÓMICA
E7: Alternativa 1: ofertas individuales | K7: Alternativa 2: oferta conjunta "A" por los dos lotes (1% de descuento)
A8: Lotes | B8: Ofertas | C8: Valor estimado (Sin modificación) | D8: Puntuación técnica | E8: Importe Oferta | F8: Puntuación económica | G8: Puntuación Total | H8: Oferta seleccionada | I8: Factor de ponderación | J8: Valoración ponderada | K8: Baja oferta conjunta | L8: Importe Oferta | M8: Puntuación económica | N8: Total Puntuación | O8: Oferta seleccionada | P8: Factor de ponderación | Q8: Valoración ponderada
A9: Lote 1: Tarjetas de memoria SXS y XQD | B9: BROAD SERVICE TECHICAL SUPPORT, S.L. | C9: 23420 | D9: 10 | E9: 20125 | F9: =$U$2*(MIN(E$9:E$14)/E9) -> 84.585242 | G9: =D9+F9 -> 94.585242 | I9: =+$C9/$C$27*H9 -> 0 | J9: =+G9*I9 -> 0 | K9: 0.01 | L9: =+$E9*(1-K9) -> 19923.75 | M9: =$U$2*(MIN(L$9:L$14)/L9) -> 85.439639 | N9: =$D9+M9 -> 95.439639 | O9: 1 | P9: =+$C9/$C$27*O9 -> 0.90389811 | Q9: =+N9*P9 -> 86.267709
B10: ENERGIA, INSTALACIONES T ASESORIA, SLU | C10: 23420 | D10: 3 | E10: 22990.85 | F10: =$U$2*(MIN(E$9:E$14)/E10) -> 74.041543 | G10: =D10+F10 -> 77.041543 | I10: =+$C10/$C$27*H10 -> 0 | J10: =+G10*I10 -> 0 | L10: =+$E10*(1-K10) -> 22990.85 | M10: =$U$2*(MIN(L$9:L$14)/L10) -> 74.041543 | N10: =$D10+M10 -> 77.041543 | P10: =+$C10/$C$27*O10 -> 0 | Q10: =+N10*P10 -> 0
B11: GERSA INFORMATICA SL | C11: 23420 | D11: 10 | E11: 22730.7 | F11: =$U$2*(MIN(E$9:E$14)/E11) -> 74.888939 | G11: =D11+F11 -> 84.888939 | I11: =+$C11/$C$27*H11 -> 0 | J11: =+G11*I11 -> 0 | L11: =+$E11*(1-K11) -> 22730.7 | M11: =$U$2*(MIN(L$9:L$14)/L11) -> 74.888939 | N11: =$D11+M11 -> 84.888939 | P11: =+$C11/$C$27*O11 -> 0 | Q11: =+N11*P11 -> 0
B12: KUIPER INFORMÁTICA, S.A. | C12: 23420 | D12: 10 | E12: 20789 | F12: =$U$2*(MIN(E$9:E$14)/E12) -> 81.883592 | G12: =D12+F12 -> 91.883592 | I12: =+$C12/$C$27*H12 -> 0 | J12: =+G12*I12 -> 0 | L12: =+$E12*(1-K12) -> 20789 | M12: =$U$2*(MIN(L$9:L$14)/L12) -> 81.883592 | N12: =$D12+M12 -> 91.883592 | Q12: =+N12*P12 -> 0
B13: TEDITRONIC, S.L. | C13: 23420 | D13: 3 | E13: 23119.7 | F13: =$U$2*(MIN(E$9:E$14)/E13) -> 73.628897 | G13: =D13+F13 -> 76.628897 | I13: =+$C13/$C$27*H13 -> 0 | J13: =+G13*I13 -> 0 | L13: =+$E13*(1-K13) -> 23119.7 | M13: =$U$2*(MIN(L$9:L$14)/L13) -> 73.628897 | N13: =$D13+M13 -> 76.628897 | Q13: =+N13*P13 -> 0
B14: VIDEOLAB, S.A. | C14: 23420 | D14: 10 | E14: 18914.2 | F14: =$U$2*(MIN(E$9:E$14)/E14) -> 90 | G14: =D14+F14 -> 100 | H14: 1 | I14: =+$C14/$C$27*H14 -> 0.90389811 | J14: =+G14*I14 -> 90.389811 | L14: =+$E14*(1-K14) -> 18914.2 | M14: =$U$2*(MIN(L$9:L$14)/L14) -> 90 | N14: =$D14+M14 -> 100 | Q14: =+N14*P14 -> 0
B15: SINERGIA FACILITY, S.L. | C15: 23420 | D15: 2 | E15: EXCLUIDA: supera el valor estimado del PCG | K15: EXCLUIDA: supera el valor estimado del PCG
A16: LOTE 2: Discos duros de 2TB y 4TB | B16: BROAD SERVICE TECHICAL SUPPORT, S.L. | C16: 2490 | D16: 10 | E16: 1945 | F16: =$U$2*(MIN(E$16:E$23)/E16) -> 68.034447 | G16: =D16+F16 -> 78.034447 | I16: =+$C16/$C$27*H16 -> 0 | J16: =+G16*I16 -> 0 | K16: 0.01 | L16: =+$E16*(1-K16) -> 1925.55 | M16: =$U$2*(MIN(L$16:L$22)/L16) -> 68.721664 | N16: =$D16+M16 -> 78.721664 | O16: 1 | P16: =+$C16/$C$27*O16 -> 0.096101891 | Q16: =+N16*P16 -> 7.5653008
B17: ENERGIA, INSTALACIONES T ASESORIA, SLU | C17: 2490 | D17: 10 | E17: 2104.5 | F17: =$U$2*(MIN(E$16:E$23)/E17) -> 62.878118 | G17: =D17+F17 -> 72.878118 | I17: =+$C17/$C$27*H17 -> 0 | J17: =+G17*I17 -> 0 | L17: =+$E17*(1-K17) -> 2104.5 | M17: =$U$2*(MIN(L$16:L$22)/L17) -> 62.878118 | N17: =$D17+M17 -> 72.878118 | P17: =+$C17/$C$27*O17 -> 0 | Q17: =+N17*P17 -> 0
B18: GERSA INFORMATICA SL | C18: 2490 | D18: 10 | E18: 2017.5 | F18: =$U$2*(MIN(E$16:E$23)/E18) -> 65.589591 | G18: =D18+F18 -> 75.589591 | I18: =+$C18/$C$27*H18 -> 0 | J18: =+G18*I18 -> 0 | L18: =+$E18*(1-K18) -> 2017.5 | M18: =$U$2*(MIN(L$16:L$22)/L18) -> 65.589591 | N18: =$D18+M18 -> 75.589591 | P18: =+$C18/$C$27*O18 -> 0 | Q18: =+N18*P18 -> 0
B19: INFOREIN SA | C19: 2490 | D19: 10 | E19: 2316.08 | F19: =$U$2*(MIN(E$16:E$23)/E19) -> 57.134037 | G19: =D19+F19 -> 67.134037 | I19: =+$C19/$C$27*H19 -> 0 | J19: =+G19*I19 -> 0 | L19: =+$E19*(1-K19) -> 2316.08 | M19: =$U$2*(MIN(L$16:L$22)/L19) -> 57.134037 | N19: =$D19+M19 -> 67.134037 | P19: =+$C19/$C$27*O19 -> 0 | Q19: =+N19*P19 -> 0
B20: KUIPER INFORMÁTICA, S.A. | C20: 2490 | D20: 10 | E20: 1470.3 | F20: =$U$2*(MIN(E$16:E$23)/E20) -> 90 | G20: =D20+F20 -> 100 | H20: 1 | I20: =+$C20/$C$27*H20 -> 0.096101891 | J20: =+G20*I20 -> 9.6101891 | L20: =+$E20*(1-K20) -> 1470.3 | M20: =$U$2*(MIN(L$16:L$22)/L20) -> 90 | N20: =$D20+M20 -> 100 | P20: =+$C20/$C$27*O20 -> 0 | Q20: =+N20*P20 -> 0
B21: TEDITRONIC, S.L. | C21: 2490 | D21: 3 | E21: 1473.6 | F21: =$U$2*(MIN(E$16:E$23)/E21) -> 89.798453 | G21: =D21+F21 -> 92.798453 | I21: =+$C21/$C$27*H21 -> 0 | J21: =+G21*I21 -> 0 | L21: =+$E21*(1-K21) -> 1473.6 | M21: =$U$2*(MIN(L$16:L$22)/L21) -> 89.798453 | N21: =$D21+M21 -> 92.798453 | P21: =+$C21/$C$27*O21 -> 0 | Q21: =+N21*P21 -> 0
B22: VIDEOLAB S.A. | C22: 2490 | D22: 10 | E22: 1963.1 | F22: =$U$2*(MIN(E$16:E$23)/E22) -> 67.407162 | G22: =D22+F22 -> 77.407162 | I22: =+$C22/$C$27*H22 -> 0 | J22: =+G22*I22 -> 0 | L22: =+$E22*(1-K22) -> 1963.1 | M22: =$U$2*(MIN(L$16:L$22)/L22) -> 67.407162 | N22: =$D22+M22 -> 77.407162 | P22: =+$C22/$C$27*O22 -> 0 | Q22: =+N22*P22 -> 0
B23: SINERGIA FACILITY, S.L. | C23: 2490 | D23: 3 | E23: EXCLUIDA: supera el valor estimado del PCG | K23: EXCLUIDA: supera el valor estimado del PCG
B27: Valor estimado total: | C27: =C9+C16+C24 -> 25910 | I27: Puntuación total ponderada | J27: =SUM(J9:J26) -> 100 | P27: Puntuación total ponderada | Q27: =SUM(Q9:Q26) -> 93.83301
A30: De conformidad con los criterios de valoración establecidos en el Pliego de Condiciones Generales de Contratación de este Expediente.
A31: Madrid, a 26 septiembre de 2024
A32: “De conformidad con lo dispuesto en el artículo 44.6 (párrafo segundo) de la Ley 9/2017, de 8 de noviembre, de Contratos del Sector Público, por la que se transponen al ordenamiento jurídico español las Directivas del Parlamento Europeo y del Consejo 2014/23/UE y 2014/24/UE, de 26 de febrero de 2014 (“LCSP”), el presente acuerdo podrá impugnarse en vía administrativa de conformidad con lo dispuesto en la Ley 39/2015, de 1 de octubre, del Procedimiento Administrativo Común de las Administraciones Públicas, ante el Presidente de la Sociedad Estatal de Participaciones Industriales (SEPI), C/ Velázquez nº 134, 28006 Madrid, entidad de derecho público que ostenta la condición de accionista único de la Corporación de Radio y Televisión Española, Sociedad Anónima, S.M.E. en el plazo de un mes a contar desde el día siguiente de la notificación, de acuerdo con lo establecido en la Ley 39/2015, de 1 de octubre, del Procedimiento Administrativo Común de las Administraciones Públicas. Igualmente, le comunicamos que puede ejercer su derecho de acceso al expediente en los términos legalmente establecidos”.
