Workbook

Sheet ALTERNATIVA ADJUDICADA
A2: =valoración!A3 -> PROPUESTA DE ADJUDICACIÓN DEL EXPEDIENTE S-05026-2024
A3: =valoración!A4 -> "EQUIPOS AUXILIARES DE AUDIO"
A4: =valoración!A5 -> RESUMEN PUNTUACIÓN TÉCNICA Y ECONÓMICA
E7: Alternativa 1: ofertas individuales
A8: Lotes | B8: Ofertas | C8: Valor estimado (Sin modificación) | D8: Puntuación técnica | E8: Importe Oferta | F8: Puntuación económica | G8: Puntuación Total | H8: Oferta seleccionada | I8: Factor de ponderación | J8: Valoración ponderada | K8: % Ahorro s/ licitación
A9: =valoración!A9 -> LOTE 1.- REDUCTOR DE RUIDO | B9: =valoración!B9 -> SERVICIOS INTEGRALES UNITECNIC, S.L.U. | C9: =valoración!C9 -> 17600 | D9: =valoración!D9 -> 12 | E9: 16683.8 | F9: 88 | G9: 100 | H9: 1 | I9: 0.42004773 | J9: 42.004773 | K9: =100-($E9*100/$C9) -> 5.2056818
B10: =valoración!B10 -> SESAUDIO S.L. | C10: =valoración!C10 -> 17600 | D10: =valoración!D10 -> 12 | E10: 17599.6 | F10: 83.420896 | G10: 95.420896 | I10: 0 | J10: 0 | K10: =100-($E10*100/$C10) -> 0.0022727273
A11: =valoración!A11 -> LOTE 2.- DISTRIBUIDOR CONVERSOR MADI | B11: =valoración!B11 -> SESAUDIO S.L. | C11: =valoración!C11 -> 17000 | D11: =valoración!D11 -> 12 | E11: 16999.64 | F11: 88 | G11: 100 | H11: 1 | I11: 0.40572792 | J11: 40.572792 | K11: =100-($E11*100/$C11) -> 0.0021176471
A12: =valoración!A12 -> LOTE 3.- DISTRIBUIDOR-REGENERADOR DE CODIGO DE TIEMPO | B12: =valoración!B12 -> SESAUDIO S.L. | C12: =valoración!C12 -> 2300 | D12: =valoración!D12 -> 12 | E12: 2299.76 | F12: 88 | G12: 100 | H12: 1 | I12: 0.054892601 | J12: 5.4892601 | K12: =100-($E12*100/$C12) -> 0.010434783
A13: =valoración!A13 -> LOTE 4.- INTERFACE DE SONIDO MADI | B13: =valoración!B13 -> SESAUDIO S.L. | C13: =valoración!C13 -> 5000 | D13: =valoración!D13 -> 12 | E13: 4999.7 | F13: 88 | G13: 100 | H13: 1 | I13: 0.11933174 | J13: 11.933174 | K13: =100-($E13*100/$C13) -> 0.006
B14: Valor estimado total: | C14: =C9+C11+C12+C13 -> 41900 | I14: Puntuación total ponderada | J14: 100
A17: De conformidad con los criterios de valoración establecidos en el Pliego de Condiciones Generales de Contratación de este Expediente.
A18: Madrid, a 27 de septiembre de 2024
A20: “De conformidad con lo dispuesto en el artículo 44.6 (párrafo segundo) de la Ley 9/2017, de 8 de noviembre, de Contratos del Sector Público, por la que se transponen al ordenamiento jurídico español las Directivas del Parlamento Europeo y del Consejo 2014/23/UE y 2014/24/UE, de 26 de febrero de 2014 (“LCSP”), el presente acuerdo podrá impugnarse en vía administrativa de conformidad con lo dispuesto en la Ley 39/2015, de 1 de octubre, del Procedimiento Administrativo Común de las Administraciones Públicas, ante el Presidente de la Sociedad Estatal de Participaciones Industriales (SEPI), C/ Velázquez nº 134, 28006 Madrid, entidad de derecho público que ostenta la condición de accionista único de la Corporación de Radio y Televisión Española, Sociedad Anónima, S.M.E. en el plazo de un mes a contar desde el día siguiente de la notificación, de acuerdo con lo establecido en la Ley 39/2015, de 1 de octubre, del Procedimiento Administrativo Común de las Administraciones Públicas. Igualmente, le comunicamos que puede ejercer su derecho de acceso al expediente en los términos legalmente establecidos”.

Sheet valoración
T1: FÓRMULA PUNTUACIÓN ECONÓMICA: Adaptar a cada lote, estará condicionada por el número de ofertas y por los puntos que se dan a la oferta económica.
T2: Celda contigua: incluir puntuación económica indicada en los pliegos. Si los lotes se valoran con diferente puntuación económica hay que tenerlo en cuenta en la fórmula. | U2: 88
A3: PROPUESTA DE ADJUDICACIÓN DEL EXPEDIENTE S-05026-2024 | T3: Adaptar la tabla al número de lotes y ofertas recibidas, insertando o eliminando filas, tener en cuenta si se desestima una oferta, indicar los motivos..
A4: "EQUIPOS AUXILIARES DE AUDIO"
A5: RESUMEN PUNTUACIÓN TÉCNICA Y ECONÓMICA
E7: Alternativa 1: ofertas individuales | K7: Alternativa 2: oferta conjunta "A" por los lotes 1 y 2 (4% de descuento)
A8: Lotes | B8: Ofertas | C8: Valor estimado (Sin modificación) | D8: Puntuación técnica | E8: Importe Oferta | F8: Puntuación económica | G8: Puntuación Total | H8: Oferta seleccionada | I8: Factor de ponderación | J8: Valoración ponderada | K8: Baja oferta conjunta | L8: Importe Oferta | M8: Puntuación económica | N8: Total Puntuación | O8: Oferta seleccionada | P8: Factor de ponderación | Q8: Valoración ponderada
A9: LOTE 1.- REDUCTOR DE RUIDO | B9: SERVICIOS INTEGRALES UNITECNIC, S.L.U. | C9: 17600 | D9: 12 | E9: 16683.8 | F9: =$U$2*(MIN(E$9:E$10)/E9) -> 88 | G9: =D9+F9 -> 100 | H9: 1 | I9: =+$C9/$C$14*H9 -> 0.42004773 | J9: =+G9*I9 -> 42.004773 | L9: =+$E9*(1-K9) -> 16683.8 | M9: =$U$2*(MIN(L$9:L$10)/L9) -> 88 | N9: =$D9+M9 -> 100 | P9: =+$C9/$C$14*O9 -> 0 | Q9: =+N9*P9 -> 0
B10: SESAUDIO S.L. | C10: 17600 | D10: 12 | E10: 17599.6 | F10: =$U$2*(MIN(E$9:E$10)/E10) -> 83.420896 | G10: =D10+F10 -> 95.420896 | I10: =+$C10/$C$14*H10 -> 0 | J10: =+G10*I10 -> 0 | K10: 0.0125 | L10: =+$E10*(1-K10) -> 17379.605 | M10: =$U$2*(MIN(L$9:L$10)/L10) -> 84.476857 | N10: =$D10+M10 -> 96.476857 | O10: 1 | P10: =+$C10/$C$14*O10 -> 0.42004773 | Q10: =+N10*P10 -> 40.524885
A11: LOTE 2.- DISTRIBUIDOR CONVERSOR MADI | B11: SESAUDIO S.L. | C11: 17000 | D11: 12 | E11: 16999.64 | F11: =$U$2*(MIN(E$11:E$11)/E11) -> 88 | G11: =D11+F11 -> 100 | H11: 1 | I11: =+$C11/$C$14*H11 -> 0.40572792 | J11: =+G11*I11 -> 40.572792 | K11: 0.0125 | L11: =+$E11*(1-K11) -> 16787.144 | M11: =$U$2*(MIN(L$11:L$11)/L11) -> 88 | N11: =$D11+M11 -> 100 | O11: 1 | P11: =+$C11/$C$14*O11 -> 0.40572792 | Q11: =+N11*P11 -> 40.572792
A12: LOTE 3.- DISTRIBUIDOR-REGENERADOR DE CODIGO DE TIEMPO | B12: SESAUDIO S.L. | C12: 2300 | D12: 12 | E12: 2299.76 | F12: =$U$2*(MIN(E$12:E$12)/E12) -> 88 | G12: =D12+F12 -> 100 | H12: 1 | I12: =+$C12/$C$14*H12 -> 0.054892601 | J12: =+G12*I12 -> 5.4892601 | K12: 0.0125 | L12: =+$E12*(1-K12) -> 2271.013 | M12: =$U$2*(MIN(L$12:L$12)/L12) -> 88 | N12: =$D12+M12 -> 100 | O12: 1 | P12: =+$C12/$C$14*O12 -> 0.054892601 | Q12: =+N12*P12 -> 5.4892601
A13: LOTE 4.- INTERFACE DE SONIDO MADI | B13: SESAUDIO S.L. | C13: 5000 | D13: 12 | E13: 4999.7 | F13: =$U$2*(MIN(E$13:E$13)/E13) -> 88 | G13: =D13+F13 -> 100 | H13: 1 | I13: =+$C13/$C$14*H13 -> 0.11933174 | J13: =+G13*I13 -> 11.933174 | K13: 0.0125 | L13: =+$E13*(1-K13) -> 4937.2037 | M13: =$U$2*(MIN(L$13:L$13)/L13) -> 88 | N13: =$D13+M13 -> 100 | O13: 1 | P13: =+$C13/$C$14*O13 -> 0.11933174 | Q13: =+N13*P13 -> 11.933174
B14: Valor estimado total: | C14: =C9+C11+C12+C13 -> 41900 | I14: Puntuación total ponderada | J14: =SUM(J9:J13) -> 100 | P14: Puntuación total ponderada | Q14: =SUM(Q9:Q13) -> 98.520112
A17: De conformidad con los criterios de valoración establecidos en el Pliego de Condiciones Generales de Contratación de este Expediente.
A18: ='ALTERNATIVA ADJUDICADA'!A18 -> Madrid, a 27 de septiembre de 2024
