Workbook

Sheet ALTERNATIVA ADJUDICADA
A2: =valoración!A3 -> PROPUESTA DE ADJUDICACIÓN DEL EXPEDIENTE S-05349-2024
A3: =valoración!A4 -> Red de señal DMX para el control de iluminación de los Estudios 1 y 2 del CPP de RTVE en Cataluña
A4: =valoración!A5 -> RESUMEN PUNTUACIÓN TÉCNICA Y ECONÓMICA
E7: Alternativa 2: oferta conjunta "GRAU LUMINOTECNIA" por los dos lotes (3% de descuento)
A8: Lotes | B8: Ofertas | C8: Valor estimado (Sin modificación) | D8: Puntuación técnica | E8: Importe Oferta | F8: Puntuación económica | G8: Puntuación Total | H8: Oferta seleccionada | I8: Factor de ponderación | J8: Valoración ponderada | K8: % Ahorro s/ licitación
A9: =valoración!A9 -> LOTE 1: Distribución de señal DMX para el control de proyectores | B9: GRAU LUMINOTECNIA, S.A. | C9: 87000 | D9: 18 | E9: 81846.66 | F9: 80.383698 | G9: 98.383698 | H9: 1 | I9: 0.79090909 | J9: 77.812561 | K9: =100-($E9*100/$C9) -> 5.9233793
B10: STONEX SHOW LIGHTING, S.L.U. | C10: 87000 | D10: 18 | E10: 85194 | F10: 77.225358 | G10: 95.225358 | J10: 0 | K10: =100-($E10*100/$C10) -> 2.0758621
B11: INSTA BROADCAST, S.L. | C11: 87000 | D11: 18 | E11: 86783.7 | F11: 75.810747 | G11: 93.810747 | J11: 0 | K11: =100-($E11*100/$C11) -> 0.24862069
B12: TECNICOS E INSTALADORES, S.A. | C12: 87000 | D12: 13 | E12: 80233.38 | F12: 82 | G12: 95 | J12: 0 | K12: =100-($E12*100/$C12) -> 7.7777241
A13: =valoración!A13 -> LOTE 2: Instalación de cable adicional sobre pantógrafos de iluminación | B13: GRAU LUMINOTECNIA, S.A. | C13: 23000 | D13: 18 | E13: 17217.5 | F13: 82 | G13: 100 | H13: 1 | I13: 0.20909091 | J13: 20.909091 | K13: =100-($E13*100/$C13) -> 25.141304
B14: STONEX SHOW LIGHTING, S.L.U. | C14: 23000 | D14: 18 | E14: 18320.2 | F14: 77.064388 | G14: 95.064388 | J14: 0 | K14: =100-($E14*100/$C14) -> 20.346957
B15: INSTA BROADCAST, S.L. | C15: 23000 | D15: 18 | E15: 21600 | F15: 65.362731 | G15: 83.362731 | J15: 0 | K15: =100-($E15*100/$C15) -> 6.0869565
B16: TECNICOS E INSTALADORES, S.A. | C16: 23000 | D16: 13 | E16: 18181.2 | F16: 77.653565 | G16: 90.653565 | J16: 0 | K16: =100-($E16*100/$C16) -> 20.951304
B17: Valor estimado total: | C17: =C9+C13 -> 110000 | I17: Puntuación total ponderada | J17: =SUM(J9:J16) -> 98.721652
A20: De conformidad con los criterios de valoración establecidos en el Pliego de Condiciones Generales de Contratación de este Expediente.
A21: Madrid, a 19 de diciembre de 2024

Sheet valoración
S2: economica lote 1 | T2: 82
A3: PROPUESTA DE ADJUDICACIÓN DEL EXPEDIENTE S-05349-2024
A4: Red de señal DMX para el control de iluminación de los Estudios 1 y 2 del CPP de RTVE en Cataluña | S4: economica lote 2 | T4: 82
A5: RESUMEN PUNTUACIÓN TÉCNICA Y ECONÓMICA
E7: Alternativa 1: ofertas individuales | K7: Alternativa 2: oferta conjunta "GRAU LUMINOTECNIA" por los dos lotes (3% de descuento) | S7: incluir puntuación económica indicada en los pliegos. Si los lotes se valoran con diferente puntuación económica hay que tenerlo en cuenta en la fórmula.
A8: Lotes | B8: Ofertas | C8: Valor estimado (Sin modificación) | D8: Puntuación técnica | E8: Importe Oferta | F8: Puntuación económica | G8: Puntuación Total | H8: Oferta seleccionada | I8: Factor de ponderación | J8: Valoración ponderada | K8: Baja oferta conjunta | L8: Importe Oferta | M8: Puntuación económica | N8: Total Puntuación | O8: Oferta seleccionada | P8: Factor de ponderación | Q8: Valoración ponderada
A9: LOTE 1: Distribución de señal DMX para el control de proyectores | B9: GRAU LUMINOTECNIA, S.A. | C9: 87000 | D9: 18 | E9: 84378 | F9: =$T$2*(MIN(E$9:E$12)/E9) -> 77.972187 | G9: =D9+F9 -> 95.972187 | H9: 1 | I9: =+$C9/$C$17*H9 -> 0.79090909 | J9: =+G9*I9 -> 75.905275 | K9: 0.03 | L9: =+$E9*(1-K9) -> 81846.66 | M9: =$T$2*(MIN(L$9:L$12)/L9) -> 80.383698 | N9: =$D9+M9 -> 98.383698 | O9: 1 | P9: =+$C9/$C$17*O9 -> 0.79090909 | Q9: =+N9*P9 -> 77.812561 | S9: Adaptar la tabla al número de lotes y ofertas recibidas, insertando o eliminando filas, tener en cuenta si se desestima una oferta, indicar los motivos..
B10: STONEX SHOW LIGHTING, S.L.U. | C10: 87000 | D10: 18 | E10: 85194 | F10: =$T$2*(MIN(E$9:E$12)/E10) -> 77.225358 | G10: =D10+F10 -> 95.225358 | I10: =+$C10/$C$17*H10 -> 0 | J10: =+G10*I10 -> 0 | L10: =+$E10*(1-K10) -> 85194 | M10: =$T$2*(MIN(L$9:L$12)/L10) -> 77.225358 | N10: =$D10+M10 -> 95.225358 | P10: =+$C10/$C$17*O10 -> 0 | Q10: =+N10*P10 -> 0
B11: INSTA BROADCAST, S.L. | C11: 87000 | D11: 18 | E11: 86783.7 | F11: =$T$2*(MIN(E$9:E$12)/E11) -> 75.810747 | G11: =D11+F11 -> 93.810747 | I11: =+$C11/$C$17*H11 -> 0 | J11: =+G11*I11 -> 0 | L11: =+$E11*(1-K11) -> 86783.7 | M11: =$T$2*(MIN(L$9:L$12)/L11) -> 75.810747 | N11: =$D11+M11 -> 93.810747 | P11: =+$C11/$C$17*O11 -> 0 | Q11: =+N11*P11 -> 0
B12: TECNICOS E INSTALADORES, S.A. | C12: 87000 | D12: 13 | E12: 80233.38 | F12: =$T$2*(MIN(E$9:E$12)/E12) -> 82 | G12: =D12+F12 -> 95 | I12: =+$C12/$C$17*H12 -> 0 | J12: =+G12*I12 -> 0 | L12: =+$E12*(1-K12) -> 80233.38 | M12: =$T$2*(MIN(L$9:L$12)/L12) -> 82 | N12: =$D12+M12 -> 95 | P12: =+$C12/$C$17*O12 -> 0 | Q12: =+N12*P12 -> 0
A13: LOTE 2: Instalación de cable adicional sobre pantógrafos de iluminación | B13: GRAU LUMINOTECNIA, S.A. | C13: 23000 | D13: 18 | E13: 17750 | F13: =$T$4*(MIN(E$13:E$16)/E13) -> 82 | G13: =D13+F13 -> 100 | H13: 1 | I13: =+$C13/$C$17*H13 -> 0.20909091 | J13: =+G13*I13 -> 20.909091 | K13: 0.03 | L13: =+$E13*(1-K13) -> 17217.5 | M13: =$T$4*(MIN(L$13:L$16)/L13) -> 82 | N13: =$D13+M13 -> 100 | O13: 1 | P13: =+$C13/$C$17*O13 -> 0.20909091 | Q13: =+N13*P13 -> 20.909091
B14: STONEX SHOW LIGHTING, S.L.U. | C14: 23000 | D14: 18 | E14: 18320.2 | F14: =$T$4*(MIN(E$13:E$16)/E14) -> 79.447823 | G14: =D14+F14 -> 97.447823 | I14: =+$C14/$C$17*H14 -> 0 | J14: =+G14*I14 -> 0 | L14: =+$E14*(1-K14) -> 18320.2 | M14: =$T$4*(MIN(L$13:L$16)/L14) -> 77.064388 | N14: =$D14+M14 -> 95.064388 | P14: =+$C14/$C$17*O14 -> 0 | Q14: =+N14*P14 -> 0
B15: INSTA BROADCAST, S.L. | C15: 23000 | D15: 18 | E15: 21600 | F15: =$T$4*(MIN(E$13:E$16)/E15) -> 67.384259 | G15: =D15+F15 -> 85.384259 | I15: =+$C15/$C$17*H15 -> 0 | J15: =+G15*I15 -> 0 | L15: =+$E15*(1-K15) -> 21600 | M15: =$T$4*(MIN(L$13:L$16)/L15) -> 65.362731 | N15: =$D15+M15 -> 83.362731 | P15: =+$C15/$C$17*O15 -> 0 | Q15: =+N15*P15 -> 0
B16: TECNICOS E INSTALADORES, S.A. | C16: 23000 | D16: 13 | E16: 18181.2 | F16: =$T$4*(MIN(E$13:E$16)/E16) -> 80.055222 | G16: =D16+F16 -> 93.055222 | I16: =+$C16/$C$17*H16 -> 0 | J16: =+G16*I16 -> 0 | L16: =+$E16*(1-K16) -> 18181.2 | M16: =$T$4*(MIN(L$13:L$16)/L16) -> 77.653565 | N16: =$D16+M16 -> 90.653565 | P16: =+$C16/$C$17*O16 -> 0 | Q16: =+N16*P16 -> 0
B17: Valor estimado total: | C17: =C9+C13 -> 110000 | I17: Puntuación total ponderada | J17: =SUM(J9:J16) -> 96.814366 | P17: Puntuación total ponderada | Q17: =SUM(Q9:Q16) -> 98.721652
L18: EN LAS ALTERNATIVAS SE MARCA EL LICITADOR A ANALIZAR, AUNQUE NO SEA LA OFERTA MAS ECONOMICA
A20: De conformidad con los criterios de valoración establecidos en el Pliego de Condiciones Generales de Contratación de este Expediente.
A21: Madrid, a 29 de mayo de 2024
