Workbook
Name Rango_1: #REF!
Name Titulaciones: #REF!

Sheet PUNTUACIONES
B6: CÓDIGO PERFIL | C6: ID | D6: DENOMINACIÓN | E6: FORMACIÓN ACADÉMICA | F6: FORMACIÓN ESPECÍFICA | G6: EXPERIENCIA PROFESIONAL | H6: EXPERIENCIA ESPECÍFICA | I6: TOTAL | L6: ID | M6: PERFIL | N6: PONDERACIÓN
B7: DIR | C7: DP | D7: Director de proyecto | E7: =DIR!D7 -> 0 | F7: =SUM(DIR!D8:D13) -> 0 | G7: =SUM(DIR!D16:D17) -> 0 | H7: =SUM(DIR!D18:D23) -> 0 | I7: =SUM(E7:H7) -> 0 | L7: DP | M7: Director de Proyecto | N7: 0.07
B8: CSEG | C8: CC | D8: Consultor de ciberseguridad | E8: =CSEG!D7 -> 0 | F8: =SUM(CSEG!D8:D12) -> 0 | G8: =SUM(CSEG!D15:D15) -> 0 | H8: =SUM(CSEG!D16:D18) -> 0 | I8: =SUM(E8:H8) -> 0 | L8: JP | M8: Jefe de Proyecto | N8: 0.25
B9: CIA | C9: CIA | D9: Consultor de IA | E9: =CIA!D7 -> 0 | F9: =SUM(CIA!D8:D11) -> 0 | G9: =SUM(CIA!D14) -> 0 | H9: =SUM(CIA!D15:D19) -> 0 | I9: =SUM(E9:H9) -> 0 | L9: AF | M9: Analista Funcional | N9: 0.35
B10: DEP-JP | C10: JP | D10: Jefe de Proyecto Departamentales | E10: ='DEP-JP'!D7 -> 0 | F10: =SUM('DEP-JP'!D8:D12) -> 0 | G10: =SUM('DEP-JP'!D15:D16) -> 0 | H10: =SUM('DEP-JP'!D17:D21) -> 0 | I10: =SUM(E10:H10) -> 0 | L10: AP | M10: Analista Programador | N10: 0.2
B11: DEP-AF1 | C11: AF | D11: Analista departamentales 1 | E11: ='DEP-AF1'!D7 -> 0 | F11: =SUM('DEP-AF1'!D8:D14) -> 0 | G11: =SUM('DEP-AF1'!D17:D18) -> 0 | H11: =SUM('DEP-AF1'!D19:D25) -> 0 | I11: =SUM(E11:H11) -> 0 | L11: ED | M11: Experto Arq. Sistemas Documentales | N11: 0.05
B12: DEP-AF2 | C12: AF | D12: Analista departamentales 2 | E12: ='DEP-AF2'!D7 -> 0 | F12: =SUM('DEP-AF2'!D8:D14) -> 0 | G12: =SUM('DEP-AF2'!D17:D18) -> 0 | H12: =SUM('DEP-AF2'!D19:D25) -> 0 | I12: =SUM(E12:H12) -> 0 | L12: CC | M12: Consultor Ciberseguridad | N12: 0.04
B13: DEP-AF3 | C13: AF | D13: Analista departamentales 3 | E13: ='DEP-AF3'!D7 -> 0 | F13: =SUM('DEP-AF3'!D8:D14) -> 0 | G13: =SUM('DEP-AF3'!D17:D18) -> 0 | H13: =SUM('DEP-AF3'!D19:D25) -> 0 | I13: =SUM(E13:H13) -> 0 | L13: CIA | M13: Consultor de IA | N13: 0.04
B14: DEP-AM1 | C14: AF | D14: Analista movilidad | E14: ='DEP-AM1'!D7 -> 0 | F14: =SUM('DEP-AM1'!D8:D14) -> 0 | G14: =SUM('DEP-AM1'!D17:D18) -> 0 | H14: =SUM('DEP-AM1'!D19:D25) -> 0 | I14: =SUM(E14:H14) -> 0 | L14: TOTAL | N14: 1
B15: DEP-AP1 | C15: AP | D15: Desarrollador departamentales 1 | E15: ='DEP-AP1'!D7 -> 0 | F15: =SUM('DEP-AP1'!D8:D14) -> 0 | G15: =SUM('DEP-AP1'!D17:D18) -> 0 | H15: =SUM('DEP-AP1'!D19:D24) -> 0 | I15: =SUM(E15:H15) -> 0
B16: DEP-AP2 | C16: AP | D16: Desarrollador departamentales 2 | E16: ='DEP-AP2'!D7 -> 0 | F16: =SUM('DEP-AP2'!D8:D14) -> 0 | G16: =SUM('DEP-AP2'!D17:D18) -> 0 | H16: =SUM('DEP-AP2'!D19:D24) -> 0 | I16: =SUM(E16:H16) -> 0 | L16: INSTRUCCIONES
B17: SSP-JP | C17: JP | D17: Jefe de Proyecto Producción | E17: ='SSP-JP'!D7 -> 0 | F17: =SUM('SSP-JP'!D8:D12) -> 0 | G17: =SUM('SSP-JP'!D15:D16) -> 0 | H17: =SUM('SSP-JP'!D17:D21) -> 0 | I17: =SUM(E17:H17) -> 0
B18: SSP-4D | C18: AF | D18: Analista 4th Dimension | E18: ='SSP-4D'!D7 -> 0 | F18: =SUM('SSP-4D'!D8:D10) -> 0 | G18: =SUM('SSP-4D'!D13:D14) -> 0 | H18: =SUM('SSP-4D'!D15:D17) -> 0 | I18: =SUM(E18:H18) -> 0 | L18: 1. Se deben rellenar las puntaciones de cada perfil teniendo en cuenta el baremo aplicado en cada caso. 2. Las puntuaciones totales se calculan automáticamente en función de las puntuaciones asignadas a cada perfil y teniendo en cuenta la ponderación por tipo de perfil.
B19: SSP-AF1 | C19: AF | D19: Analista producción 1 | E19: ='SSP-AF1'!D7 -> 0 | F19: =SUM('SSP-AF1'!D8:D14) -> 0 | G19: =SUM('SSP-AF1'!D17:D18) -> 0 | H19: =SUM('SSP-AF1'!D19:D26) -> 0 | I19: =SUM(E19:H19) -> 0
B20: SSP-AF2 | C20: AF | D20: Analista producción 2 | E20: ='SSP-AF2'!D7 -> 0 | F20: =SUM('SSP-AF2'!D8:D14) -> 0 | G20: =SUM('SSP-AF2'!D17:D18) -> 0 | H20: =SUM('SSP-AF2'!D19:D26) -> 0 | I20: =SUM(E20:H20) -> 0
B21: SSP-AF3 | C21: AF | D21: Analista producción 3 | E21: ='SSP-AF3'!D7 -> 0 | F21: =SUM('SSP-AF3'!D8:D14) -> 0 | G21: =SUM('SSP-AF3'!D17:D18) -> 0 | H21: =SUM('SSP-AF3'!D19:D26) -> 0 | I21: =SUM(E21:H21) -> 0
B22: SSP-AP1 | C22: AP | D22: Desarrollador producción | E22: ='SSP-AP1'!D7 -> 0 | F22: =SUM('SSP-AP1'!D8:D14) -> 0 | G22: =SUM('SSP-AP1'!D17:D18) -> 0 | H22: =SUM('SSP-AP1'!D19:D25) -> 0 | I22: =SUM(E22:H22) -> 0
B23: DOC-JP | C23: JP | D23: Jefe de Proyecto documentación | E23: ='DOC-JP'!D7 -> 0 | F23: =SUM('DOC-JP'!D8:D14) -> 0 | G23: =SUM('DOC-JP'!D17:D18) -> 0 | H23: =SUM('DOC-JP'!D19:D25) -> 0 | I23: =SUM(E23:H23) -> 0
B24: DOC-AF1 | C24: AF | D24: Analista documentación 1 | E24: ='DOC-AF1'!D7 -> 0 | F24: =SUM('DOC-AF1'!D8:D15) -> 0 | G24: =SUM('DOC-AF1'!D18:D19) -> 0 | H24: =SUM('DOC-AF1'!D20:D28) -> 0 | I24: =SUM(E24:H24) -> 0
B25: DOC-AF2 | C25: AF | D25: Analista documentación 2 | E25: ='DOC-AF2'!D7 -> 0 | F25: =SUM('DOC-AF2'!D8:D15) -> 0 | G25: =SUM('DOC-AF2'!D18:D19) -> 0 | H25: =SUM('DOC-AF2'!D20:D28) -> 0 | I25: =SUM(E25:H25) -> 0
B26: DOC-AF3 | C26: AF | D26: Analista documentación 3 | E26: ='DOC-AF3'!D7 -> 0 | F26: =SUM('DOC-AF3'!D8:D15) -> 0 | G26: =SUM('DOC-AF3'!D18:D19) -> 0 | H26: =SUM('DOC-AF3'!D20:D28) -> 0 | I26: =SUM(E26:H26) -> 0
B27: DOC-AP1 | C27: AP | D27: Desarrollador documentación 1 | E27: ='DOC-AP1'!D7 -> 0 | F27: =SUM('DOC-AP1'!D8:D16) -> 0 | G27: =SUM('DOC-AP1'!D19:D20) -> 0 | H27: =SUM('DOC-AP1'!D21:D28) -> 0 | I27: =SUM(E27:H27) -> 0
B28: DOC-AP2 | C28: AP | D28: Desarrollador documentación 2 | E28: ='DOC-AP2'!D7 -> 0 | F28: =SUM('DOC-AP2'!D8:D16) -> 0 | G28: =SUM('DOC-AP2'!D19:D20) -> 0 | H28: =SUM('DOC-AP2'!D21:D28) -> 0 | I28: =SUM(E28:H28) -> 0
B29: DOC-FN | C29: ED | D29: Consultor Filenet | E29: ='DOC-FN'!D7 -> 0 | F29: =SUM('DOC-FN'!D8:D9) -> 0 | G29: =SUM('DOC-FN'!D12) -> 0 | H29: =SUM('DOC-FN'!D13:D17) -> 0 | I29: =SUM(E29:H29) -> 0
B30: DOC-TR | C30: ED | D30: Consultor Tarsys | E30: ='DOC-TR'!D7 -> 0 | F30: =SUM('DOC-TR'!D8) -> 0 | G30: =SUM('DOC-TR'!D11) -> 0 | H30: =SUM('DOC-TR'!D12:D13) -> 0 | I30: =SUM(E30:H30) -> 0
B31: DOC-ID | C31: ED | D31: Consultor IDOL | E31: ='DOC-ID'!D7 -> 0 | F31: =SUM('DOC-ID'!D8:D9) -> 0 | G31: =SUM('DOC-ID'!D12) -> 0 | H31: =SUM('DOC-ID'!D13:D15) -> 0 | I31: =SUM(E31:H31) -> 0
B32: INT-DS1 | C32: AF | D32: Analista y diseñador 1 | E32: =SUM('INT-DS1'!D7) -> 0 | F32: =SUM('INT-DS1'!D8:D14) -> 0 | G32: =SUM('INT-DS1'!D17:D18) -> 0 | H32: =SUM('INT-DS1'!D19:D23) -> 0 | I32: =SUM(E32:H32) -> 0
B33: INT-DS2 | C33: AF | D33: Analista y diseñador 2 | E33: ='INT-DS2'!D7 -> 0 | F33: =SUM('INT-DS2'!D8:D14) -> 0 | G33: =SUM('INT-DS2'!D17:D18) -> 0 | H33: =SUM('INT-DS2'!D19:D23) -> 0 | I33: =SUM(E33:H33) -> 0
B34: INT-AP1 | C34: AP | D34: Programador PHP1 | E34: ='INT-AP1'!D7 -> 0 | F34: =SUM('INT-AP1'!D8:D12) -> 0 | G34: =SUM('INT-AP1'!D15:D16) -> 0 | H34: =SUM('INT-AP1'!D17:D20) -> 0 | I34: =SUM(E34:H34) -> 0
B35: TOTAL 1 | E35: =AVERAGEIF($C$7:$C$34,"DP",$E$7:$E$34)*VLOOKUP("DP",$L$7:$N$13,3,FALSE) + AVERAGEIF($C$7:$C$34,"JP",$E$7:$E$34)*VLOOKUP("JP",$L$7:$N$13,3,FALSE) + AVERAGEIF($C$7:$C$34,"AF",$E$7:$E$34)*VLOOKUP("AF",$L$7:$N$13,3,FALSE) + AVERAGEIF($C$7:$C$34,"AP",$E$7:$E$34)*VLOOKUP("AP",$L$7:$N$13,3,FALSE) + AVERAGEIF($C$7:$C$34,"ED",$E$7:$E$34)*VLOOKUP("ED",$L$7:$N$13,3,FALSE) + AVERAGEIF($C$7:$C$34,"CC",$E$7:$E$34)*VLOOKUP("CC",$L$7:$N$13,3,FALSE) + AVERAGEIF($C$7:$C$34,"CIA",$E$7:$E$34)*VLOOKUP("CIA",$L$7:$N$13,3,FALSE) -> 0 | F35: =AVERAGEIF($C$7:$C$34,"DP",$F$7:$F$34)*VLOOKUP("DP",$L$7:$N$13,3,FALSE) + AVERAGEIF($C$7:$C$34,"JP",$F$7:$F$34)*VLOOKUP("JP",$L$7:$N$13,3,FALSE) + AVERAGEIF($C$7:$C$34,"AF",$F$7:$F$34)*VLOOKUP("AF",$L$7:$N$13,3,FALSE) + AVERAGEIF($C$7:$C$34,"AP",$F$7:$F$34)*VLOOKUP("AP",$L$7:$N$13,3,FALSE) + AVERAGEIF($C$7:$C$34,"ED",$F$7:$F$34)*VLOOKUP("ED",$L$7:$N$13,3,FALSE) + AVERAGEIF($C$7:$C$34,"CC",$F$7:$F$34)*VLOOKUP("CC",$L$7:$N$13,3,FALSE) + AVERAGEIF($C$7:$C$34,"CIA",$F$7:$F$34)*VLOOKUP("CIA",$L$7:$N$13,3,FALSE) -> 0 | G35: =AVERAGEIF($C$7:$C$34,"DP",$G$7:$G$34)*VLOOKUP("DP",$L$7:$N$13,3,FALSE) + AVERAGEIF($C$7:$C$34,"JP",$G$7:$G$34)*VLOOKUP("JP",$L$7:$N$13,3,FALSE) + AVERAGEIF($C$7:$C$34,"AF",$G$7:$G$34)*VLOOKUP("AF",$L$7:$N$13,3,FALSE) + AVERAGEIF($C$7:$C$34,"AP",$G$7:$G$34)*VLOOKUP("AP",$L$7:$N$13,3,FALSE) + AVERAGEIF($C$7:$C$34,"ED",$G$7:$G$34)*VLOOKUP("ED",$L$7:$N$13,3,FALSE) + AVERAGEIF($C$7:$C$34,"CC",$G$7:$G$34)*VLOOKUP("CC",$L$7:$N$13,3,FALSE) + AVERAGEIF($C$7:$C$34,"CIA",$G$7:$G$34)*VLOOKUP("CIA",$L$7:$N$13,3,FALSE) -> 0 | H35: =AVERAGEIF($C$7:$C$34,"DP",$H$7:$H$34)*VLOOKUP("DP",$L$7:$N$13,3,FALSE) + AVERAGEIF($C$7:$C$34,"JP",$H$7:$H$34)*VLOOKUP("JP",$L$7:$N$13,3,FALSE) + AVERAGEIF($C$7:$C$34,"AF",$H$7:$H$34)*VLOOKUP("AF",$L$7:$N$13,3,FALSE) + AVERAGEIF($C$7:$C$34,"AP",$H$7:$H$34)*VLOOKUP("AP",$L$7:$N$13,3,FALSE) + AVERAGEIF($C$7:$C$34,"ED",$H$7:$H$34)*VLOOKUP("ED",$L$7:$N$13,3,FALSE) + AVERAGEIF($C$7:$C$34,"CC",$H$7:$H$34)*VLOOKUP("CC",$L$7:$N$13,3,FALSE) + AVERAGEIF($C$7:$C$34,"CIA",$H$7:$H$34)*VLOOKUP("CIA",$L$7:$N$13,3,FALSE) -> 0 | I35: =SUM(E35:H35) -> 0
B37: (1) - Aplicando la ponderación descrita en el Pliego de Condiciones Generales

Sheet DIR
B2: ÁREA | C2: Transversal
B3: PERFIL | C3: Dirección de proyecto
B4: CÓDIGO | C4: DIR
B6: FORMACIÓN | D6: PUNTOS | E6: BAREMO
B7: FORMACIÓN ACADÉMICA | C7: Titulación 1 | E7: Nivel 2 -> 0,5 puntos Nivel 3 o superior ->1 punto
B8: FORMACIÓN ESPECÍFICA | C8: Gestión de proyectos/PMP | E8: 20-40 horas->1 puntos >40 horas o certificado PMP->2 puntos
C9: Dirección de proyectos | E9: >20 horas --> 1 punto
C10: Gestión de equipos | E10: >20 horas --> 0,5 puntos
C11: CMMI | E11: >20 horas --> 0,5 puntos
C12: ITIL | E12: >20 horas --> 0,5 puntos
C13: J2EE | E13: >40 horas --> 0,5 punto
B15: EXPERIENCIA | D15: PUNTOS | E15: BAREMO
B16: EXPERIENCIA PROFESIONAL | C16: Director de proyecto | E16: 1-2 años --> 1 punto 2-5 años --> 3 puntos >5 años --> 6 puntos
C17: Jefe de proyecto | E17: 1-2 años --> 1 punto 2-5 años --> 2 puntos >5 años --> 3 puntos
B18: EXPERIENCIA ESPECÍFICA TECNOLOGÍAS Y ENTORNOS | C18: Metodología Métrica3 | E18: 1-2 años --> 0,5 puntos >2 años --> 1 puntos
C19: Metodologías ágiles | E19: 1-2 años --> 0,5 puntos >2 años --> 1 puntos
C20: Microsoft Project | E20: 1-2 años --> 1 puntos >2 años --> 2 puntos
C21: Dirección de proyectos J2EE | E21: 1-2 años --> 1 puntos >2 años --> 3 puntos
C22: Dirección de proyectos de gestión documental | E22: 1-2 años --> 1 punto 2-4 años --> 2 puntos >4 años --> 4 puntos
C23: Dirección de proyectos de media (gestión de derechos, emisión, produción) | E23: 1-2 años --> 1 punto 2-4 años --> 2 puntos >4 años --> 4 puntos
B26: (1) Titulación reglada según Nivel MECES (https://www.boe.es/eli/es/rd/2014/02/14/96)

Sheet CSEG
B2: ÁREA | C2: Transversal
B3: PERFIL | C3: Consultor de Ciberseguridad
B4: CÓDIGO | C4: CSEG
B6: FORMACIÓN | D6: PUNTOS | E6: BAREMO
B7: FORMACIÓN ACADÉMICA | C7: Titulación 1 | E7: Nivel 2 -> 0,5 puntos Nivel 3->1 punto
B8: FORMACIÓN ESPECÍFICA | C8: Nomativas y estándares de seguridad y protección de datos(ISO 27001, ENS, RGPD,LOPD, OWASP) | E8: >20 horas -> 1 punto
C9: Certificaciones Ciberseguridad | E9: 0,25 puntos cada una con un máximo de 1 punto
C10: Desarrollo de software seguro | E10: 20-40 horas --> 1 punto >40 horas -> 1,5 puntos
C11: Análisis vulnerabilidades/Gestión de riesgos | E11: >40 horas -> 1 punto
C12: J2EE | E12: >60 horas -> 0,5 punto
B14: EXPERIENCIA | D14: PUNTOS
B15: EXPERIENCIA PROFESIONAL | C15: Consultor de ciberseguridad | E15: 1-2 años -> 3 puntos 2-4 años -> 6 puntos >4 años -> 9 puntos
B16: EXPERIENCIA ESPECÍFICA TECNOLOGÍAS Y ENTORNOS | C16: Seguridad en el desarrollo de aplicaciones | E16: 1-2 años -> 3 puntos 2-3 años -> 5 puntos >3 años -> 8 puntos
C17: Herramientas de seguridad (análisis de código estático, análisis dinámico, test de penetración, análisis de vulnerabilidades) | E17: 1-2 años -> 1 puntos 2-3 años -> 3 puntos >3 años -> 5 puntos
C18: Proyectos J2EE | E18: 1-2 años -> 1 puntos >2 años -> 2 puntos
B21: (1) Titulación reglada según Nivel MECES (https://www.boe.es/eli/es/rd/2014/02/14/96)

Sheet CIA
B2: ÁREA | C2: Transversal
B3: PERFIL | C3: Consultor de IA
B4: CÓDIGO | C4: CIA
B6: FORMACIÓN | D6: PUNTOS | E6: BAREMO
B7: FORMACIÓN ACADÉMICA | C7: Titulación 1 | E7: Nivel 2 -> 0,5 puntos Nivel 3->1 punto
B8: FORMACIÓN ESPECÍFICA | C8: LLM/LMM/Deep learning/NLP | E8: 20-60 h horas -> 1 puntos >60 horas -> 2 puntos
C9: TensorFlow/PyTorch | E9: >40 horas -> 1 punto
C10: Python/Jupyter Nootbooks | E10: 20-40 horas --> 1 punto >40 horas -> 1,5 puntos
C11: J2EE | E11: >60 horas -> 0,5 punto
B13: EXPERIENCIA | D13: PUNTOS
B14: EXPERIENCIA PROFESIONAL | C14: Consultor de IA | E14: 1-2 años -> 3 puntos 2-4 años -> 6 puntos >4 años -> 9 puntos
B15: EXPERIENCIA ESPECÍFICA TECNOLOGÍAS Y ENTORNOS | C15: Desarrollo e implantación de Modelos de IA | E15: 1-2 años -> 1 puntos >2 años -> 2 puntos
C16: Integración de la IA en aplicaciones | E16: 1-2 años -> 1 puntos 2-3 años 2 puntos >3 años -> 4 puntos
C17: Análisis y definición de casos de uso de IA | E17: 1-2 años -> 1 puntos >2 años -> 3 puntos
C18: IA aplicacada a contenidos audiovisuales | E18: 1-2 años -> 1 puntos >2 años -> 3 puntos
C19: Desarrollo de agentes y RAG | E19: 1-2 años -> 1 puntos >2 años -> 3 puntos
B22: (1) Titulación reglada según Nivel MECES (https://www.boe.es/eli/es/rd/2014/02/14/96)

Sheet DEP-JP
B2: ÁREA | C2: Departamentales
B3: PERFIL | C3: Jefe de Proyecto Departamentales
B4: CÓDIGO | C4: DEP-JP
B6: FORMACIÓN | D6: PUNTOS | E6: BAREMO
B7: FORMACIÓN ACADÉMICA | C7: Titulación 1 | E7: Nivel 2 -> 0,5 puntos Nivel 3 o superior ->1 punto
B8: FORMACIÓN ESPECÍFICA | C8: Gestión de proyectos/PMP | E8: 20-40 horas->0,5 puntos >40 horas -> 1,5 puntos
C9: Gestión de equipos | E9: >20 horas --> 1 puntos
C10: Métrica3 | E10: >20 horas --> 1 puntos
C11: Metodologías Ágiles | E11: >20 horas --> 0,5 puntos
C12: J2EE | E12: 20-40 horas->0,5 puntos >40 horas -> 1 punto
B14: EXPERIENCIA | D14: PUNTOS | E14: BAREMO
B15: EXPERIENCIA PROFESIONAL | C15: Jefe de proyecto | E15: 1-2 años -> 2 punto 2-5 años -> 4 puntos >5 años -> 6 puntos
C16: Analista Funcional | E16: 1-2 años -> 1 punto 2-5 años -> 2 puntos >5 años -> 3 puntos
B17: EXPERIENCIA ESPECÍFICA TECNOLOGÍAS Y ENTORNOS | C17: Metodología Métrica3 | E17: 1-2 años -> 0,5 puntos >2 años 1 puntos
C18: Metodologías ágiles | E18: 1-2 años -> 0,5 puntos >2 años -> 1 puntos
C19: Microsoft Project | E19: 1-2 años -> 1 puntos >2 años -> 2 puntos
C20: Jefe de proyectos J2EE | E20: 1-2 años -> 2 punto 2-4 años -> 4 puntos >4 años -> 7 puntos
C21: Jefe de proyectos de aplicaciones móviles | E21: 1-2 años -> 1 punto 2-4 años -> 2 puntos >4 años -> 4 puntos
B24: (1) Titulación reglada según Nivel MECES (https://www.boe.es/eli/es/rd/2014/02/14/96)

Sheet DEP-AF1
B2: ÁREA | C2: Departamentales
B3: PERFIL | C3: Analista departamentales 1
B4: CÓDIGO | C4: DEP-AF1
B6: FORMACIÓN | D6: PUNTOS | E6: BAREMO
B7: FORMACIÓN ACADÉMICA | C7: Titulación 1 | E7: Nivel 2 -> 0,5 puntos Nivel 3 o superior ->1 punto
B8: FORMACIÓN ESPECÍFICA | C8: J2EE | E8: >100 horas -> 0,5 puntos >200 horas -> 1 punto
C9: Spring | E9: 20-40 horas->0,5 puntos >40 horas -> 1 punto
C10: Hibernate | E10: >20 horas --> 0,5 puntos
C11: Angular | E11: >20 horas --> 0,5 puntos
C12: Métrica3 | E12: >20 horas --> 0,5 puntos
C13: Metodologías ágiles | E13: >20 horas --> 0,5 puntos
C14: UML | E14: 20-40 horas->0,5 puntos >40 horas -> 1 punto
B16: EXPERIENCIA | D16: PUNTOS | E16: BAREMO
B17: EXPERIENCIA PROFESIONAL | C17: Analista Funcional | E17: 1-2 años -> 1 punto 2-5 años -> 3 puntos >5 años -> 6 puntos
C18: Analista programador/Programador | E18: 1-2 años -> 1 punto 2-5 años -> 2 puntos >5 años -> 3 puntos
B19: EXPERIENCIA ESPECÍFICA TECNOLOGÍAS Y ENTORNOS | C19: Analista funcional en proyectos con metodología Métrica3 | E19: 1-2 años -> 1 punto >2 años -> 2 puntos
C20: Analista funcional en proyectos con metodologías ágiles | E20: 1-2 años -> 1 punto >2 años -> 2 puntos
C21: Analista funcional en Proyectos J2EE | E21: 1-2 años -> 1 punto 2-5 años -> 3 puntos >5 años -> 5 puntos
C22: UML | E22: 1-2 años -> 1 punto >2 años -> 2 puntos
C23: Hibernate | E23: 1-2 años -> 1 punto >2 años -> 2 puntos
C24: Spring | E24: 1-2 años -> 0,5 puntos >2 años -> 1 punto
C25: IBM DB2 | E25: 1-2 años -> 0,5 puntos >2 años -> 1 punto
B27: (1) Titulación reglada según Nivel MECES (https://www.boe.es/eli/es/rd/2014/02/14/96)

Sheet DEP-AF2
B2: ÁREA | C2: Departamentales
B3: PERFIL | C3: Analista departamentales 2
B4: CÓDIGO | C4: DEP-AF2
B6: FORMACIÓN | D6: PUNTOS | E6: BAREMO
B7: FORMACIÓN ACADÉMICA | C7: Titulación 1 | E7: Nivel 2 -> 0,5 puntos Nivel 3 o superior ->1 punto
B8: FORMACIÓN ESPECÍFICA | C8: J2EE | E8: >100 horas -> 0,5 puntos >200 horas -> 1 punto
C9: Spring | E9: 20-40 horas->0,5 puntos >40 horas -> 1 punto
C10: Hibernate | E10: >20 horas --> 0,5 puntos
C11: Angular | E11: >20 horas --> 0,5 puntos
C12: Métrica3 | E12: >20 horas --> 0,5 puntos
C13: Metodologías ágiles | E13: >20 horas --> 0,5 puntos
C14: UML | E14: 20-40 horas->0,5 puntos >40 horas -> 1 punto
B16: EXPERIENCIA | D16: PUNTOS | E16: BAREMO
B17: EXPERIENCIA PROFESIONAL | C17: Analista Funcional | E17: 1-2 años -> 1 punto 2-5 años -> 3 puntos >5 años -> 6 puntos
C18: Analista programador/Programador | E18: 1-2 años -> 1 punto 2-5 años -> 2 puntos >5 años -> 3 puntos
B19: EXPERIENCIA ESPECÍFICA TECNOLOGÍAS Y ENTORNOS | C19: Analista funcional en proyectos con metodología Métrica3 | E19: 1-2 años -> 1 punto >2 años -> 2 puntos
C20: Analista funcional en proyectos con metodologías ágiles | E20: 1-2 años -> 1 punto >2 años -> 2 puntos
C21: Analista funcional en Proyectos J2EE | E21: 1-2 años -> 1 punto 2-5 años -> 3 puntos >5 años -> 5 puntos
C22: UML | E22: 1-2 años -> 1 punto >2 años -> 2 puntos
C23: Hibernate | E23: 1-2 años -> 1 punto >2 años -> 2 puntos
C24: Spring | E24: 1-2 años -> 0,5 puntos >2 años -> 1 punto
C25: IBM DB2 | E25: 1-2 años -> 0,5 puntos >2 años -> 1 punto
B27: (1) Titulación reglada según Nivel MECES (https://www.boe.es/eli/es/rd/2014/02/14/96)

Sheet DEP-AF3
B2: ÁREA | C2: Departamentales
B3: PERFIL | C3: Analista departamentales 3
B4: CÓDIGO | C4: DEP-AF3
B6: FORMACIÓN | D6: PUNTOS | E6: BAREMO
B7: FORMACIÓN ACADÉMICA | C7: Titulación 1 | E7: Nivel 2 -> 0,5 puntos Nivel 3 o superior ->1 punto
B8: FORMACIÓN ESPECÍFICA | C8: J2EE | E8: >100 horas -> 0,5 puntos >200 horas -> 1 punto
C9: Spring | E9: 20-40 horas->0,5 puntos >40 horas -> 1 punto
C10: Hibernate | E10: >20 horas --> 0,5 puntos
C11: Angular | E11: >20 horas --> 0,5 puntos
C12: Métrica3 | E12: >20 horas --> 0,5 puntos
C13: Metodologías ágiles | E13: >20 horas --> 0,5 puntos
C14: UML | E14: 20-40 horas->0,5 puntos >40 horas -> 1 punto
B16: EXPERIENCIA | D16: PUNTOS | E16: BAREMO
B17: EXPERIENCIA PROFESIONAL | C17: Analista Funcional | E17: 1-2 años -> 1 punto 2-5 años -> 3 puntos >5 años -> 6 puntos
C18: Analista programador/Programador | E18: 1-2 años -> 1 punto 2-5 años -> 2 puntos >5 años -> 3 puntos
B19: EXPERIENCIA ESPECÍFICA TECNOLOGÍAS Y ENTORNOS | C19: Analista funcional en proyectos con metodología Métrica3 | E19: 1-2 años -> 1 punto >2 años -> 2 puntos
C20: Analista funcional en proyectos con metodologías ágiles | E20: 1-2 años -> 1 punto >2 años -> 2 puntos
C21: Analista funcional en Proyectos J2EE | E21: 1-2 años -> 1 punto 2-5 años -> 3 puntos >5 años -> 5 puntos
C22: UML | E22: 1-2 años -> 1 punto >2 años -> 2 puntos
C23: Hibernate | E23: 1-2 años -> 1 punto >2 años -> 2 puntos
C24: Spring | E24: 1-2 años -> 0,5 puntos >2 años -> 1 punto
C25: IBM DB2 | E25: 1-2 años -> 0,5 puntos >2 años -> 1 punto
B27: (1) Titulación reglada según Nivel MECES (https://www.boe.es/eli/es/rd/2014/02/14/96)

Sheet DEP-AM1
B2: ÁREA | C2: Departamentales
B3: PERFIL | C3: Analista movilidad
B4: CÓDIGO | C4: DEP-AM1
B6: FORMACIÓN | D6: PUNTOS | E6: BAREMO
B7: FORMACIÓN ACADÉMICA | C7: Titulación 1 | E7: Nivel 2 -> 0,5 puntos Nivel 3 o superior ->1 punto
B8: FORMACIÓN ESPECÍFICA | C8: Java | E8: >100 horas -> 0,5 puntos >200 horas -> 1 punto
C9: Kotlin/ Swift/Objective-C/Dart | E9: 20-40 horas->0,5 puntos >40 horas -> 1 punto
C10: Flutter/Xamarin/React Native/IONIC | E10: >20 horas --> 0,5 puntos
C11: Convertigo | E11: >20 horas --> 1 puntos
C12: Métrica3 | E12: >20 horas --> 0,5 puntos
C13: Metodologías ágiles | E13: >20 horas --> 0,5 puntos
C14: UML | E14: >20 horas -> 0,5 punto
B16: EXPERIENCIA | D16: PUNTOS | E16: BAREMO
B17: EXPERIENCIA PROFESIONAL | C17: Analista Funcional | E17: 1-2 años -> 2 puntos 2-5 años -> 4 puntos >5 años -> 6 puntos
C18: Analista programador/Programador | E18: 1-2 años -> 1 punto 2-5 años -> 2 puntos >5 años -> 3 puntos
B19: EXPERIENCIA ESPECÍFICA TECNOLOGÍAS Y ENTORNOS | C19: Analista funcional en proyectos con metodología Métrica3 | E19: >2 años 1 punto
C20: Analista funcional en proyectos con metodologías ágiles | E20: >2 años 1 punto
C21: Analista funcional en proyectos aplicaciones móviles | E21: 1-2 años -> 1 punto 2-5 años -> 3 puntos >5 años -> 5 puntos
C22: Análisis y Desarrollo bajo plataforma Convertigo | E22: 1-2 años -> 1 punto >2 años 3 puntos
C23: Kotlin/ Swift/Objective-C/Dart | E23: 1-2 años -> 1 punto >2 años 2 puntos
C24: Flutter/Xamarin/React Native/IONIC | E24: 1-2 años -> 1 punto >2 años 2 puntos
C25: UML | E25: 1-2 años -> 0,5 puntos >2 años -> 1 punto
B27: (1) Titulación reglada según Nivel MECES (https://www.boe.es/eli/es/rd/2014/02/14/96)

Sheet DEP-AP1
B2: ÁREA | C2: Departamentales
B3: PERFIL | C3: Desarrollador departamentales 1
B4: CÓDIGO | C4: DEP-AP1
B6: FORMACIÓN | D6: PUNTOS | E6: BAREMO
B7: FORMACIÓN ACADÉMICA | C7: Titulación 1 | E7: Nivel 1 -> 0,5 puntos Nivel 2 o superior -> 1 punto
B8: FORMACIÓN ESPECÍFICA | C8: J2EE | E8: 20-40 horas->0,5 puntos >40 horas -> 1 punto
C9: Spring/Struts/Hibrernate | E9: >20 horas --> 1 puntos
C10: Angular | E10: >20 horas --> 0,5 puntos
C11: HTML/CSS/Javascript | E11: >20 horas --> 1 puntos
C12: Métrica3/UML | E12: >40 horas --> 0,5 puntos
C13: Metodologías ágiles | E13: >20 horas --> 0,5 puntos
C14: Eclipse/RAD | E14: >40 horas->0,5 puntos
B16: EXPERIENCIA | D16: PUNTOS | E16: BAREMO
B17: EXPERIENCIA PROFESIONAL | C17: Analista programador | E17: 1-2 años -> 2 puntos 2-5 años -> 4 puntos >5 años -> 6 puntos
C18: Programador | E18: 1-2 años -> 1 punto 2-5 años -> 2 puntos >5 años -> 3 puntos
B19: EXPERIENCIA ESPECÍFICA TECNOLOGÍAS Y ENTORNOS | C19: Analista Programador en proyectos J2EE | E19: 1-2 años -> 1 punto >2 años -> 3 puntos
C20: Analista Programador en proyectos Web | E20: 1-2 años -> 1 punto >2 años -> 2 puntos
C21: Spring/Struts/Hibernate | E21: 1-2 años -> 1 punto 2-5 años -> 3 puntos >5 años -> 5 puntos
C22: Angular/AngularJS | E22: 1-2 años -> 1 punto >2 años -> 2 puntos
C23: HTML/CSS/Javascript | E23: 1-2 años -> 1 punto >2 años -> 2 puntos
C24: IBM DB2 | E24: 1-2 años -> 0,5 puntos >2 años -> 1 punto
B26: (1) Titulación reglada según Nivel MECES (https://www.boe.es/eli/es/rd/2014/02/14/96)

Sheet DEP-AP2
B2: ÁREA | C2: Departamentales
B3: PERFIL | C3: Desarrollador departamentales 2
B4: CÓDIGO | C4: DEP-AP2
B6: FORMACIÓN | D6: PUNTOS | E6: BAREMO
B7: FORMACIÓN ACADÉMICA | C7: Titulación 1 | E7: Nivel 1 -> 0,5 puntos Nivel 2 o superior -> 1 punto
B8: FORMACIÓN ESPECÍFICA | C8: J2EE | E8: 20-40 horas->0,5 puntos >40 horas -> 1 punto
C9: Spring/Struts/Hibrernate | E9: >20 horas --> 1 puntos
C10: Angular | E10: >20 horas --> 0,5 puntos
C11: HTML/CSS/Javascript | E11: >20 horas --> 1 puntos
C12: Métrica3/UML | E12: >40 horas --> 0,5 puntos
C13: Metodologías ágiles | E13: >20 horas --> 0,5 puntos
C14: Eclipse/RAD | E14: >40 horas->0,5 puntos
B16: EXPERIENCIA | D16: PUNTOS | E16: BAREMO
B17: EXPERIENCIA PROFESIONAL | C17: Analista programador | E17: 1-2 años -> 2 puntos 2-5 años -> 4 puntos >5 años -> 6 puntos
C18: Programador | E18: 1-2 años -> 1 punto 2-5 años -> 2 puntos >5 años -> 3 puntos
B19: EXPERIENCIA ESPECÍFICA TECNOLOGÍAS Y ENTORNOS | C19: Analista Programador en proyectos J2EE | E19: 1-2 años -> 1 punto >2 años -> 3 puntos
C20: Analista Programador en proyectos Web | E20: 1-2 años -> 1 punto >2 años -> 2 puntos
C21: Spring/Struts/Hibernate | E21: 1-2 años -> 1 punto 2-5 años -> 3 puntos >5 años -> 5 puntos
C22: Angular/AngularJS | E22: 1-2 años -> 1 punto >2 años -> 2 puntos
C23: HTML/CSS/Javascript | E23: 1-2 años -> 1 punto >2 años -> 2 puntos
C24: IBM DB2 | E24: 1-2 años -> 0,5 puntos >2 años -> 1 punto
B26: (1) Titulación reglada según Nivel MECES (https://www.boe.es/eli/es/rd/2014/02/14/96)

Sheet SSP-JP
B2: ÁREA | C2: SSPE
B3: PERFIL | C3: Jefe de Proyecto Producción
B4: CÓDIGO | C4: SSP-JP
B6: FORMACIÓN | D6: PUNTOS | E6: BAREMO
B7: FORMACIÓN ACADÉMICA | C7: Titulación 1 | E7: Nivel 2 -> 0,5 puntos Nivel 3->1 punto
B8: FORMACIÓN ESPECÍFICA | C8: Gestión de proyectos/PMP | E8: 20-40 horas->0,5 puntos >40 horas -> 1,5 puntos
C9: Gestión de equipos | E9: >20 horas --> 1 puntos
C10: Métrica3 | E10: >20 horas --> 1 puntos
C11: Metodologías Ágiles | E11: >20 horas --> 0,5 puntos
C12: J2EE | E12: 20-40 horas->0,5 puntos >40 horas -> 1 punto
B14: EXPERIENCIA | D14: PUNTOS | E14: BAREMO
B15: EXPERIENCIA PROFESIONAL | C15: Jefe de proyecto | E15: 1-2 años -> 2 puntos 2-5 años -> 4 puntos >5 años -> 6 puntos
C16: Analista Funcional | E16: 1-2 años -> 1 punto 2-5 años -> 2 puntos >5 años -> 3 puntos
B17: EXPERIENCIA ESPECÍFICA TECNOLOGÍAS Y ENTORNOS | C17: Metodología Métrica3 | E17: 1-2 años -> 0,5 puntos >2 años -> 1,5 puntos
C18: Metodologías ágiles | E18: 1-2 años -> 0,5 puntos >2 años -> 1,5 puntos
C19: Microsoft Project | E19: 1-2 años -> 1 puntos >2 años -> 2 puntos
C20: Jefe de proyectos J2EE | E20: 1-2 años -> 1 punto 2-4 años -> 3 puntos >4 años -> 5 puntos
C21: Jefe de proyectos de Media (Producción, Gestión de derechos, Emisiones, etc.) | E21: 1-2 años -> 1 punto 2-4 años -> 3 puntos >4 años -> 5 puntos
B24: (1) Titulación reglada según Nivel MECES (https://www.boe.es/eli/es/rd/2014/02/14/96)

Sheet SSP-4D
B2: ÁREA | C2: SSPE
B3: PERFIL | C3: Analista 4th Dimension
B4: CÓDIGO | C4: SSP-4D
B6: FORMACIÓN | D6: PUNTOS | E6: BAREMO
B7: FORMACIÓN ACADÉMICA | C7: Titulación | E7: Nivel 2 -> 0,5 puntos Nivel 3->1 punto
B8: FORMACIÓN ESPECÍFICA | C8: Certificación Desarrollo 4D | E8: 1,5 puntos
C9: Desarrollo/Administración en 4D | E9: 20-60 horas -> 1 punto >60 horas -> 3 puntos
C10: Metríca3/UML | E10: >20 horas -> 0,5 puntos
B12: EXPERIENCIA | D12: PUNTOS | E12: BAREMO
B13: EXPERIENCIA PROFESIONAL | C13: Analista Funcional | E13: 1-2 años -> 2 puntos 2-5 años -> 4 puntos >5 años -> 6 puntos
C14: Analista programador/Programador | E14: 2-5 años -> 2 puntos >5 años -> 3 puntos
B15: EXPERIENCIA ESPECÍFICA TECNOLOGÍAS Y ENTORNOS | C15: Analista funcional en proyectos con metodología Métrica3 | E15: 1-2 años -> 1 puntos >2 años -> 3 puntos
C16: Analista funcional en proyectos 4th Dimension | E16: 1-2 años -> 2 puntos 2-5 años -> 4 puntos >5 años -> 6 puntos
C17: Analista en sistemas de Planificación, Emisiones y Continuidad | E17: 1-2 años -> 2 puntos 2-5 años -> 4 puntos >5 años -> 6 puntos

Sheet SSP-AF1
B2: ÁREA | C2: SSPE
B3: PERFIL | C3: Analista producción 1
B4: CÓDIGO | C4: SSP-AF1
B6: FORMACIÓN | D6: PUNTOS | E6: BAREMO
B7: FORMACIÓN ACADÉMICA | C7: Titulación 1 | E7: Nivel 2 -> 0,5 puntos Nivel 3 o superior ->1 punto
B8: FORMACIÓN ESPECÍFICA | C8: J2EE | E8: >100 horas -> 0,5 puntos >200 horas -> 1 punto
C9: Spring | E9: 20-40 horas->0,5 puntos >40 horas -> 1 punto
C10: Hibernate | E10: >20 horas --> 0,5 puntos
C11: Angular | E11: >20 horas --> 0,5 puntos
C12: Métrica3 | E12: >20 horas --> 0,5 puntos
C13: Metodologías ágiles | E13: >20 horas --> 0,5 puntos
C14: UML | E14: 20-40 horas->0,5 puntos >40 horas -> 1 punto
B16: EXPERIENCIA | D16: PUNTOS | E16: BAREMO
B17: EXPERIENCIA PROFESIONAL | C17: Analista Funcional | E17: 1-2 años -> 2 puntos 2-5 años -> 4 puntos >5 años -> 6 puntos
C18: Analista programador/Programador | E18: 1-2 años -> 1 punto 2-5 años -> 2 puntos >5 años -> 3 puntos
B19: EXPERIENCIA ESPECÍFICA TECNOLOGÍAS Y ENTORNOS | C19: Analista funcional en proyectos con metodología Métrica3 | E19: 1-2 años -> 1 punto >2 años -> 1,5 puntos
C20: Analista funcional en proyectos con metodologías ágiles | E20: 1-2 años -> 1 punto >2 años -> 1,5 puntos
C21: Analista funcional en Proyectos J2EE | E21: 1-2 años -> 1 punto 2-5 años -> 3 puntos >5 años -> 5 puntos
C22: UML | E22: >2 años -> 1,5 puntos
C23: Hibernate | E23: 1-2 años -> 1 punto >2 años -> 1,5 puntos
C24: Spring | E24: 1-2 años ->0,5 puntos >2 años -> 1 punto
C25: Oracle | E25: 1-3 años -> 0,5 puntos >3 años -> 1 punto
C26: Analista en proyectos de Media (Producción, Gestión de derechos, Emisiones, etc.) | E26: 1-3 años->1 punto >3 años -> 2 puntos
B28: (1) Titulación reglada según Nivel MECES (https://www.boe.es/eli/es/rd/2014/02/14/96)

Sheet SSP-AF2
B2: ÁREA | C2: SSPE
B3: PERFIL | C3: Analista producción 2
B4: CÓDIGO | C4: SSP-AF2
B6: FORMACIÓN | D6: PUNTOS | E6: BAREMO
B7: FORMACIÓN ACADÉMICA | C7: Titulación 1 | E7: Nivel 2 -> 0,5 puntos Nivel 3 o superior ->1 punto
B8: FORMACIÓN ESPECÍFICA | C8: J2EE | E8: >100 horas -> 0,5 puntos >200 horas -> 1 punto
C9: Spring | E9: 20-40 horas->0,5 puntos >40 horas -> 1 punto
C10: Hibernate | E10: >20 horas --> 0,5 puntos
C11: Angular | E11: >20 horas --> 0,5 puntos
C12: Métrica3 | E12: >20 horas --> 0,5 puntos
C13: Metodologías ágiles | E13: >20 horas --> 0,5 puntos
C14: UML | E14: 20-40 horas->0,5 puntos >40 horas -> 1 punto
B16: EXPERIENCIA | D16: PUNTOS | E16: BAREMO
B17: EXPERIENCIA PROFESIONAL | C17: Analista Funcional | E17: 1-2 años -> 2 puntos 2-5 años -> 4 puntos >5 años -> 6 puntos
C18: Analista programador/Programador | E18: 1-2 años -> 1 punto 2-5 años -> 2 puntos >5 años -> 3 puntos
B19: EXPERIENCIA ESPECÍFICA TECNOLOGÍAS Y ENTORNOS | C19: Analista funcional en proyectos con metodología Métrica3 | E19: 1-2 años -> 1 punto >2 años -> 1,5 puntos
C20: Analista funcional en proyectos con metodologías ágiles | E20: 1-2 años -> 1 punto >2 años -> 1,5 puntos
C21: Analista funcional en Proyectos J2EE | E21: 1-2 años -> 1 punto 2-5 años -> 3 puntos >5 años -> 5 puntos
C22: UML | E22: >2 años -> 1,5 puntos
C23: Hibernate | E23: 1-2 años -> 1 punto >2 años -> 1,5 puntos
C24: Spring | E24: 1-2 años ->0,5 puntos >2 años -> 1 punto
C25: Oracle | E25: 1-3 años -> 0,5 puntos >3 años -> 1 punto
C26: Analista en proyectos de Media (Producción, Gestión de derechos, Emisiones, etc.) | E26: 1-3 años->1 punto >3 años -> 2 puntos
B28: (1) Titulación reglada según Nivel MECES (https://www.boe.es/eli/es/rd/2014/02/14/96)

Sheet SSP-AF3
B2: ÁREA | C2: SSPE
B3: PERFIL | C3: Analista producción 3
B4: CÓDIGO | C4: SSP-AF3
B6: FORMACIÓN | D6: PUNTOS | E6: BAREMO
B7: FORMACIÓN ACADÉMICA | C7: Titulación 1 | E7: Nivel 2 -> 0,5 puntos Nivel 3 o superior ->1 punto
B8: FORMACIÓN ESPECÍFICA | C8: J2EE | E8: >100 horas -> 0,5 puntos >200 horas -> 1 punto
C9: Spring | E9: 20-40 horas->0,5 puntos >40 horas -> 1 punto
C10: Hibernate | E10: >20 horas --> 0,5 puntos
C11: Angular | E11: >20 horas --> 0,5 puntos
C12: Métrica3 | E12: >20 horas --> 0,5 puntos
C13: Metodologías ágiles | E13: >20 horas --> 0,5 puntos
C14: UML | E14: 20-40 horas->0,5 puntos >40 horas -> 1 punto
B16: EXPERIENCIA | D16: PUNTOS | E16: BAREMO
B17: EXPERIENCIA PROFESIONAL | C17: Analista Funcional | E17: 1-2 años -> 2 puntos 2-5 años -> 4 puntos >5 años -> 6 puntos
C18: Analista programador/Programador | E18: 1-2 años -> 1 punto 2-5 años -> 2 puntos >5 años -> 3 puntos
B19: EXPERIENCIA ESPECÍFICA TECNOLOGÍAS Y ENTORNOS | C19: Analista funcional en proyectos con metodología Métrica3 | E19: 1-2 años -> 1 punto >2 años -> 1,5 puntos
C20: Analista funcional en proyectos con metodologías ágiles | E20: 1-2 años -> 1 punto >2 años -> 1,5 puntos
C21: Analista funcional en Proyectos J2EE | E21: 1-2 años -> 1 punto 2-5 años -> 3 puntos >5 años -> 5 puntos
C22: UML | E22: >2 años -> 1,5 puntos
C23: Hibernate | E23: 1-2 años -> 1 punto >2 años -> 1,5 puntos
C24: Spring | E24: 1-2 años ->0,5 puntos >2 años -> 1 punto
C25: Oracle | E25: 1-3 años -> 0,5 puntos >3 años -> 1 punto
C26: Analista en proyectos de Media (Producción, Gestión de derechos, Emisiones, etc.) | E26: 1-3 años->1 punto >3 años -> 2 puntos
B28: (1) Titulación reglada según Nivel MECES (https://www.boe.es/eli/es/rd/2014/02/14/96)

Sheet SSP-AP1
B2: ÁREA | C2: SSPE
B3: PERFIL | C3: Desarrollador producción
B4: CÓDIGO | C4: SSP-AP1
B6: FORMACIÓN | D6: PUNTOS | E6: BAREMO
B7: FORMACIÓN ACADÉMICA | C7: Titulación 1 | E7: Nivel 1 -> 0,5 puntos Nivel 2 o superior -> 1 punto
B8: FORMACIÓN ESPECÍFICA | C8: J2EE | E8: 20-40 horas->0,5 puntos >40 horas -> 1 punto
C9: Spring/Struts/Hibrernate | E9: >20 horas --> 1 puntos
C10: Angular | E10: >20 horas --> 0,5 puntos
C11: HTML/CSS/Javascript | E11: >20 horas --> 1 puntos
C12: Métrica3/UML | E12: >40 horas --> 0,5 puntos
C13: Metodologías ágiles | E13: >20 horas --> 0,5 puntos
C14: Eclipse/RAD | E14: >40 horas->0,5 puntos
B16: EXPERIENCIA | D16: PUNTOS | E16: BAREMO
B17: EXPERIENCIA PROFESIONAL | C17: Analista programador | E17: 1-2 años -> 2 puntos 2-5 años -> 4 puntos >5 años -> 6 puntos
C18: Programador | E18: 1-2 años -> 1 punto 2-5 años -> 2 puntos >5 años -> 3 puntos
B19: EXPERIENCIA ESPECÍFICA TECNOLOGÍAS Y ENTORNOS | C19: Analista Programador en proyectos J2EE | E19: 1-2 años -> 1 punto >2 años -> 3 puntos
C20: Analista Programador en proyectos Web | E20: 1-2 años -> 1 punto >2 años -> 2 puntos
C21: Spring/Struts/Hibernate | E21: 1-2 años -> 1 punto 2-5 años -> 2 puntos >5 años -> 4 puntos
C22: Angular/AngularJS | E22: 1-2 años -> 1 punto >2 años -> 2 puntos
C23: HTML/CSS/Javascript | E23: 1-2 años -> 1 punto >2 años -> 2 puntos
C24: BD Oracle | E24: >2 años -> 1 punto
C25: Experiencia en sector Media (Producción, Gestión de derechos, Emisiones, etc.) | E25: >2 años -> 1 punto
B27: (1) Titulación reglada según Nivel MECES (https://www.boe.es/eli/es/rd/2014/02/14/96)

Sheet DOC-JP
B2: ÁREA | C2: DOCUMENTACIÓN
B3: PERFIL | C3: Jefe de Proyecto Documentación
B4: CÓDIGO | C4: DOC-JP
B6: FORMACIÓN | D6: PUNTOS | E6: BAREMO
B7: FORMACIÓN ACADÉMICA | C7: Titulación 1 | E7: Nivel 2 -> 0,5 puntos Nivel 3->1 punto
B8: FORMACIÓN ESPECÍFICA | C8: Gestión de proyectos/PMP | E8: 20-40 horas->0,5 puntos >40 horas -> 1,5 puntos
C9: Gestión de equipos | E9: >20 horas --> 0,5 puntos
C10: Métrica3 | E10: >20 horas --> 0,5 puntos
C11: Metodologías ágiles | E11: >20 horas --> 0,5 puntos
C12: J2EE | E12: >60 horas --> 0,5 puntos
C13: Filenet | E13: >60 horas -> 1 punto
C14: Autonomy | E14: >60 horas->0,5 puntos
B16: EXPERIENCIA | D16: PUNTOS | E16: BAREMO
B17: EXPERIENCIA PROFESIONAL | C17: Jefe de proyecto | E17: 1-2 años -> 2 puntos 2-5 años -> 4 puntos >5 años -> 6 puntos
C18: Analista Funcional | E18: 1-2 años -> 1 punto 2-5 años -> 2 puntos >5 años -> 3 puntos
B19: EXPERIENCIA ESPECÍFICA TECNOLOGÍAS Y ENTORNOS | C19: Metodología Métrica3 | E19: 1-2 años -> 0,5 puntos >2 años -> 1 puntos
C20: Metodologías ágiles | E20: 1-2 años -> 0,5 puntos >2 años -> 1 puntos
C21: Microsoft Project | E21: >2 años -> 1 puntos
C22: Jefe de proyectos J2EE | E22: 1-2 años -> 1 punto 2-4 años -> 2 puntos >4 años -> 3 puntos
C23: Integración con IBM Filenet P8 | E23: 2-3 años -> 1 puntos >3 años -> 3 puntos
C24: Integraciones con MAM Tarsys/OpenText IDOL | E24: >2 años -> 2 puntos
C25: Jefe de proyectos sistemas audiovisuales | E25: 1-2 años -> 1 punto 2-5 años -> 2 puntos >5 años -> 4 puntos

Sheet DOC-AF1
B2: ÁREA | C2: DOCUMENTACIÓN
B3: PERFIL | C3: Analista funcional 1
B4: CÓDIGO | C4: DOC-AF1
B6: FORMACIÓN | D6: PUNTOS | E6: BAREMO
B7: FORMACIÓN ACADÉMICA | C7: Titulación 1 | E7: Nivel 2 -> 0,5 puntos Nivel 3 o superior ->1 punto
B8: FORMACIÓN ESPECÍFICA | C8: J2EE | E8: >100 horas -> 0,5 puntos >200 horas -> 1 punto
C9: Spring | E9: >20 horas --> 0,5 puntos
C10: Hibernate/Angular | E10: >20 horas --> 0,5 puntos
C11: Métrica3 | E11: >20 horas --> 0,5 puntos
C12: Metodologías ágiles | E12: >20 horas --> 0,5 puntos
C13: UML | E13: >20 horas --> 0,5 puntos
C14: Filenet | E14: 20-40 horas->0,5 puntos >40 horas -> 1 punto
C15: Autonomy | E15: >20 horas --> 0,5 puntos
B17: EXPERIENCIA | D17: PUNTOS | E17: BAREMO
B18: EXPERIENCIA PROFESIONAL | C18: Analista Funcional | E18: 1-2 años -> 2 puntos 2-5 años -> 4 puntos >5 años -> 6 puntos
C19: Analista programador/Programador | E19: 1-2 años -> 1 punto 2-5 años -> 2 puntos >5 años -> 3 puntos
B20: EXPERIENCIA ESPECÍFICA TECNOLOGÍAS Y ENTORNOS | C20: Analista funcional en proyectos con metodología Métrica3 | E20: >2 años -> 1 punto
C21: Analista funcional en proyectos con metodologías ágiles | E21: >2 años -> 1 punto
C22: Analista funcional en Proyectos J2EE | E22: 1-2 años -> 1 punto 2-5 años -> 2 puntos >5 años -> 4 puntos
C23: UML | E23: >2 años -> 1 punto
C24: Hibernate | E24: >2 años -> 0,5 puntos
C25: Spring | E25: >2 años -> 0,5 puntos
C26: Integración con IBM Filenet P8 | E26: 1-2 años -> 1 punto >2 años -> 2 puntos
C27: Integraciones con MAM Tarsys/OpenText IDOL | E27: 1-2 años -> 1 puntos >2 años -> 2 puntos
C28: Analista funcional sistemas audiovisuales | E28: 1-2 años -> 1,5 puntos >2 años -> 3 puntos
B30: (1) Titulación reglada según Nivel MECES (https://www.boe.es/eli/es/rd/2014/02/14/96)

Sheet DOC-AF2
B2: ÁREA | C2: DOCUMENTACIÓN
B3: PERFIL | C3: Analista funcional 2
B4: CÓDIGO | C4: DOC-AF2
B6: FORMACIÓN | D6: PUNTOS | E6: BAREMO
B7: FORMACIÓN ACADÉMICA | C7: Titulación 1 | E7: Nivel 2 -> 0,5 puntos Nivel 3 o superior ->1 punto
B8: FORMACIÓN ESPECÍFICA | C8: J2EE | E8: >100 horas -> 0,5 puntos >200 horas -> 1 punto
C9: Spring | E9: >20 horas --> 0,5 puntos
C10: Hibernate/Angular | E10: >20 horas --> 0,5 puntos
C11: Métrica3 | E11: >20 horas --> 0,5 puntos
C12: Metodologías ágiles | E12: >20 horas --> 0,5 puntos
C13: UML | E13: >20 horas --> 0,5 puntos
C14: Filenet | E14: 20-40 horas->0,5 puntos >40 horas -> 1 punto
C15: Autonomy | E15: >20 horas --> 0,5 puntos
B17: EXPERIENCIA | D17: PUNTOS | E17: BAREMO
B18: EXPERIENCIA PROFESIONAL | C18: Analista Funcional | E18: 1-2 años -> 2 puntos 2-5 años -> 4 puntos >5 años -> 6 puntos
C19: Analista programador/Programador | E19: 1-2 años -> 1 punto 2-5 años -> 2 puntos >5 años -> 3 puntos
B20: EXPERIENCIA ESPECÍFICA TECNOLOGÍAS Y ENTORNOS | C20: Analista funcional en proyectos con metodología Métrica3 | E20: >2 años -> 1 punto
C21: Analista funcional en proyectos con metodologías ágiles | E21: >2 años -> 1 punto
C22: Analista funcional en Proyectos J2EE | E22: 1-2 años -> 1 punto 2-5 años -> 2 puntos >5 años -> 4 puntos
C23: UML | E23: >2 años -> 1 punto
C24: Hibernate | E24: >2 años -> 0,5 puntos
C25: Spring | E25: >2 años -> 0,5 puntos
C26: Integración con IBM Filenet P8 | E26: 1-2 años -> 1 punto >2 años -> 2 puntos
C27: Integraciones con MAM Tarsys/OpenText IDOL | E27: 1-2 años -> 1 puntos >2 años -> 2 puntos
C28: Analista funcional sistemas audiovisuales | E28: 1-2 años -> 1,5 puntos >2 años -> 3 puntos
B30: (1) Titulación reglada según Nivel MECES (https://www.boe.es/eli/es/rd/2014/02/14/96)

Sheet DOC-AF3
B2: ÁREA | C2: DOCUMENTACIÓN
B3: PERFIL | C3: Analista funcional 3
B4: CÓDIGO | C4: DOC-AF3
B6: FORMACIÓN | D6: PUNTOS | E6: BAREMO
B7: FORMACIÓN ACADÉMICA | C7: Titulación 1 | E7: Nivel 2 -> 0,5 puntos Nivel 3 o superior ->1 punto
B8: FORMACIÓN ESPECÍFICA | C8: J2EE | E8: >100 horas -> 0,5 puntos >200 horas -> 1 punto
C9: Spring | E9: >20 horas --> 0,5 puntos
C10: Hibernate/Angular | E10: >20 horas --> 0,5 puntos
C11: Métrica3 | E11: >20 horas --> 0,5 puntos
C12: Metodologías ágiles | E12: >20 horas --> 0,5 puntos
C13: UML | E13: >20 horas --> 0,5 puntos
C14: Filenet | E14: 20-40 horas->0,5 puntos >40 horas -> 1 punto
C15: Autonomy | E15: >20 horas --> 0,5 puntos
B17: EXPERIENCIA | D17: PUNTOS | E17: BAREMO
B18: EXPERIENCIA PROFESIONAL | C18: Analista Funcional | E18: 1-2 años -> 2 puntos 2-5 años -> 4 puntos >5 años -> 6 puntos
C19: Analista programador/Programador | E19: 1-2 años -> 1 punto 2-5 años -> 2 puntos >5 años -> 3 puntos
B20: EXPERIENCIA ESPECÍFICA TECNOLOGÍAS Y ENTORNOS | C20: Analista funcional en proyectos con metodología Métrica3 | E20: >2 años -> 1 punto
C21: Analista funcional en proyectos con metodologías ágiles | E21: >2 años -> 1 punto
C22: Analista funcional en Proyectos J2EE | E22: 1-2 años -> 1 punto 2-5 años -> 2 puntos >5 años -> 4 puntos
C23: UML | E23: >2 años -> 1 punto
C24: Hibernate | E24: >2 años -> 0,5 puntos
C25: Spring | E25: >2 años -> 0,5 puntos
C26: Integración con IBM Filenet P8 | E26: 1-2 años -> 1 punto >2 años -> 2 puntos
C27: Integraciones con MAM Tarsys/OpenText IDOL | E27: 1-2 años -> 1 puntos >2 años -> 2 puntos
C28: Analista funcional sistemas audiovisuales | E28: 1-2 años -> 1,5 puntos >2 años -> 3 puntos
B30: (1) Titulación reglada según Nivel MECES (https://www.boe.es/eli/es/rd/2014/02/14/96)

Sheet DOC-AP1
B2: ÁREA | C2: DOCUMENTACIÓN
B3: PERFIL | C3: Desarrollador 1
B4: CÓDIGO | C4: DOC-AP1
B6: FORMACIÓN | D6: PUNTOS | E6: BAREMO
B7: FORMACIÓN ACADÉMICA | C7: Titulación 1 | E7: Nivel 1 -> 0,5 puntos Nivel 2 o superior -> 1 punto
B8: FORMACIÓN ESPECÍFICA | C8: J2EE | E8: 20-40 horas->0,5 puntos >40 horas -> 1 punto
C9: Spring/Struts/Hibrernate | E9: >20 horas --> 0,5 puntos
C10: Angular | E10: >20 horas --> 0,5 puntos
C11: HTML/CSS/Javascript | E11: >20 horas --> 0,5 puntos
C12: Métrica3/UML | E12: >40 horas --> 0,5 puntos
C13: Metodologías ágiles | E13: >20 horas --> 0,5 puntos
C14: Eclipse/RAD | E14: >40 horas->0,5 puntos
C15: Filenet | E15: >20 horas --> 0,5 puntos
C16: Autonomy | E16: >40 horas->0,5 puntos
B18: EXPERIENCIA | D18: PUNTOS | E18: BAREMO
B19: EXPERIENCIA PROFESIONAL | C19: Analista programador | E19: 1-2 años -> 2 punto 2-5 años -> 4 puntos >5 años -> 6 puntos
C20: Programador | E20: 1-2 años -> 1 punto 2-5 años -> 2 puntos >5 años -> 3 puntos
B21: EXPERIENCIA ESPECÍFICA TECNOLOGÍAS Y ENTORNOS | C21: Analista Programador en proyectos J2EE | E21: 1-2 años -> 1 punto >2 años -> 2 puntos
C22: Analista Programador en proyectos Web | E22: 1-2 años -> 1 punto >2 años -> 2 puntos
C23: Spring/Struts/Hibernate | E23: 1-2 años -> 1 punto >2 años -> 2 puntos
C24: Angular/AngularJS | E24: 1-2 años -> 1 punto >2 años -> 2 puntos
C25: HTML/CSS/Javascript | E25: 1-2 años -> 1 punto >2 años -> 2 puntos
C26: Integración con IBM Filenet P8 | E26: 1-2 años -> 1 punto >2 años -> 2 puntos
C27: Integraciones con MAM Tarsys/OpenText IDOL | E27: >1 año -> 1 punto
C28: Desarrollador en sistemas audiovisuales | E28: 1-2 años -> 1 punto >2 años -> 2 puntos
B30: (1) Titulación reglada según Nivel MECES (https://www.boe.es/eli/es/rd/2014/02/14/96)

Sheet DOC-AP2
B2: ÁREA | C2: DOCUMENTACIÓN
B3: PERFIL | C3: Desarrollador 2
B4: CÓDIGO | C4: DOC-AP2
B6: FORMACIÓN | D6: PUNTOS | E6: BAREMO
B7: FORMACIÓN ACADÉMICA | C7: Titulación 1 | E7: Nivel 1 -> 0,5 puntos Nivel 2 o superior -> 1 punto
B8: FORMACIÓN ESPECÍFICA | C8: J2EE | E8: 20-40 horas->0,5 puntos >40 horas -> 1 punto
C9: Spring/Struts/Hibrernate | E9: >20 horas --> 0,5 puntos
C10: Angular | E10: >20 horas --> 0,5 puntos
C11: HTML/CSS/Javascript | E11: >20 horas --> 0,5 puntos
C12: Métrica3/UML | E12: >40 horas --> 0,5 puntos
C13: Metodologías ágiles | E13: >20 horas --> 0,5 puntos
C14: Eclipse/RAD | E14: >40 horas->0,5 puntos
C15: Filenet | E15: >20 horas --> 0,5 puntos
C16: Autonomy | E16: >40 horas->0,5 puntos
B18: EXPERIENCIA | D18: PUNTOS | E18: BAREMO
B19: EXPERIENCIA PROFESIONAL | C19: Analista programador | E19: 1-2 años -> 2 punto 2-5 años -> 4 puntos >5 años -> 6 puntos
C20: Programador | E20: 1-2 años -> 1 punto 2-5 años -> 2 puntos >5 años -> 3 puntos
B21: EXPERIENCIA ESPECÍFICA TECNOLOGÍAS Y ENTORNOS | C21: Analista Programador en proyectos J2EE | E21: 1-2 años -> 1 punto >2 años -> 2 puntos
C22: Analista Programador en proyectos Web | E22: 1-2 años -> 1 punto >2 años -> 2 puntos
C23: Spring/Struts/Hibernate | E23: 1-2 años -> 1 punto >2 años -> 2 puntos
C24: Angular/AngularJS | E24: 1-2 años -> 1 punto >2 años -> 2 puntos
C25: HTML/CSS/Javascript | E25: 1-2 años -> 1 punto >2 años -> 2 puntos
C26: Integración con IBM Filenet P8 | E26: 1-2 años -> 1 punto >2 años -> 2 puntos
C27: Integraciones con MAM Tarsys/OpenText IDOL | E27: >1 año -> 1 punto
C28: Desarrollador en sistemas audiovisuales | E28: 1-2 años -> 1 punto >2 años -> 2 puntos
B30: (1) Titulación reglada según Nivel MECES (https://www.boe.es/eli/es/rd/2014/02/14/96)

Sheet DOC-FN
B2: ÁREA | C2: DOCUMENTACIÓN
B3: PERFIL | C3: Consultor FileNet
B4: CÓDIGO | C4: DOC-FN
B6: FORMACIÓN | D6: PUNTOS | E6: BAREMO
B7: FORMACIÓN ACADÉMICA | C7: Titulación 1 | E7: Nivel 1 -> 0,5 puntos Nivel 2 o superior -> 1 punto
B8: FORMACIÓN ESPECÍFICA | C8: Filenet | E8: 20-80 horas->1 punto 81-160 horas -> 2,5 puntos >160 horas -> 4 puntos
C9: Certificación Filenet | E9: 1 punto
B11: EXPERIENCIA | D11: PUNTOS | E11: BAREMO
B12: EXPERIENCIA PROFESIONAL | C12: Consultor IBM Filenet | E12: 2 a 3 años -> 3 punto 3-5 años -> 5 puntos >5 años -> 9 puntos
B13: EXPERIENCIA ESPECÍFICA TECNOLOGÍAS Y ENTORNOS | C13: J2EE | E13: 1-2 años -> 1 punto >2 años -> 2 puntos
C14: Gestión documental | E14: 1-3 años -> 1 punto 3-5 años -> 3 puntos >5 años -> 5 puntos
C15: Integración con MAM Tarsys | E15: 1-2 años -> 1 punto >2 años -> 2 puntos
C16: Integración con buscador OpenText IDOL | E16: 1-3 años -> 1 punto >3 años -> 3 puntos
C17: Experiencia en sistemas audiovisuales | E17: 1-2 años -> 1 punto 2-3 años -> 2 puntos >3 años -> 3 puntos
B19: (1) Titulación reglada según Nivel MECES (https://www.boe.es/eli/es/rd/2014/02/14/96)

Sheet DOC-TR
B2: ÁREA | C2: DOCUMENTACIÓN
B3: PERFIL | C3: Consultor Tarsys
B4: CÓDIGO | C4: DOC-TR
B6: FORMACIÓN | D6: PUNTOS | E6: BAREMO
B7: FORMACIÓN ACADÉMICA | C7: Titulación 1 | E7: Nivel 1 -> 0,5 puntos Nivel 2 o superior -> 1 punto
B8: FORMACIÓN ESPECÍFICA | C8: MAM Tarsys | E8: 20-60 horas -> 1 punto 60-100 horas ->3puntos > 100 horas ->5 puntos
B10: EXPERIENCIA | D10: PUNTOS | E10: BAREMO
B11: EXPERIENCIA PROFESIONAL | C11: Consultor MAM Tarsys | E11: 2 a 3 años -> 3 puntos 3 a 5 años -> 5 puntos >5 años ->9 puntos
B12: EXPERIENCIA ESPECÍFICA TECNOLOGÍAS Y ENTORNOS | C12: Integración con IBM Filenet P8 | E12: 1 a 2 años -> 3 puntos 3 a 5 años -> 6 puntos 5 a 6 años -> 9 puntos >6 años -> 12 puntos
C13: Experiencia en sistemas audiovisuales | E13: 1-2 años -> 1 punto 2-3 años -> 2 puntos >3 años -> 3 puntos
B15: (1) Titulación reglada según Nivel MECES (https://www.boe.es/eli/es/rd/2014/02/14/96)

Sheet DOC-ID
B2: ÁREA | C2: DOCUMENTACIÓN
B3: PERFIL | C3: Consultor Buscador IDOL
B4: CÓDIGO | C4: DOC-ID
B6: FORMACIÓN | D6: PUNTOS | E6: BAREMO
B7: FORMACIÓN ACADÉMICA | C7: Titulación 1 | E7: Nivel 1 -> 0,5 puntos Nivel 2 o superior -> 1 punto
B8: FORMACIÓN ESPECÍFICA | C8: OpenText IDOL | E8: 20-60 horas -> 1 punto 60-100 horas -> 2 puntos > 100 horas -> 4 puntos
C9: Certificación OpenText IDOL | E9: 1 punto
B11: EXPERIENCIA | D11: PUNTOS | E11: BAREMO
B12: EXPERIENCIA PROFESIONAL | C12: Consultor OpenText IDOL | E12: 2 a 3 años -> 3 puntos 3 a 5 años -> 5 puntos >5 años ->9 puntos
B13: EXPERIENCIA ESPECÍFICA TECNOLOGÍAS Y ENTORNOS | C13: J2EE | E13: 1-2 años -> 1 punto 2-3 años -> 2 puntos >3 años -> 3 puntos
C14: Integración con IBM Filenet P8 | E14: 1 a 2 años -> 3 puntos 3 a 5 años -> 6 puntos >5 años -> 9 puntos
C15: Experiencia en sistemas audiovisuales | E15: 1-2 años -> 1 punto 2-3 años -> 2 puntos >3 años -> 3 puntos
B17: (1) Titulación reglada según Nivel MECES (https://www.boe.es/eli/es/rd/2014/02/14/96)

Sheet INT-DS1
B2: ÁREA | C2: INTRANET
B3: PERFIL | C3: Analista y diseñador 1
B4: CÓDIGO | C4: INT-DS1
B6: FORMACIÓN | D6: PUNTOS | E6: BAREMO
B7: FORMACIÓN ACADÉMICA | C7: Titulación 1 | E7: Nivel 1 -> 0,5 puntos Nivel 2 o superior -> 1 punto
B8: FORMACIÓN ESPECÍFICA | C8: PHP | E8: 20-40 horas -> 0,5 puntos >40 horas -> 1 punto
C9: MySQL | E9: 20-30 horas -> 0,5 puntos >30 horas -> 1 punto
C10: Angular/TypeScript/Jquery/Javascript/JSON/AJAX | E10: >20 horas -> 1 punto
C11: HTML5/CSS3/XML/BOOTSTRAP | E11: >20 horas -> 0,5 puntos
C12: Herramientas: Photoshop, Freehand, Illustrator, Edición de video | E12: >20 horas -> 0,5 puntos
C13: Metodologías ágiles | E13: >30 horas -> 0,5 puntos
C14: J2EE | E14: >30 horas -> 0,5 puntos
B16: EXPERIENCIA | D16: PUNTOS | E16: BAREMO
B17: EXPERIENCIA PROFESIONAL | C17: Analista Funcional | E17: 2-3 años -> 1 puntos 3-5 años -> 2 puntos >5 años -> 4 puntos
C18: Diseñador Web | E18: 2-3 años → 3 punto 3-5 años -> 4 puntos >5 años → 5 puntos
B19: EXPERIENCIA ESPECÍFICA TECNOLOGÍAS Y ENTORNOS | C19: Analisis y diseño de proyecctos Web | E19: 2-3 años -> 2 puntos >3 años -> 4 puntos
C20: PHP/MySQL | E20: 2-3 años -> 2 puntos > 3 años-> 4 puntos
C21: Angular/TypeScript/Jquery/Javascript/JSON/AJAX | E21: 2-3 años -> 1 puntos > 3 años-> 2 puntos
C22: HTML5/CSS3/XML/BOOTSTRAP | E22: 2-3 años -> 1 puntos > 3 años-> 2 puntos
C23: Experiencia en sector media | E23: 1-2 años -> 1 punto 2-3 años -> 2 puntos >3 años -> 3 puntos
B25: (1) Titulación reglada según Nivel MECES (https://www.boe.es/eli/es/rd/2014/02/14/96)

Sheet INT-DS2
B2: ÁREA | C2: INTRANET
B3: PERFIL | C3: Analista y diseñador 2
B4: CÓDIGO | C4: INT-DS2
B6: FORMACIÓN | D6: PUNTOS | E6: BAREMO
B7: FORMACIÓN ACADÉMICA | C7: Titulación 1 | E7: Nivel 1 -> 0,5 puntos Nivel 2 o superior -> 1 punto
B8: FORMACIÓN ESPECÍFICA | C8: PHP | E8: 20-40 horas -> 0,5 puntos >40 horas -> 1 punto
C9: MySQL | E9: 20-30 horas -> 0,5 puntos >30 horas -> 1 punto
C10: Angular/TypeScript/Jquery/Javascript/JSON/AJAX | E10: >20 horas -> 1 punto
C11: HTML5/CSS3/XML/BOOTSTRAP | E11: >20 horas -> 0,5 puntos
C12: Herramientas: Photoshop, Freehand, Illustrator, Edición de video | E12: >20 horas -> 0,5 puntos
C13: Metodologías ágiles | E13: >30 horas -> 0,5 puntos
C14: J2EE | E14: >30 horas -> 0,5 puntos
B16: EXPERIENCIA | D16: PUNTOS | E16: BAREMO
B17: EXPERIENCIA PROFESIONAL | C17: Analista Funcional | E17: 2-3 años -> 1 puntos 3-5 años -> 2 puntos >5 años -> 4 puntos
C18: Diseñador Web | E18: 2-3 años → 3 punto 3-5 años -> 4 puntos >5 años → 5 puntos
B19: EXPERIENCIA ESPECÍFICA TECNOLOGÍAS Y ENTORNOS | C19: Analisis y diseño de proyecctos Web | E19: 2-3 años -> 2 puntos >3 años -> 4 puntos
C20: PHP/MySQL | E20: 2-3 años -> 2 puntos > 3 años-> 4 puntos
C21: Angular/TypeScript/Jquery/Javascript/JSON/AJAX | E21: 2-3 años -> 1 puntos > 3 años-> 2 puntos
C22: HTML5/CSS3/XML/BOOTSTRAP | E22: 2-3 años -> 1 puntos > 3 años-> 2 puntos
C23: Experiencia en sector media | E23: 1-2 años -> 1 punto 2-3 años -> 2 puntos >3 años -> 3 puntos
B25: (1) Titulación reglada según Nivel MECES (https://www.boe.es/eli/es/rd/2014/02/14/96)

Sheet INT-AP1
B2: ÁREA | C2: INTRANET
B3: PERFIL | C3: Programador PHP1
B4: CÓDIGO | C4: INT-AP1
B6: FORMACIÓN | D6: PUNTOS | E6: BAREMO
B7: FORMACIÓN ACADÉMICA | C7: Titulación 1 | E7: Nivel 1 -> 0,5 puntos Nivel 2 o superior -> 1 punto
B8: FORMACIÓN ESPECÍFICA | C8: PHP | E8: 20-40 horas -> 0,5 puntos >40 horas -> 1,5 punto
C9: MySQL | E9: 20-30 horas -> 0,5 puntos >30 horas -> 1 punto
C10: Angular/TypeScript/Jquery/Javascript/JSON/AJAX | E10: >20 horas -> 1 punto
C11: HTML5/CSS3/XML/BOOTSTRAP | E11: >20 horas -> 1 puntos
C12: Herramientas: Photoshop, Freehand, Illustrator, Edición de video | E12: >20 horas -> 0,5 puntos
B14: EXPERIENCIA | D14: PUNTOS | E14: BAREMO
B15: EXPERIENCIA PROFESIONAL | C15: Diseñador Web | E15: 2-3 años -> 1 puntos 3-5 años -> 2 puntos >5 años -> 4 puntos
C16: Programador PHP | E16: 2-3 años → 3 punto 3-5 años -> 4 puntos >5 años → 5 puntos
B17: EXPERIENCIA ESPECÍFICA TECNOLOGÍAS Y ENTORNOS | C17: PHP/MySQL | E17: 2-3 años -> 2 puntos > 3 años-> 5 puntos
C18: Angular/TypeScript/Jquery/Javascript/JSON/AJAX | E18: 2-3 años -> 1 puntos > 3 años-> 4 puntos
C19: HTML5/CSS3/XML/BOOTSTRAP | E19: 2-3 años -> 1 puntos > 3 años-> 4 puntos
C20: Experiencia en sector media | E20: 1-2 años -> 1 punto >2 años -> 2 puntos
B22: (1) Titulación reglada según Nivel MECES (https://www.boe.es/eli/es/rd/2014/02/14/96)
