Workbook

Sheet Instrucciones
B2: INSTRUCCIONES PARA LA PREPARACION DE ANEXO I PROPOSICIÓN ECONÓMICA
A4: 1) | B4: ESTE FICHERO EXCEL DEBE EMPLEARSE OBLIGATORIAMENTE PARA LA PREPARACION DE LA OFERTA ECONOMICA (Anexo I PCAP)
B5: EL EXCEL CUMPLIMENTADO SE PRESENTARA JUNTO CON LA OFERTA FIRMADA EN PDF (presentar en sobre C un fichero ZIP que incluya oferta en PDF firmada + EXCEL cumplimentado)
A7: 2) | B7: DEBEN PRESENTARSE LOS SIGUIENTES DOCUMENTOS EN CADA LOTE
B9: Anx I pg 1 oferta
B10: Desglose de precio por Comunidad Autónoma ofertada
B12: (por tanto el número mínimo de pestañas de Excel a cumplimentar son 2, excepto en lotes con varias CCAA donde deberán cumplimentarse 3 pestañas de esta excel (lotes 1,2,3,9), o lote 4 (a cumplimentar y firmar 4 pestañas)
A14: 3) | B14: En "Anx I pg 1 oferta" solo se cumplimentarán datos de licitador y pie de firma (TODOS los importes ofertados se obtienen desde pestañas de Desglose de precio de cada Comunidad Autónoma ofertada)
B15: No se puede rectificar ningún ERROR en importes ofertados desde esta pestaña, debe corregirse en la/s comunidad/es autónoma/s de cada lote ofertado
A18: 4) | B18: El Desglose de precios por Comunidad incluye avisos para evitar errores en la cumplimentación.
A20: - | B20: SERVICIO FIJO :
C21: Solo se ofertarán importes SIN decimales (error si se introducen importes con decimales)
A24: - | B24: Si no se presupuestan TODAS las partidas de servicio de la comunidad autónoma, las sumas de la columna "2 años" darán ERROR
A26: - | B26: Las partidas en AZUL son fijas e invariables, no se pueden modificar y forman parte de la oferta ("MANT. CORRECTIVO MATERIALES < 500 € " y "PREVENTIVO, CORRECTIVO NO PROGRAMADO (2)")
A28: - | B28: El "importe hora mano de obra" debe estar entre 30,00 y 37,00, se introducirá con un máximo de 2 decimales (sin redondeos), cualquier importe no comprendido entre ambas cifras o que supere 2 decimales
B29: dará ERROR en los cálculos y se mostrarán avisos en el desglose de Precio que tenga errores.
A31: - | B31: Precio hora único: en los lotes con más de una Comunidad (1,2,3,4 y 9), el precio hora mano de obra SOLO SE PODRA REGISTRAR EN PRIMERA COMUNIDAD DEL LOTE (Andalucía, Aragón, Asturias, Baleares y Navarra, respectivamente)
A33: - | B33: IMPORTE OFERTADO MAXIMO: no superara EN NINGUN CASO el Valor estimado total de cada Comunidad Autónoma ofertada
A36: 5) | B36: VE MAXIMO : | C36: En esta pestaña se incluye detalle de total anualidad por Comunidad Autónoma y desglose de servicio variable incluidos en "PCAP 3ª Valor estimado.Precios máximos" (pgs. 8-22) PCAP)
A40: 6) | B40: Navegación
B42: Manteniendo RATON sobre la flecha resaltada en rojo en barra inferior.
B74: muestra menú indicando que, al pulsar con BOTON IZQUIERDO (secundario) DE RATON sobre la flecha resaltada en rojo en barra inferior.
B77: se accede a la descripción de todas las pestañas que componen el fichero
B94: seleccionando una nueva pestaña (por ej. lote 9 - Pais Vasco)
B112: se accede directamente a la pestaña elegida
B152: con esta acción es inmediato cambiar de pestaña del fichero

Sheet Anx I pg 1 oferta
A2: NOTA IMPORTANTE: ESTE ANEXO I Y TABLA/S DESGLOSE DE PRECIO SE PRESENTARAN FIRMADOS EN FORMATO PDF
J5: “Servicio de mantenimiento integral en sedes de CRTVE 2026-2030"
J7: Expediente n.º S/06048/2024
A9: ANEXO I: MODELO DE PROPOSICIÓN ECONÓMICA
A12: D./Dª | F12: con D.N.I./NIE número
A13: (Nombre y dos apellidos)
A15: actuando en calidad de apoderado de la empresa
F16: (nombre o razón social)
A18: con NIF | C18: y domicilio social en
A20: conforme acredita con Poder.
A22: Se compromete a prestar el servicio con estricta sujeción a todas las condiciones técnicas y legales que se contienen en
A23: las Condiciones Generales de Contratación y de Condiciones Técnicas Particulares que ha examinado y expresamente
A24: acepta, señalando como características de su proposición las siguientes:
A26: A. El precio máximo ofertado, expresado sin IVA u otros impuestos indirectos equivalentes, es
A28: de | B28: =+IF(ISNUMBER($G$59),IF($G$59<=4493400,$G$59,"ERROR: no debe superar 4.493.400,00"),"error, falta importe TOTAL OFERTA") -> 0 | D28: € | G28: €
A30: Las proposiciones económicas incluirán un único precio para cada prestación, aplicable en cada uno de los años de ejecución del contrato, incluyendo los años de posibles prórrogas, en su caso.
A32: Las proposiciones económicas no podrán superar superar el importe total para cada uno de los lotes del valor estimado indicado en el PCAP cláusula 3ª.
A34: Será obligatorio cumplimentar todos los campos de los formularios en caso contrario se desestimará oferta.
A36: En caso de discrepancia entre el importe del precio unitario y el importe indicado en las casillas de estimación anual, prevalecerá el importe del precio unitario de cada servicio, y se corregirá el cálculo partiendo del precio unitario indicado.
B38: LOTE | C38: COMUNIDAD AUTONOMA | E38: Importe anual | G38: Importe oferta contrato (2 años)
B39: 1 | C39: Andalucía, Ceuta y Melilla | E39: =+IF(OR('AnxI 1a ANDAL'!$E$23="",'AnxI 1a ANDAL'!$E$23=0),"",IF('AnxI 1a ANDAL'!$F$23="total>V.E.Máximo","error: oferta anual supera "&VLOOKUP("L01a_TO",'VE MAXIMO'!$A$1:$F$221,5,FALSE),IF(ISNUMBER('AnxI 1a ANDAL'!$E$23),'AnxI 1a ANDAL'!$E$23,"error: revisar importes ofertados"))) | G39: =+IF(OR(E39=0,E39=""),0,IF('AnxI 1a ANDAL'!$F$23="",0,IF('AnxI 1a ANDAL'!$F$23="total>V.E.Máximo","supera Máximo 2 años ( "&2*VLOOKUP("L01a_TO",'VE MAXIMO'!A1:F220,5,FALSE)&" )",IF('AnxI 1a ANDAL'!$F$23>0,'AnxI 1a ANDAL'!$F$23,"error: revisar importes ofertados")))) -> 0
C40: Extremadura | E40: =+IF(OR('AnxI 1b EXTREM'!$E$23="",'AnxI 1b EXTREM'!$E$23=0),"",IF('AnxI 1b EXTREM'!$F$23="total>V.E.Máximo","error: oferta anual supera "&VLOOKUP("L01b_TO",'VE MAXIMO'!$A$1:$F$221,5,FALSE),IF(ISNUMBER('AnxI 1b EXTREM'!$E$23),'AnxI 1b EXTREM'!$E$23,"error: revisar importes ofertados"))) | G40: =+IF(OR(E40=0,E40=""),0,IF('AnxI 1b EXTREM'!$F$23="",0,IF('AnxI 1b EXTREM'!$F$23="total>V.E.Máximo","supera Máximo 2 años ( "&2*VLOOKUP("L01b_TO",'VE MAXIMO'!A1:F220,5,FALSE)&" )",IF('AnxI 1b EXTREM'!$F$23>0,'AnxI 1b EXTREM'!$F$23,"error: revisar importes ofertados")))) -> 0
E41: Total Lote 1 | G41: =+IF(ISNUMBER(+G39+G40),+G39+G40,"ERROR REVISAR OFERTA") -> 0
B42: 2 | C42: Aragón | E42: =+IF(OR('AnxI 2a ARAG'!$E$23="",'AnxI 2a ARAG'!$E$23=0),"",IF('AnxI 2a ARAG'!$F$23="total>V.E.Máximo","error: oferta anual supera "&VLOOKUP("L02a_TO",'VE MAXIMO'!$A$1:$F$221,5,FALSE),IF(ISNUMBER('AnxI 2a ARAG'!$E$23),'AnxI 2a ARAG'!$E$23,"error: revisar importes ofertados"))) | G42: =+IF(OR(E42=0,E42=""),0,IF('AnxI 2a ARAG'!$F$23="",0,IF('AnxI 2a ARAG'!$F$23="total>V.E.Máximo","supera Máximo 2 años ( "&2*VLOOKUP("L02a_TO",'VE MAXIMO'!A4:F223,5,FALSE)&" )",IF('AnxI 2a ARAG'!$F$23>0,'AnxI 2a ARAG'!$F$23,"error: revisar importes ofertados")))) -> 0
C43: La Rioja | E43: =+IF(OR('AnxI 2b RIOJA'!$E$23="",'AnxI 2b RIOJA'!$E$23=0),"",IF('AnxI 2b RIOJA'!$F$23="total>V.E.Máximo","error: oferta anual supera "&VLOOKUP("L02b_TO",'VE MAXIMO'!$A$1:$F$221,5,FALSE),IF(ISNUMBER('AnxI 2b RIOJA'!$E$23),'AnxI 2b RIOJA'!$E$23,"error: revisar importes ofertados"))) | G43: =+IF(OR(E43=0,E43=""),0,IF('AnxI 2b RIOJA'!$F$23="",0,IF('AnxI 2b RIOJA'!$F$23="total>V.E.Máximo","supera Máximo 2 años ( "&2*VLOOKUP("L02b_TO",'VE MAXIMO'!A5:F224,5,FALSE)&" )",IF('AnxI 2b RIOJA'!$F$23>0,'AnxI 2b RIOJA'!$F$23,"error: revisar importes ofertados")))) -> 0
E44: Total Lote 2 | G44: =+IF(ISNUMBER(+G42+G43),+G42+G43,"ERROR REVISAR OFERTA") -> 0
B45: 3 | C45: Asturias | E45: =+IF(OR('AnxI 3a ASTUR'!$E$23="",'AnxI 3a ASTUR'!$E$23=0),"",IF('AnxI 3a ASTUR'!$F$23="total>V.E.Máximo","error: oferta anual supera "&VLOOKUP("L03a_TO",'VE MAXIMO'!$A$1:$F$221,5,FALSE),IF(ISNUMBER('AnxI 3a ASTUR'!$E$23),'AnxI 3a ASTUR'!$E$23,"error: revisar importes ofertados"))) | G45: =+IF(OR(E45=0,E45=""),0,IF('AnxI 3a ASTUR'!$F$23="",0,IF('AnxI 3a ASTUR'!$F$23="total>V.E.Máximo","supera Máximo 2 años ( "&2*VLOOKUP("L03a_TO",'VE MAXIMO'!A6:F226,5,FALSE)&" )",IF('AnxI 3a ASTUR'!$F$23>0,'AnxI 3a ASTUR'!$F$23,"error: revisar importes ofertados")))) -> 0
C46: Cantabria | E46: =+IF(OR('AnxI 3b CANTAB'!$E$23="",'AnxI 3b CANTAB'!$E$23=0),"",IF('AnxI 3b CANTAB'!$F$23="total>V.E.Máximo","error: oferta anual supera "&VLOOKUP("L03b_TO",'VE MAXIMO'!$A$1:$F$221,5,FALSE),IF(ISNUMBER('AnxI 3b CANTAB'!$E$23),'AnxI 3b CANTAB'!$E$23,"error: revisar importes ofertados"))) | G46: =+IF(OR(E46=0,E46=""),0,IF('AnxI 3b CANTAB'!$F$23="",0,IF('AnxI 3b CANTAB'!$F$23="total>V.E.Máximo","supera Máximo 2 años ( "&2*VLOOKUP("L03b_TO",'VE MAXIMO'!A6:F227,5,FALSE)&" )",IF('AnxI 3b CANTAB'!$F$23>0,'AnxI 3b CANTAB'!$F$23,"error: revisar importes ofertados")))) -> 0
E47: Total Lote 3 | G47: =+IF(ISNUMBER(+G45+G46),+G45+G46,"ERROR REVISAR OFERTA") -> 0
B48: 4 | C48: Baleares | E48: =+IF(OR('AnxI 4a BALEAR'!$E$23="",'AnxI 4a BALEAR'!$E$23=0),"",IF('AnxI 4a BALEAR'!$F$23="total>V.E.Máximo","error: oferta anual supera "&VLOOKUP("L04a_TO",'VE MAXIMO'!$A$1:$F$221,5,FALSE),IF(ISNUMBER('AnxI 4a BALEAR'!$E$23),'AnxI 4a BALEAR'!$E$23,"error: revisar importes ofertados"))) | G48: =+IF(OR(E48=0,E48=""),0,IF('AnxI 4a BALEAR'!$F$23="",0,IF('AnxI 4a BALEAR'!$F$23="total>V.E.Máximo","supera Máximo 2 años ( "&2*VLOOKUP("L04a_TO",'VE MAXIMO'!A6:F229,5,FALSE)&" )",IF('AnxI 4a BALEAR'!$F$23>0,'AnxI 4a BALEAR'!$F$23,"error: revisar importes ofertados")))) -> 0
C49: Murcia | E49: =+IF(OR('AnxI 4b MURC'!$E$23="",'AnxI 4b MURC'!$E$23=0),"",IF('AnxI 4b MURC'!$F$23="total>V.E.Máximo","error: oferta anual supera "&VLOOKUP("L04b_TO",'VE MAXIMO'!$A$1:$F$221,5,FALSE),IF(ISNUMBER('AnxI 4b MURC'!$E$23),'AnxI 4b MURC'!$E$23,"error: revisar importes ofertados"))) | G49: =+IF(OR(E49=0,E49=""),0,IF('AnxI 4b MURC'!$F$23="",0,IF('AnxI 4b MURC'!$F$23="total>V.E.Máximo","supera Máximo 2 años ( "&2*VLOOKUP("L04b_TO",'VE MAXIMO'!A6:F230,5,FALSE)&" )",IF('AnxI 4b MURC'!$F$23>0,'AnxI 4b MURC'!$F$23,"error: revisar importes ofertados")))) -> 0
C50: Valencia | E50: =+IF(OR('AnxI 4c VALENC'!$E$23="",'AnxI 4c VALENC'!$E$23=0),"",IF('AnxI 4c VALENC'!$F$23="total>V.E.Máximo","error: oferta anual supera "&VLOOKUP("L04c_TO",'VE MAXIMO'!$A$1:$F$221,5,FALSE),IF(ISNUMBER('AnxI 4c VALENC'!$E$23),'AnxI 4c VALENC'!$E$23,"error: revisar importes ofertados"))) | G50: =+IF(OR(E50=0,E50=""),0,IF('AnxI 4c VALENC'!$F$23="",0,IF('AnxI 4c VALENC'!$F$23="total>V.E.Máximo","supera Máximo 2 años ( "&2*VLOOKUP("L04c_TO",'VE MAXIMO'!A6:F231,5,FALSE)&" )",IF('AnxI 4c VALENC'!$F$23>0,'AnxI 4c VALENC'!$F$23,"error: revisar importes ofertados")))) -> 0
E51: Total Lote 4 | G51: =+IF(ISNUMBER(+G48+G49+G50),+G48+G49+G50,"ERROR REVISAR OFERTA") -> 0
B52: 5 | C52: Canarias | E52: =+IF(OR('AnxI 5 CANAR'!$E$23="",'AnxI 5 CANAR'!$E$23=0),"",IF('AnxI 5 CANAR'!$F$23="total>V.E.Máximo","error: oferta anual supera "&VLOOKUP("L05_TO",'VE MAXIMO'!$A$1:$F$221,5,FALSE),IF(ISNUMBER('AnxI 5 CANAR'!$E$23),'AnxI 5 CANAR'!$E$23,"error: revisar importes ofertados"))) | G52: =+IF(OR(E52=0,E52=""),0,IF('AnxI 5 CANAR'!$F$23="",0,IF('AnxI 5 CANAR'!$F$23="total>V.E.Máximo","supera Máximo 2 años ( "&2*VLOOKUP("L05_TO",'VE MAXIMO'!A6:F233,5,FALSE)&" )",IF('AnxI 5 CANAR'!$F$23>0,'AnxI 5 CANAR'!$F$23,"error: revisar importes ofertados")))) -> 0
B53: 6 | C53: Castilla La Mancha | E53: =+IF(OR('AnxI 6 CLMANC'!$E$23="",'AnxI 6 CLMANC'!$E$23=0),"",IF('AnxI 6 CLMANC'!$F$23="total>V.E.Máximo","error: oferta anual supera "&VLOOKUP("L06_TO",'VE MAXIMO'!$A$1:$F$221,5,FALSE),IF(ISNUMBER('AnxI 6 CLMANC'!$E$23),'AnxI 6 CLMANC'!$E$23,"error: revisar importes ofertados"))) | G53: =+IF(OR(E53=0,E53=""),0,IF('AnxI 6 CLMANC'!$F$23="",0,IF('AnxI 6 CLMANC'!$F$23="total>V.E.Máximo","supera Máximo 2 años ( "&2*VLOOKUP("L06_TO",'VE MAXIMO'!A6:F234,5,FALSE)&" )",IF('AnxI 6 CLMANC'!$F$23>0,'AnxI 6 CLMANC'!$F$23,"error: revisar importes ofertados")))) -> 0
B54: 7 | C54: Castilla León | E54: =+IF(OR('AnxI 7 CLEON'!$E$23="",'AnxI 7 CLEON'!$E$23=0),"",IF('AnxI 7 CLEON'!$F$23="total>V.E.Máximo","error: oferta anual supera "&VLOOKUP("L07_TO",'VE MAXIMO'!$A$1:$F$221,5,FALSE),IF(ISNUMBER('AnxI 7 CLEON'!$E$23),'AnxI 7 CLEON'!$E$23,"error: revisar importes ofertados"))) | G54: =+IF(OR(E54=0,E54=""),0,IF('AnxI 7 CLEON'!$F$23="",0,IF('AnxI 7 CLEON'!$F$23="total>V.E.Máximo","supera Máximo 2 años ( "&2*VLOOKUP("L07_TO",'VE MAXIMO'!A6:F235,5,FALSE)&" )",IF('AnxI 7 CLEON'!$F$23>0,'AnxI 7 CLEON'!$F$23,"error: revisar importes ofertados")))) -> 0
B55: 8 | C55: Galicia | E55: =+IF(OR('AnxI 8 GALIC'!$E$23="",'AnxI 8 GALIC'!$E$23=0),"",IF('AnxI 8 GALIC'!$F$23="total>V.E.Máximo","error: oferta anual supera "&VLOOKUP("L08_TO",'VE MAXIMO'!$A$1:$F$221,5,FALSE),IF(ISNUMBER('AnxI 8 GALIC'!$E$23),'AnxI 8 GALIC'!$E$23,"error: revisar importes ofertados"))) | G55: =+IF(OR(E55=0,E55=""),0,IF('AnxI 8 GALIC'!$F$23="",0,IF('AnxI 8 GALIC'!$F$23="total>V.E.Máximo","supera Máximo 2 años ( "&2*VLOOKUP("L08_TO",'VE MAXIMO'!A6:F236,5,FALSE)&" )",IF('AnxI 8 GALIC'!$F$23>0,'AnxI 8 GALIC'!$F$23,"error: revisar importes ofertados")))) -> 0
B56: 9 | C56: Navarra | E56: =+IF(OR('AnxI 9a NAVAR'!$E$23="",'AnxI 9a NAVAR'!$E$23=0),"",IF('AnxI 9a NAVAR'!$F$23="total>V.E.Máximo","error: oferta anual supera "&VLOOKUP("L09a_TO",'VE MAXIMO'!$A$1:$F$221,5,FALSE),IF(ISNUMBER('AnxI 9a NAVAR'!$E$23),'AnxI 9a NAVAR'!$E$23,"error: revisar importes ofertados"))) | G56: =+IF(OR(E56=0,E56=""),0,IF('AnxI 9a NAVAR'!$F$23="",0,IF('AnxI 9a NAVAR'!$F$23="total>V.E.Máximo","supera Máximo 2 años ( "&2*VLOOKUP("L09a_TO",'VE MAXIMO'!A6:F237,5,FALSE)&" )",IF('AnxI 9a NAVAR'!$F$23>0,'AnxI 9a NAVAR'!$F$23,"error: revisar importes ofertados")))) -> 0
C57: País Vasco | E57: =+IF(OR('AnxI 9b PVASCO'!$E$23="",'AnxI 9b PVASCO'!$E$23=0),"",IF('AnxI 9b PVASCO'!$F$23="total>V.E.Máximo","error: oferta anual supera "&VLOOKUP("L09b_TO",'VE MAXIMO'!$A$1:$F$221,5,FALSE),IF(ISNUMBER('AnxI 9b PVASCO'!$E$23),'AnxI 9b PVASCO'!$E$23,"error: revisar importes ofertados"))) | G57: =+IF(OR(E57=0,E57=""),0,IF('AnxI 9b PVASCO'!$F$23="",0,IF('AnxI 9b PVASCO'!$F$23="total>V.E.Máximo","supera Máximo 2 años ( "&2*VLOOKUP("L09b_TO",'VE MAXIMO'!A6:F238,5,FALSE)&" )",IF('AnxI 9b PVASCO'!$F$23>0,'AnxI 9b PVASCO'!$F$23,"error: revisar importes ofertados")))) -> 0
E58: Total Lote 9 | G58: =+IF(ISNUMBER(+G56+G57),+G56+G57,"ERROR REVISAR OFERTA") -> 0
...

Sheet AnxI 1a ANDAL
A1: ESTA TABLA DESGLOSE PRECIO DE OFERTA SE PRESENTARA FIRMADA EN FORMATO PDF
B2: =+"S-"&MID('Anx I pg 1 oferta'!J7,18,5)&"-"&RIGHT('Anx I pg 1 oferta'!J7,4)&" "&'Anx I pg 1 oferta'!J5&'Anx I pg 1 oferta'!J6 -> S-06048-2024 “Servicio de mantenimiento integral en sedes de CRTVE 2026-2030"
B3: B. Desglose Precio
A5: L01a_00 | B5: LOTE | E5: 1 Anualidad | F5: Importe contrato 2 años
A6: L01a_00 | B6: 1 | C6: ANDALUCÍA, CEUTA Y MELILLA
A7: L01a_01 | C7: PREVENTIVO GENERAL+CONDUCTIVO | F7: =IF(ISNUMBER(E7),+E7*2,0) -> 0
A8: L01a_02 | C8: PREVENTIVO PROTECC. CONTRA INCENDIOS | F8: =IF(ISNUMBER(E8),+E8*2,0) -> 0
A9: L01a_03 | C9: PREVENTIVO LEGIONELLA | F9: =IF(ISNUMBER(E9),+E9*2,0) -> 0
A10: L01a_04 | B10: SERVICIO | C10: PREVENTIVO GRUPOS ELECTRÓGENOS | F10: =IF(ISNUMBER(E10),+E10*2,0) -> 0
A11: L01a_05 | B11: FIJO | C11: PREVENTIVO DESBROCES/PODA | F11: =IF(ISNUMBER(E11),+E11*2,0) -> 0
A12: L01a_06 | C12: PREVENTIVO APARATOS ELEVADORES Y LÍNEAS DE VIDA | F12: =IF(ISNUMBER(E12),+E12*2,0) -> 0
A13: L01a_07 | C13: PREVENTIVO PUERTAS Y BARRERAS | F13: =IF(ISNUMBER(E13),+E13*2,0) -> 0
A14: L01a_08 | C14: PREVENTIVO PARARRAYOS | F14: =IF(ISNUMBER(E14),+E14*2,0) -> 0
A15: L01a_09 | C15: MANTENIMIENTO TÉCNICO-LEGAL | F15: =IF(ISNUMBER(E15),+E15*2,0) -> 0
A16: L01a_10 | C16: TERMOGRAFÍAS | F16: =IF(ISNUMBER(E16),+E16*2,0) -> 0
A17: L01a_11 | C17: MANT. CORRECTIVO MATERIALES < 500 € (1) | E17: 46810 | F17: 93620
A18: L01a_12 | C18: PREVENTIVO, CORRECTIVO NO PROGRAMADO (2) | E18: 50160 | F18: =+IF(COUNT(E7:E18)=12,IF(SUM(F7:F17)=SUM(E7:E17)*2,+E18*2,"revisar partidas ofertadas"),) -> 0
A19: L01a_sf | C19: suma servicio fijo | E19: =+IF(COUNTIFS((E7:E16),">0")>0,+IF(SUMPRODUCT(TRUNC(E7:E16))=+SUM(E7:E16),+SUM(E7:E18),"error sobran decimales"),0) -> 0 | F19: =+IF(COUNT(E7:E16)=0,0,IF(COUNT(E7:E16)<10,"hay partidas sin ofertar",IF(+E19*2=SUM(F7:F18),+SUM(F7:F18),"revisar partidas ofertadas"))) -> 0
A20: _ | B20: SERVICIO
A21: L01a_21 | B21: VARIABLE | C21: CORRECTIVO PROGRAMADO >500 € (3) | E21: =+IF(AND(E19=0,LEN(B27)=0),0,IF(AND(E19<>0,LEN(B27)=0),"¿precio hora?",+F27)) -> 0 | F21: =+IF(E19=0,0,IF(F19<>E19*2,"revisar partidas ofertadas",IF(E21="¿precio hora?","¿precio hora?",IF(ISNUMBER(+E21*2),+E21*2,F27)))) -> 0
A22: L01a_sv | C22: suma servicio variable | E22: =+IF(ISNUMBER(E21),IF(SUM(E20:E21)>E20,SUM(E20:E21),0),"error correct.(3)") -> 0 | F22: =+IF(E22="error correct.(3)",E22,IF(E19=0,0,IF(F19<>E19*2,"revisar partidas",IF(ISNUMBER(+E22*2),+E22*2,"error correct.(3)")))) -> 0
A23: L01a_TO | D23: TOTAL IMPORTE OFERTADO | E23: =+IF(ISNUMBER(+F19+F22),IF((+E19+E22)>VLOOKUP("L01a_TO",'VE MAXIMO'!$A$1:$E$220,5,FALSE),"total>V.E.Máximo",IF((+E19+E22)*2=(+F19+F22),+E19+E22,"ERROR PARTIDAS")),"ERROR OFERTA") -> 0 | F23: =+IF(OR(E23=0,E23="total>V.E.Máximo"),E23,IF(ISNUMBER(+F19+F22),IF((+E19+E22)*2=(+F19+F22),+F19+F22,"ERROR PARTIDAS"),"ERROR OFERTA")) -> 0
A24: . | B24: AA | C24: .
A25: L01a_Cd | B25: (3) Oferta Correctivo programado >500 €
A26: L01a_Cd | B26: Precio hora de mano de obra ofertado (a) | C26: Horas estimadas | D26: Total mano de obra ofertada | E26: Importe estimado Materiales | F26: Total oferta correctivo >500 €
A27: L01a_Ci | C27: 421 | D27: =+IF(AND(E19=0,LEN(B27)=0),0,IF(OR(B27<30,B27>37),"precio hora < 30,00 ó > 37,00",+ROUND(TRUNC(B27,2)*C27,2))) -> 0 | E27: 28383 | F27: =+IF(LEN(B27)=0,0,IF(TRUNC(B27,2)<>B27,"¿decimales m.o.?",IF(ISNUMBER(+D27+E27),+D27+E27,"revisar precio hora"))) -> 0
A28: L01a_Ci | B28: (a) Debe ser el mismo precio para todas las CCAA del lote 1. No será inferior a 30,00 € ni superior a 37,00 €
B29: =+IF(ISNUMBER(B27),IF(TRUNC(B27,2)<>B27,"ERROR: REVISAR DECIMALES PRECIO HORA M.O., MAXIMO 2",""),"")
B30: =+IF(AND(COUNT(E7:E18)>0,COUNT(E7:E18)<10),"Deben presupuestarse todas las partidas (10) de Servicio Fijo","") -> Deben presupuestarse todas las partidas (10) de Servicio Fijo
B31: =+IF(OR(AND(COUNT('AnxI 1a ANDAL'!E7:E18)>0,LEN('AnxI 1a ANDAL'!B27)=0),AND(COUNT('AnxI 1b EXTREM'!E7:E18)>0,LEN('AnxI 1a ANDAL'!B27)=0)),"(a) Falta importe hora mano de obra","") -> (a) Falta importe hora mano de obra
B32: Fdo.:

Sheet AnxI 1b EXTREM
A1: ESTA TABLA DESGLOSE PRECIO DE OFERTA SE PRESENTARA FIRMADA EN FORMATO PDF
B2: =+"S-"&MID('Anx I pg 1 oferta'!J7,18,5)&"-"&RIGHT('Anx I pg 1 oferta'!J7,4)&" "&'Anx I pg 1 oferta'!J5&'Anx I pg 1 oferta'!J6 -> S-06048-2024 “Servicio de mantenimiento integral en sedes de CRTVE 2026-2030"
B3: B. Desglose Precio
A5: L01b_00 | B5: LOTE | E5: 1 Anualidad | F5: Importe contrato 2 años
A6: L01b_00 | B6: 1 | C6: EXTREMADURA
A7: L01b_01 | C7: PREVENTIVO GENERAL+CONDUCTIVO | F7: =IF(ISNUMBER(E7),+E7*2,0) -> 0
A8: L01b_02 | C8: PREVENTIVO PROTECC. CONTRA INCENDIOS | F8: =IF(ISNUMBER(E8),+E8*2,0) -> 0
A9: L01b_03 | C9: PREVENTIVO LEGIONELLA | F9: =IF(ISNUMBER(E9),+E9*2,0) -> 0
A10: L01b_04 | B10: SERVICIO | C10: PREVENTIVO GRUPOS ELECTRÓGENOS | F10: =IF(ISNUMBER(E10),+E10*2,0) -> 0
A11: L01b_05 | B11: FIJO | C11: PREVENTIVO DESBROCES/PODA | F11: =IF(ISNUMBER(E11),+E11*2,0) -> 0
A12: L01b_06 | C12: PREVENTIVO APARATOS ELEVADORES Y LÍNEAS DE VIDA | F12: =IF(ISNUMBER(E12),+E12*2,0) -> 0
A13: L01b_07 | C13: PREVENTIVO PUERTAS Y BARRERAS | F13: =IF(ISNUMBER(E13),+E13*2,0) -> 0
A14: L01b_08 | C14: PREVENTIVO PARARRAYOS | F14: =IF(ISNUMBER(E14),+E14*2,0) -> 0
A15: L01b_09 | C15: MANTENIMIENTO TÉCNICO-LEGAL | F15: =IF(ISNUMBER(E15),+E15*2,0) -> 0
A16: L01b_10 | C16: TERMOGRAFÍAS | F16: =IF(ISNUMBER(E16),+E16*2,0) -> 0
A17: L01b_11 | C17: MANT. CORRECTIVO MATERIALES < 500 € (1) | E17: 15140 | F17: 30280
A18: L01b_12 | C18: PREVENTIVO, CORRECTIVO NO PROGRAMADO (2) | E18: 16800 | F18: =+IF(COUNT(E7:E18)=12,IF(SUM(F7:F17)=SUM(E7:E17)*2,+E18*2,"revisar partidas ofertadas"),) -> 0
A19: L01b_sf | C19: suma servicio fijo | E19: =+IF(COUNTIFS((E7:E16),">0")>0,+IF(SUMPRODUCT(TRUNC(E7:E16))=+SUM(E7:E16),+SUM(E7:E18),"error sobran decimales"),0) -> 0 | F19: =+IF(COUNT(E7:E16)=0,0,IF(COUNT(E7:E16)<10,"hay partidas sin ofertar",IF(+E19*2=SUM(F7:F18),+SUM(F7:F18),"revisar partidas ofertadas"))) -> 0
A20: _ | B20: SERVICIO
A21: L01b_21 | B21: VARIABLE | C21: CORRECTIVO PROGRAMADO >500 € (3) | E21: =+IF(AND(E19=0,LEN(B27)=0),0,IF(AND(E19<>0,LEN(B27)=0),"¿precio hora?",+F27)) -> 0 | F21: =+IF(E19=0,0,IF(F19<>E19*2,"revisar partidas ofertadas",IF(E21="¿precio hora?","¿precio hora?",IF(ISNUMBER(+E21*2),+E21*2,F27)))) -> 0
A22: L01b_sv | C22: suma servicio variable | E22: =+IF(ISNUMBER(E21),IF(SUM(E20:E21)>E20,SUM(E20:E21),0),"error correct.(3)") -> 0 | F22: =+IF(E22="error correct.(3)",E22,IF(E19=0,0,IF(F19<>E19*2,"revisar partidas",IF(ISNUMBER(+E22*2),+E22*2,"error correct.(3)")))) -> 0
A23: L01b_TO | D23: TOTAL IMPORTE OFERTADO | E23: =+IF(ISNUMBER(+F19+F22),IF((+E19+E22)>VLOOKUP("L01b_TO",'VE MAXIMO'!$A$1:$E$220,5,FALSE),"total>V.E.Máximo",IF((+E19+E22)*2=(+F19+F22),+E19+E22,"ERROR PARTIDAS")),"ERROR OFERTA") -> 0 | F23: =+IF(OR(E23=0,E23="total>V.E.Máximo"),E23,IF(ISNUMBER(+F19+F22),IF((+E19+E22)*2=(+F19+F22),+F19+F22,"ERROR PARTIDAS"),"ERROR OFERTA")) -> 0
A24: . | B24: AA | C24: .
A25: L01b_Cd | B25: (3) Oferta Correctivo programado >500 €
A26: L01b_Cd | B26: Precio hora de mano de obra ofertado (a) | C26: Horas estimadas | D26: Total mano de obra ofertada | E26: Importe estimado Materiales | F26: Total oferta correctivo >500 €
A27: L01b_Ci | B27: =+IF(LEN('AnxI 1a ANDAL'!B27)=0,"",IF(OR(SUM('AnxI 1a ANDAL'!E7:E16)>0,SUM('AnxI 1b EXTREM'!E7:E16)>0),IF(ISNUMBER('AnxI 1a ANDAL'!$B$27),'AnxI 1a ANDAL'!$B$27,"¿precio?"))) | C27: 109 | D27: =+IF(AND(E19=0,LEN(B27)=0),0,IF(OR(B27<30,B27>37),"precio hora < 30,00 ó > 37,00",+ROUND(TRUNC(B27,2)*C27,2))) -> 0 | E27: 9507 | F27: =+IF(LEN(B27)=0,0,IF(TRUNC(B27,2)<>B27,"¿decimales m.o.?",IF(ISNUMBER(+D27+E27),+D27+E27,"revisar precio hora"))) -> 0
B28: (a) Debe ser el mismo precio para todas las CCAA del lote 1. No será inferior a 30,00 € ni superior a 37,00 €
B29: =+IF(ISNUMBER(B27),IF(TRUNC(B27,2)<>B27,"ERROR: REVISAR DECIMALES PRECIO HORA M.O., MAXIMO 2",""),"")
B30: =+IF(AND(COUNT(E7:E18)>0,COUNT(E7:E18)<10),"Deben presupuestarse todas las partidas (10) de Servicio Fijo","") -> Deben presupuestarse todas las partidas (10) de Servicio Fijo
B31: =+IF(OR(AND(COUNT('AnxI 1a ANDAL'!E7:E18)>0,LEN('AnxI 1a ANDAL'!B27)=0),AND(COUNT('AnxI 1b EXTREM'!E7:E18)>0,LEN('AnxI 1a ANDAL'!B27)=0)),"Falta importe hora mano de obra en AnxI 1a ANDAL","") -> Falta importe hora mano de obra en AnxI 1a ANDAL
B32: Fdo.:

Sheet AnxI 2a ARAG
A1: ESTA TABLA DESGLOSE PRECIO DE OFERTA SE PRESENTARA FIRMADA EN FORMATO PDF
B2: =+"S-"&MID('Anx I pg 1 oferta'!J7,18,5)&"-"&RIGHT('Anx I pg 1 oferta'!J7,4)&" "&'Anx I pg 1 oferta'!J5&'Anx I pg 1 oferta'!J6 -> S-06048-2024 “Servicio de mantenimiento integral en sedes de CRTVE 2026-2030"
B3: B. Desglose Precio
A5: L02a_00 | B5: LOTE | E5: 1 Anualidad | F5: Importe contrato 2 años
A6: L02a_00 | B6: 2 | C6: ARAGÓN
A7: L02a_01 | C7: PREVENTIVO GENERAL+CONDUCTIVO | F7: =IF(ISNUMBER(E7),+E7*2,0) -> 0
A8: L02a_02 | C8: PREVENTIVO PROTECC. CONTRA INCENDIOS | F8: =IF(ISNUMBER(E8),+E8*2,0) -> 0
A9: L02a_03 | C9: PREVENTIVO LEGIONELLA | F9: =IF(ISNUMBER(E9),+E9*2,0) -> 0
A10: L02a_04 | B10: SERVICIO | C10: PREVENTIVO GRUPOS ELECTRÓGENOS | F10: =IF(ISNUMBER(E10),+E10*2,0) -> 0
A11: L02a_05 | B11: FIJO | C11: PREVENTIVO DESBROCES/PODA | F11: =IF(ISNUMBER(E11),+E11*2,0) -> 0
A12: L02a_06 | C12: PREVENTIVO APARATOS ELEVADORES Y LÍNEAS DE VIDA | F12: =IF(ISNUMBER(E12),+E12*2,0) -> 0
A13: L02a_07 | C13: PREVENTIVO PUERTAS Y BARRERAS
A14: L02a_08 | C14: PREVENTIVO PARARRAYOS
A15: L02a_09 | C15: MANTENIMIENTO TÉCNICO-LEGAL | F15: =IF(ISNUMBER(E15),+E15*2,0) -> 0
A16: L02a_10 | C16: TERMOGRAFÍAS | F16: =IF(ISNUMBER(E16),+E16*2,0) -> 0
A17: L02a_11 | C17: MANT. CORRECTIVO MATERIALES < 500 € (1) | E17: 12400 | F17: 24800
A18: L02a_12 | C18: PREVENTIVO, CORRECTIVO NO PROGRAMADO (2) | E18: 12570 | F18: =+IF(COUNT(E7:E18)=10,IF(SUM(F7:F17)=SUM(E7:E17)*2,+E18*2,"revisar partidas ofertadas"),) -> 0
A19: L02a_sf | C19: suma servicio fijo | E19: =+IF(COUNTIFS((E7:E16),">0")>0,+IF(SUMPRODUCT(TRUNC(E7:E16))=+SUM(E7:E16),+SUM(E7:E18),"error sobran decimales"),0) -> 0 | F19: =+IF(COUNT(E7:E16)=0,0,IF(COUNT(E7:E16)<8,"hay partidas sin ofertar",IF(+E19*2=SUM(F7:F18),+SUM(F7:F18),"revisar partidas ofertadas"))) -> 0
A20: _ | B20: SERVICIO
A21: L02a_21 | B21: VARIABLE | C21: CORRECTIVO PROGRAMADO >500 € (3) | E21: =+IF(AND(E19=0,LEN(B27)=0),0,IF(AND(E19<>0,LEN(B27)=0),"¿precio hora?",+F27)) -> 0 | F21: =+IF(E19=0,0,IF(F19<>E19*2,"revisar partidas ofertadas",IF(E21="¿precio hora?","¿precio hora?",IF(ISNUMBER(+E21*2),+E21*2,F27)))) -> 0
A22: L02a_sv | C22: suma servicio variable | E22: =+IF(ISNUMBER(E21),IF(SUM(E20:E21)>E20,SUM(E20:E21),0),"error correct.(3)") -> 0 | F22: =+IF(E22="error correct.(3)",E22,IF(E19=0,0,IF(F19<>E19*2,"revisar partidas",IF(ISNUMBER(+E22*2),+E22*2,"error correct.(3)")))) -> 0
A23: L02a_TO | D23: TOTAL IMPORTE OFERTADO | E23: =+IF(ISNUMBER(+F19+F22),IF((+E19+E22)>VLOOKUP("L02a_TO",'VE MAXIMO'!$A$1:$E$220,5,FALSE),"total>V.E.Máximo",IF((+E19+E22)*2=(+F19+F22),+E19+E22,"ERROR PARTIDAS")),"ERROR OFERTA") -> 0 | F23: =+IF(OR(E23=0,E23="total>V.E.Máximo"),E23,IF(ISNUMBER(+F19+F22),IF((+E19+E22)*2=(+F19+F22),+F19+F22,"ERROR PARTIDAS"),"ERROR OFERTA")) -> 0
A24: . | B24: AA | C24: .
A25: L02a_Cd | B25: (3) Oferta Correctivo programado >500 €
A26: L02a_Cd | B26: Precio hora de mano de obra ofertado (a) | C26: Horas estimadas | D26: Total mano de obra ofertada | E26: Importe estimado Materiales | F26: Total oferta correctivo >500 €
A27: L02a_Ci | C27: 153 | D27: =+IF(AND(E19=0,LEN(B27)=0),0,IF(OR(B27<30,B27>37),"precio hora < 30,00 ó > 37,00",+ROUND(TRUNC(B27,2)*C27,2))) -> 0 | E27: 12179 | F27: =+IF(LEN(B27)=0,0,IF(TRUNC(B27,2)<>B27,"¿decimales m.o.?",IF(ISNUMBER(+D27+E27),+D27+E27,"revisar precio hora"))) -> 0
B28: (a) Debe ser el mismo precio para todas las CCAA del lote 2. No será inferior a 30,00 € ni superior a 37,00 €
B29: =+IF(ISNUMBER(B27),IF(TRUNC(B27,2)<>B27,"ERROR: REVISAR DECIMALES PRECIO HORA M.O., MAXIMO 2",""),"")
B30: =+IF(AND(COUNT(E7:E18)>0,COUNT(E7:E18)<8),"Deben presupuestarse todas las partidas (8) de Servicio Fijo","") -> Deben presupuestarse todas las partidas (8) de Servicio Fijo
B31: =+IF(OR(AND(COUNT('AnxI 2a ARAG'!E7:E18)>0,LEN('AnxI 2a ARAG'!B27)=0),AND(COUNT('AnxI 2b RIOJA'!E7:E18)>0,LEN('AnxI 2a ARAG'!B27)=0)),"(a) Falta importe hora mano de obra","") -> (a) Falta importe hora mano de obra
B32: Fdo.:

Sheet AnxI 2b RIOJA
A1: ESTA TABLA DESGLOSE PRECIO DE OFERTA SE PRESENTARA FIRMADA EN FORMATO PDF
B2: =+"S-"&MID('Anx I pg 1 oferta'!J7,18,5)&"-"&RIGHT('Anx I pg 1 oferta'!J7,4)&" "&'Anx I pg 1 oferta'!J5&'Anx I pg 1 oferta'!J6 -> S-06048-2024 “Servicio de mantenimiento integral en sedes de CRTVE 2026-2030"
B3: B. Desglose Precio
A5: L02b_00 | B5: LOTE | E5: 1 Anualidad | F5: Importe contrato 2 años
A6: L02b_00 | B6: 2 | C6: LA RIOJA
A7: L02b_01 | C7: PREVENTIVO GENERAL+CONDUCTIVO | F7: =IF(ISNUMBER(E7),+E7*2,0) -> 0
A8: L02b_02 | C8: PREVENTIVO PROTECC. CONTRA INCENDIOS | F8: =IF(ISNUMBER(E8),+E8*2,0) -> 0
A9: L02b_03 | C9: PREVENTIVO LEGIONELLA | F9: =IF(ISNUMBER(E9),+E9*2,0) -> 0
A10: L02b_04 | B10: SERVICIO | C10: PREVENTIVO GRUPOS ELECTRÓGENOS | F10: =IF(ISNUMBER(E10),+E10*2,0) -> 0
A11: L02b_05 | B11: FIJO | C11: PREVENTIVO DESBROCES/PODA | F11: =IF(ISNUMBER(E11),+E11*2,0) -> 0
A12: L02b_06 | C12: PREVENTIVO APARATOS ELEVADORES Y LÍNEAS DE VIDA | F12: =IF(ISNUMBER(E12),+E12*2,0) -> 0
A13: L02b_07 | C13: PREVENTIVO PUERTAS Y BARRERAS | F13: =IF(ISNUMBER(E13),+E13*2,0) -> 0
A14: L02b_08 | C14: PREVENTIVO PARARRAYOS | F14: =IF(ISNUMBER(E14),+E14*2,0) -> 0
A15: L02b_09 | C15: MANTENIMIENTO TÉCNICO-LEGAL | F15: =IF(ISNUMBER(E15),+E15*2,0) -> 0
A16: L02b_10 | C16: TERMOGRAFÍAS | F16: =IF(ISNUMBER(E16),+E16*2,0) -> 0
A17: L02b_11 | C17: MANT. CORRECTIVO MATERIALES < 500 € (1) | E17: 13760 | F17: 27520
A18: L02b_12 | C18: PREVENTIVO, CORRECTIVO NO PROGRAMADO (2) | E18: 14430 | F18: =+IF(COUNT(E7:E18)=12,IF(SUM(F7:F17)=SUM(E7:E17)*2,+E18*2,"revisar partidas ofertadas"),) -> 0
A19: L02b_sf | C19: suma servicio fijo | E19: =+IF(COUNTIFS((E7:E16),">0")>0,+IF(SUMPRODUCT(TRUNC(E7:E16))=+SUM(E7:E16),+SUM(E7:E18),"error sobran decimales"),0) -> 0 | F19: =+IF(COUNT(E7:E16)=0,0,IF(COUNT(E7:E16)<10,"hay partidas sin ofertar",IF(+E19*2=SUM(F7:F18),+SUM(F7:F18),"revisar partidas ofertadas"))) -> 0
A20: _ | B20: SERVICIO
A21: L02b_21 | B21: VARIABLE | C21: CORRECTIVO PROGRAMADO >500 € (3) | E21: =+IF(AND(E19=0,LEN(B27)=0),0,IF(AND(E19<>0,LEN(B27)=0),"¿precio hora?",+F27)) -> 0 | F21: =+IF(E19=0,0,IF(F19<>E19*2,"revisar partidas ofertadas",IF(E21="¿precio hora?","¿precio hora?",IF(ISNUMBER(+E21*2),+E21*2,F27)))) -> 0
A22: L02b_sv | C22: suma servicio variable | E22: =+IF(ISNUMBER(E21),IF(SUM(E20:E21)>E20,SUM(E20:E21),0),"error correct.(3)") -> 0 | F22: =+IF(E22="error correct.(3)",E22,IF(E19=0,0,IF(F19<>E19*2,"revisar partidas",IF(ISNUMBER(+E22*2),+E22*2,"error correct.(3)")))) -> 0
A23: L02b_TO | D23: TOTAL IMPORTE OFERTADO | E23: =+IF(ISNUMBER(+F19+F22),IF((+E19+E22)>VLOOKUP("L02b_TO",'VE MAXIMO'!$A$1:$E$220,5,FALSE),"total>V.E.Máximo",IF((+E19+E22)*2=(+F19+F22),+E19+E22,"ERROR PARTIDAS")),"ERROR OFERTA") -> 0 | F23: =+IF(OR(E23=0,E23="total>V.E.Máximo"),E23,IF(ISNUMBER(+F19+F22),IF((+E19+E22)*2=(+F19+F22),+F19+F22,"ERROR PARTIDAS"),"ERROR OFERTA")) -> 0
A24: . | B24: AA | C24: .
A25: L02b_Cd | B25: (3) Oferta Correctivo programado >500 €
A26: L02b_Cd | B26: Precio hora de mano de obra ofertado (a) | C26: Horas estimadas | D26: Total mano de obra ofertada | E26: Importe estimado Materiales | F26: Total oferta correctivo >500 €
A27: L02b_Ci | B27: =+IF(LEN('AnxI 2a ARAG'!B27)=0,"",IF(OR(SUM('AnxI 2a ARAG'!E7:E16)>0,SUM('AnxI 2b RIOJA'!E7:E16)>0),IF(ISNUMBER('AnxI 2a ARAG'!$B$27),'AnxI 2a ARAG'!$B$27,"¿precio?"))) | C27: 103 | D27: =+IF(AND(E19=0,LEN(B27)=0),0,IF(OR(B27<30,B27>37),"precio hora < 30,00 ó > 37,00",+ROUND(TRUNC(B27,2)*C27,2))) -> 0 | E27: 9149 | F27: =+IF(LEN(B27)=0,0,IF(TRUNC(B27,2)<>B27,"¿decimales m.o.?",IF(ISNUMBER(+D27+E27),+D27+E27,"revisar precio hora"))) -> 0
B28: (a) Debe ser el mismo precio para todas las CCAA del lote 2. No será inferior a 30,00 € ni superior a 37,00 €
B29: =+IF(ISNUMBER(B27),IF(TRUNC(B27,2)<>B27,"ERROR: REVISAR DECIMALES PRECIO HORA M.O., MAXIMO 2",""),"")
B30: =+IF(AND(COUNT(E7:E18)>0,COUNT(E7:E18)<10),"Deben presupuestarse todas las partidas (10) de Servicio Fijo","") -> Deben presupuestarse todas las partidas (10) de Servicio Fijo
B31: =+IF(OR(AND(COUNT('AnxI 2a ARAG'!E7:E18)>0,LEN('AnxI 2a ARAG'!B27)=0),AND(COUNT('AnxI 2b RIOJA'!E7:E18)>0,LEN('AnxI 2a ARAG'!B27)=0)),"Falta importe hora mano de obra en AnxI 2a ARAG","") -> Falta importe hora mano de obra en AnxI 2a ARAG
B32: Fdo.:

Sheet AnxI 3a ASTUR
A1: ESTA TABLA DESGLOSE PRECIO DE OFERTA SE PRESENTARA FIRMADA EN FORMATO PDF
B2: =+"S-"&MID('Anx I pg 1 oferta'!J7,18,5)&"-"&RIGHT('Anx I pg 1 oferta'!J7,4)&" "&'Anx I pg 1 oferta'!J5&'Anx I pg 1 oferta'!J6 -> S-06048-2024 “Servicio de mantenimiento integral en sedes de CRTVE 2026-2030"
B3: B. Desglose Precio
A5: L03a_00 | B5: LOTE | E5: 1 Anualidad | F5: Importe contrato 2 años
A6: L03a_00 | B6: 3 | C6: ASTURIAS
A7: L03a_01 | C7: PREVENTIVO GENERAL+CONDUCTIVO | F7: =IF(ISNUMBER(E7),+E7*2,0) -> 0
A8: L03a_02 | C8: PREVENTIVO PROTECC. CONTRA INCENDIOS | F8: =IF(ISNUMBER(E8),+E8*2,0) -> 0
A9: L03a_03 | C9: PREVENTIVO LEGIONELLA | F9: =IF(ISNUMBER(E9),+E9*2,0) -> 0
A10: L03a_04 | B10: SERVICIO | C10: PREVENTIVO GRUPOS ELECTRÓGENOS | F10: =IF(ISNUMBER(E10),+E10*2,0) -> 0
A11: L03a_05 | B11: FIJO | C11: PREVENTIVO DESBROCES/PODA | F11: =IF(ISNUMBER(E11),+E11*2,0) -> 0
A12: L03a_06 | C12: PREVENTIVO APARATOS ELEVADORES Y LÍNEAS DE VIDA | F12: =IF(ISNUMBER(E12),+E12*2,0) -> 0
A13: L03a_07 | C13: PREVENTIVO PUERTAS Y BARRERAS | F13: =IF(ISNUMBER(E13),+E13*2,0) -> 0
A14: L03a_08 | C14: PREVENTIVO PARARRAYOS | F14: =IF(ISNUMBER(E14),+E14*2,0) -> 0
A15: L03a_09 | C15: MANTENIMIENTO TÉCNICO-LEGAL | F15: =IF(ISNUMBER(E15),+E15*2,0) -> 0
A16: L03a_10 | C16: TERMOGRAFÍAS | F16: =IF(ISNUMBER(E16),+E16*2,0) -> 0
A17: L03a_11 | C17: MANT. CORRECTIVO MATERIALES < 500 € (1) | E17: 17290 | F17: 34580
A18: L03a_12 | C18: PREVENTIVO, CORRECTIVO NO PROGRAMADO (2) | E18: 17890 | F18: =+IF(COUNT(E7:E18)=12,IF(SUM(F7:F17)=SUM(E7:E17)*2,+E18*2,"revisar partidas ofertadas"),) -> 0
A19: L03a_sf | C19: suma servicio fijo | E19: =+IF(COUNTIFS((E7:E16),">0")>0,+IF(SUMPRODUCT(TRUNC(E7:E16))=+SUM(E7:E16),+SUM(E7:E18),"error sobran decimales"),0) -> 0 | F19: =+IF(COUNT(E7:E16)=0,0,IF(COUNT(E7:E16)<10,"hay partidas sin ofertar",IF(+E19*2=SUM(F7:F18),+SUM(F7:F18),"revisar partidas ofertadas"))) -> 0
A20: _ | B20: SERVICIO
A21: L03a_21 | B21: VARIABLE | C21: CORRECTIVO PROGRAMADO >500 € (3) | E21: =+IF(AND(E19=0,LEN(B27)=0),0,IF(AND(E19<>0,LEN(B27)=0),"¿precio hora?",+F27)) -> 0 | F21: =+IF(E19=0,0,IF(F19<>E19*2,"revisar partidas ofertadas",IF(E21="¿precio hora?","¿precio hora?",IF(ISNUMBER(+E21*2),+E21*2,F27)))) -> 0
A22: L03a_sv | C22: suma servicio variable | E22: =+IF(ISNUMBER(E21),IF(SUM(E20:E21)>E20,SUM(E20:E21),0),"error correct.(3)") -> 0 | F22: =+IF(E22="error correct.(3)",E22,IF(E19=0,0,IF(F19<>E19*2,"revisar partidas",IF(ISNUMBER(+E22*2),+E22*2,"error correct.(3)")))) -> 0
A23: L03a_TO | D23: TOTAL IMPORTE OFERTADO | E23: =+IF(ISNUMBER(+F19+F22),IF((+E19+E22)>VLOOKUP("L03a_TO",'VE MAXIMO'!$A$1:$E$220,5,FALSE),"total>V.E.Máximo",IF((+E19+E22)*2=(+F19+F22),+E19+E22,"ERROR PARTIDAS")),"ERROR OFERTA") -> 0 | F23: =+IF(OR(E23=0,E23="total>V.E.Máximo"),E23,IF(ISNUMBER(+F19+F22),IF((+E19+E22)*2=(+F19+F22),+F19+F22,"ERROR PARTIDAS"),"ERROR OFERTA")) -> 0
A24: . | B24: AA | C24: .
A25: L03a_Cd | B25: (3) Oferta Correctivo programado >500 €
A26: L03a_Cd | B26: Precio hora de mano de obra ofertado (a) | C26: Horas estimadas | D26: Total mano de obra ofertada | E26: Importe estimado Materiales | F26: Total oferta correctivo >500 €
A27: L03a_Ci | C27: 118 | D27: =+IF(AND(E19=0,LEN(B27)=0),0,IF(OR(B27<30,B27>37),"precio hora < 30,00 ó > 37,00",+ROUND(TRUNC(B27,2)*C27,2))) -> 0 | E27: 10004 | F27: =+IF(LEN(B27)=0,0,IF(TRUNC(B27,2)<>B27,"¿decimales m.o.?",IF(ISNUMBER(+D27+E27),+D27+E27,"revisar precio hora"))) -> 0
B28: (a) Debe ser el mismo precio para todas las CCAA del lote 3. No será inferior a 30,00 € ni superior a 37,00 €
B29: =+IF(ISNUMBER(B27),IF(TRUNC(B27,2)<>B27,"ERROR: REVISAR DECIMALES PRECIO HORA M.O., MAXIMO 2",""),"")
B30: =+IF(AND(COUNT(E7:E18)>0,COUNT(E7:E18)<10),"Deben presupuestarse todas las partidas (10) de Servicio Fijo","") -> Deben presupuestarse todas las partidas (10) de Servicio Fijo
B31: =+IF(OR(AND(COUNT('AnxI 3a ASTUR'!E7:E18)>0,LEN('AnxI 3a ASTUR'!B27)=0),AND(COUNT('AnxI 3b CANTAB'!E7:E18)>0,LEN('AnxI 3a ASTUR'!B27)=0)),"(a) Falta importe hora mano de obra","") -> (a) Falta importe hora mano de obra
B32: Fdo.:

Sheet AnxI 3b CANTAB
A1: ESTA TABLA DESGLOSE PRECIO DE OFERTA SE PRESENTARA FIRMADA EN FORMATO PDF
B2: =+"S-"&MID('Anx I pg 1 oferta'!J7,18,5)&"-"&RIGHT('Anx I pg 1 oferta'!J7,4)&" "&'Anx I pg 1 oferta'!J5&'Anx I pg 1 oferta'!J6 -> S-06048-2024 “Servicio de mantenimiento integral en sedes de CRTVE 2026-2030"
B3: B. Desglose Precio
A5: L03b_00 | B5: LOTE | E5: 1 Anualidad | F5: Importe contrato 2 años
A6: L03b_00 | B6: 3 | C6: CANTABRIA
A7: L03b_01 | C7: PREVENTIVO GENERAL+CONDUCTIVO | F7: =IF(ISNUMBER(E7),+E7*2,0) -> 0
A8: L03b_02 | C8: PREVENTIVO PROTECC. CONTRA INCENDIOS | F8: =IF(ISNUMBER(E8),+E8*2,0) -> 0
A9: L03b_03 | C9: PREVENTIVO LEGIONELLA | F9: =IF(ISNUMBER(E9),+E9*2,0) -> 0
A10: L03b_04 | B10: SERVICIO | C10: PREVENTIVO GRUPOS ELECTRÓGENOS | F10: =IF(ISNUMBER(E10),+E10*2,0) -> 0
A11: L03b_05 | B11: FIJO | C11: PREVENTIVO DESBROCES/PODA | F11: =IF(ISNUMBER(E11),+E11*2,0) -> 0
A12: L03b_06 | C12: PREVENTIVO APARATOS ELEVADORES Y LÍNEAS DE VIDA | F12: =IF(ISNUMBER(E12),+E12*2,0) -> 0
A13: L03b_07 | C13: PREVENTIVO PUERTAS Y BARRERAS | F13: =IF(ISNUMBER(E13),+E13*2,0) -> 0
A14: L03b_08 | C14: PREVENTIVO PARARRAYOS | F14: =IF(ISNUMBER(E14),+E14*2,0) -> 0
A15: L03b_09 | C15: MANTENIMIENTO TÉCNICO-LEGAL | F15: =IF(ISNUMBER(E15),+E15*2,0) -> 0
A16: L03b_10 | C16: TERMOGRAFÍAS | F16: =IF(ISNUMBER(E16),+E16*2,0) -> 0
A17: L03b_11 | C17: MANT. CORRECTIVO MATERIALES < 500 € (1) | E17: 15740 | F17: 31480
A18: L03b_12 | C18: PREVENTIVO, CORRECTIVO NO PROGRAMADO (2) | E18: 13800 | F18: =+IF(COUNT(E7:E18)=12,IF(SUM(F7:F17)=SUM(E7:E17)*2,+E18*2,"revisar partidas ofertadas"),) -> 0
A19: L03b_sf | C19: suma servicio fijo | E19: =+IF(COUNTIFS((E7:E16),">0")>0,+IF(SUMPRODUCT(TRUNC(E7:E16))=+SUM(E7:E16),+SUM(E7:E18),"error sobran decimales"),0) -> 0 | F19: =+IF(COUNT(E7:E16)=0,0,IF(COUNT(E7:E16)<10,"hay partidas sin ofertar",IF(+E19*2=SUM(F7:F18),+SUM(F7:F18),"revisar partidas ofertadas"))) -> 0
A20: _ | B20: SERVICIO
A21: L03b_21 | B21: VARIABLE | C21: CORRECTIVO PROGRAMADO >500 € (3) | E21: =+IF(AND(E19=0,LEN(B27)=0),0,IF(AND(E19<>0,LEN(B27)=0),"¿precio hora?",+F27)) -> 0 | F21: =+IF(E19=0,0,IF(F19<>E19*2,"revisar partidas ofertadas",IF(E21="¿precio hora?","¿precio hora?",IF(ISNUMBER(+E21*2),+E21*2,F27)))) -> 0
A22: L03b_sv | C22: suma servicio variable | E22: =+IF(ISNUMBER(E21),IF(SUM(E20:E21)>E20,SUM(E20:E21),0),"error correct.(3)") -> 0 | F22: =+IF(E22="error correct.(3)",E22,IF(E19=0,0,IF(F19<>E19*2,"revisar partidas",IF(ISNUMBER(+E22*2),+E22*2,"error correct.(3)")))) -> 0
A23: L03b_TO | D23: TOTAL IMPORTE OFERTADO | E23: =+IF(ISNUMBER(+F19+F22),IF((+E19+E22)>VLOOKUP("L03b_TO",'VE MAXIMO'!$A$1:$E$220,5,FALSE),"total>V.E.Máximo",IF((+E19+E22)*2=(+F19+F22),+E19+E22,"ERROR PARTIDAS")),"ERROR OFERTA") -> 0 | F23: =+IF(OR(E23=0,E23="total>V.E.Máximo"),E23,IF(ISNUMBER(+F19+F22),IF((+E19+E22)*2=(+F19+F22),+F19+F22,"ERROR PARTIDAS"),"ERROR OFERTA")) -> 0
A24: . | B24: AA | C24: .
A25: L03b_Cd | B25: (3) Oferta Correctivo programado >500 €
A26: L03b_Cd | B26: Precio hora de mano de obra ofertado (a) | C26: Horas estimadas | D26: Total mano de obra ofertada | E26: Importe estimado Materiales | F26: Total oferta correctivo >500 €
A27: L03b_Ci | B27: =+IF(LEN('AnxI 3a ASTUR'!B27)=0,"",IF(OR(SUM('AnxI 3a ASTUR'!E7:E16)>0,SUM('AnxI 3b CANTAB'!E7:E16)>0),IF(ISNUMBER('AnxI 3a ASTUR'!$B$27),'AnxI 3a ASTUR'!$B$27,"¿precio?"))) | C27: 97 | D27: =+IF(AND(E19=0,LEN(B27)=0),0,IF(OR(B27<30,B27>37),"precio hora < 30,00 ó > 37,00",+ROUND(TRUNC(B27,2)*C27,2))) -> 0 | E27: 8811 | F27: =+IF(LEN(B27)=0,0,IF(TRUNC(B27,2)<>B27,"¿decimales m.o.?",IF(ISNUMBER(+D27+E27),+D27+E27,"revisar precio hora"))) -> 0
B28: (a) Debe ser el mismo precio para todas las CCAA del lote 3. No será inferior a 30,00 € ni superior a 37,00 €
B29: =+IF(ISNUMBER(B27),IF(TRUNC(B27,2)<>B27,"ERROR: REVISAR DECIMALES PRECIO HORA M.O., MAXIMO 2",""),"")
B30: =+IF(AND(COUNT(E7:E18)>0,COUNT(E7:E18)<10),"Deben presupuestarse todas las partidas (10) de Servicio Fijo","") -> Deben presupuestarse todas las partidas (10) de Servicio Fijo
B31: =+IF(OR(AND(COUNT('AnxI 3a ASTUR'!E7:E18)>0,LEN('AnxI 3a ASTUR'!B27)=0),AND(COUNT('AnxI 3b CANTAB'!E7:E18)>0,LEN('AnxI 3a ASTUR'!B27)=0)),"Falta importe hora mano de obra en AnxI 3a ASTUR","") -> Falta importe hora mano de obra en AnxI 3a ASTUR
B32: Fdo.:

Sheet AnxI 4a BALEAR
A1: ESTA TABLA DESGLOSE PRECIO DE OFERTA SE PRESENTARA FIRMADA EN FORMATO PDF
B2: =+"S-"&MID('Anx I pg 1 oferta'!J7,18,5)&"-"&RIGHT('Anx I pg 1 oferta'!J7,4)&" "&'Anx I pg 1 oferta'!J5&'Anx I pg 1 oferta'!J6 -> S-06048-2024 “Servicio de mantenimiento integral en sedes de CRTVE 2026-2030"
B3: B. Desglose Precio
A5: L04a_00 | B5: LOTE | E5: 1 Anualidad | F5: Importe contrato 2 años
A6: L04a_00 | B6: 4 | C6: BALEARES
A7: L04a_01 | C7: PREVENTIVO GENERAL+CONDUCTIVO | F7: =IF(ISNUMBER(E7),+E7*2,0) -> 0
A8: L04a_02 | C8: PREVENTIVO PROTECC. CONTRA INCENDIOS | F8: =IF(ISNUMBER(E8),+E8*2,0) -> 0
A9: L04a_03 | C9: PREVENTIVO LEGIONELLA | F9: =IF(ISNUMBER(E9),+E9*2,0) -> 0
A10: L04a_04 | B10: SERVICIO | C10: PREVENTIVO GRUPOS ELECTRÓGENOS | F10: =IF(ISNUMBER(E10),+E10*2,0) -> 0
A11: L04a_05 | B11: FIJO | C11: PREVENTIVO DESBROCES/PODA | F11: =IF(ISNUMBER(E11),+E11*2,0) -> 0
A12: L04a_06 | C12: PREVENTIVO APARATOS ELEVADORES Y LÍNEAS DE VIDA
A13: L04a_07 | C13: PREVENTIVO PUERTAS Y BARRERAS
A14: L04a_08 | C14: PREVENTIVO PARARRAYOS
A15: L04a_09 | C15: MANTENIMIENTO TÉCNICO-LEGAL | F15: =IF(ISNUMBER(E15),+E15*2,0) -> 0
A16: L04a_10 | C16: TERMOGRAFÍAS | F16: =IF(ISNUMBER(E16),+E16*2,0) -> 0
A17: L04a_11 | C17: MANT. CORRECTIVO MATERIALES < 500 € (1) | E17: 12660 | F17: 25320
A18: L04a_12 | C18: PREVENTIVO, CORRECTIVO NO PROGRAMADO (2) | E18: 11780 | F18: =+IF(COUNT(E7:E18)=9,IF(SUM(F7:F17)=SUM(E7:E17)*2,+E18*2,"revisar partidas ofertadas"),) -> 0
A19: L04a_sf | C19: suma servicio fijo | E19: =+IF(COUNTIFS((E7:E16),">0")>0,+IF(SUMPRODUCT(TRUNC(E7:E16))=+SUM(E7:E16),+SUM(E7:E18),"error sobran decimales"),0) -> 0 | F19: =+IF(COUNT(E7:E16)=0,0,IF(COUNT(E7:E16)<7,"hay partidas sin ofertar",IF(+E19*2=SUM(F7:F18),+SUM(F7:F18),"revisar partidas ofertadas"))) -> 0
A20: _ | B20: SERVICIO
A21: L04a_21 | B21: VARIABLE | C21: CORRECTIVO PROGRAMADO >500 € (3) | E21: =+IF(AND(E19=0,LEN(B27)=0),0,IF(AND(E19<>0,LEN(B27)=0),"¿precio hora?",+F27)) -> 0 | F21: =+IF(E19=0,0,IF(F19<>E19*2,"revisar partidas ofertadas",IF(E21="¿precio hora?","¿precio hora?",IF(ISNUMBER(+E21*2),+E21*2,F27)))) -> 0
A22: L04a_sv | C22: suma servicio variable | E22: =+IF(ISNUMBER(E21),IF(SUM(E20:E21)>E20,SUM(E20:E21),0),"error correct.(3)") -> 0 | F22: =+IF(E22="error correct.(3)",E22,IF(E19=0,0,IF(F19<>E19*2,"revisar partidas",IF(ISNUMBER(+E22*2),+E22*2,"error correct.(3)")))) -> 0
A23: L04a_TO | D23: TOTAL IMPORTE OFERTADO | E23: =+IF(ISNUMBER(+F19+F22),IF((+E19+E22)>VLOOKUP("L04a_TO",'VE MAXIMO'!$A$1:$E$220,5,FALSE),"total>V.E.Máximo",IF((+E19+E22)*2=(+F19+F22),+E19+E22,"ERROR PARTIDAS")),"ERROR OFERTA") -> 0 | F23: =+IF(OR(E23=0,E23="total>V.E.Máximo"),E23,IF(ISNUMBER(+F19+F22),IF((+E19+E22)*2=(+F19+F22),+F19+F22,"ERROR PARTIDAS"),"ERROR OFERTA")) -> 0
A24: . | B24: AA | C24: .
A25: L04a_Cd | B25: (3) Oferta Correctivo programado >500 €
A26: L04a_Cd | B26: Precio hora de mano de obra ofertado (a) | C26: Horas estimadas | D26: Total mano de obra ofertada | E26: Importe estimado Materiales | F26: Total oferta correctivo >500 €
A27: L04a_Ci | C27: 88 | D27: =+IF(AND(E19=0,LEN(B27)=0),0,IF(OR(B27<30,B27>37),"precio hora < 30,00 ó > 37,00",+ROUND(TRUNC(B27,2)*C27,2))) -> 0 | E27: 8244 | F27: =+IF(LEN(B27)=0,0,IF(TRUNC(B27,2)<>B27,"¿decimales m.o.?",IF(ISNUMBER(+D27+E27),+D27+E27,"revisar precio hora"))) -> 0
B28: (a) Debe ser el mismo precio para todas las CCAA del lote 4. No será inferior a 30,00 € ni superior a 37,00 €
B29: =+IF(ISNUMBER(B27),IF(TRUNC(B27,2)<>B27,"ERROR: REVISAR DECIMALES PRECIO HORA M.O., MAXIMO 2",""),"")
B30: =+IF(AND(COUNT(E7:E18)>0,COUNT(E7:E18)<7),"Deben presupuestarse todas las partidas (7) de Servicio Fijo","") -> Deben presupuestarse todas las partidas (7) de Servicio Fijo
B31: =+IF(OR(AND(COUNT('AnxI 4a BALEAR'!E7:E18)>0,LEN('AnxI 4a BALEAR'!B27)=0),AND(COUNT('AnxI 4b MURC'!E7:E18)>0,LEN('AnxI 4a BALEAR'!B27)=0),AND(COUNT('AnxI 4c VALENC'!E7:E18)>0,LEN('AnxI 4a BALEAR'!B27)=0)),"(a) Falta importe hora mano de obra","") -> (a) Falta importe hora mano de obra
B32: Fdo.:

Sheet AnxI 4b MURC
A1: ESTA TABLA DESGLOSE PRECIO DE OFERTA SE PRESENTARA FIRMADA EN FORMATO PDF
B2: =+"S-"&MID('Anx I pg 1 oferta'!J7,18,5)&"-"&RIGHT('Anx I pg 1 oferta'!J7,4)&" "&'Anx I pg 1 oferta'!J5&'Anx I pg 1 oferta'!J6 -> S-06048-2024 “Servicio de mantenimiento integral en sedes de CRTVE 2026-2030"
B3: B. Desglose Precio
A5: L04b_00 | B5: LOTE | E5: 1 Anualidad | F5: Importe contrato 2 años
A6: L04b_00 | B6: 4 | C6: MURCIA
A7: L04b_01 | C7: PREVENTIVO GENERAL+CONDUCTIVO | F7: =IF(ISNUMBER(E7),+E7*2,0) -> 0
A8: L04b_02 | C8: PREVENTIVO PROTECC. CONTRA INCENDIOS | F8: =IF(ISNUMBER(E8),+E8*2,0) -> 0
A9: L04b_03 | C9: PREVENTIVO LEGIONELLA | F9: =IF(ISNUMBER(E9),+E9*2,0) -> 0
A10: L04b_04 | B10: SERVICIO | C10: PREVENTIVO GRUPOS ELECTRÓGENOS | F10: =IF(ISNUMBER(E10),+E10*2,0) -> 0
A11: L04b_05 | B11: FIJO | C11: PREVENTIVO DESBROCES/PODA | F11: =IF(ISNUMBER(E11),+E11*2,0) -> 0
A12: L04b_06 | C12: PREVENTIVO APARATOS ELEVADORES Y LÍNEAS DE VIDA | F12: =IF(ISNUMBER(E12),+E12*2,0) -> 0
A13: L04b_07 | C13: PREVENTIVO PUERTAS Y BARRERAS | F13: =IF(ISNUMBER(E13),+E13*2,0) -> 0
A14: L04b_08 | C14: PREVENTIVO PARARRAYOS | F14: =IF(ISNUMBER(E14),+E14*2,0) -> 0
A15: L04b_09 | C15: MANTENIMIENTO TÉCNICO-LEGAL | F15: =IF(ISNUMBER(E15),+E15*2,0) -> 0
A16: L04b_10 | C16: TERMOGRAFÍAS | F16: =IF(ISNUMBER(E16),+E16*2,0) -> 0
A17: L04b_11 | C17: MANT. CORRECTIVO MATERIALES < 500 € (1) | E17: 19550 | F17: 39100
A18: L04b_12 | C18: PREVENTIVO, CORRECTIVO NO PROGRAMADO (2) | E18: 21650 | F18: =+IF(COUNT(E7:E18)=12,IF(SUM(F7:F17)=SUM(E7:E17)*2,+E18*2,"revisar partidas ofertadas"),) -> 0
A19: L04b_sf | C19: suma servicio fijo | E19: =+IF(COUNTIFS((E7:E16),">0")>0,+IF(SUMPRODUCT(TRUNC(E7:E16))=+SUM(E7:E16),+SUM(E7:E18),"error sobran decimales"),0) -> 0 | F19: =+IF(COUNT(E7:E16)=0,0,IF(COUNT(E7:E16)<10,"hay partidas sin ofertar",IF(+E19*2=SUM(F7:F18),+SUM(F7:F18),"revisar partidas ofertadas"))) -> 0
A20: _ | B20: SERVICIO
A21: L04b_21 | B21: VARIABLE | C21: CORRECTIVO PROGRAMADO >500 € (3) | E21: =+IF(AND(E19=0,LEN(B27)=0),0,IF(AND(E19<>0,LEN(B27)=0),"¿precio hora?",+F27)) -> 0 | F21: =+IF(E19=0,0,IF(F19<>E19*2,"revisar partidas ofertadas",IF(E21="¿precio hora?","¿precio hora?",IF(ISNUMBER(+E21*2),+E21*2,F27)))) -> 0
A22: L04b_sv | C22: suma servicio variable | E22: =+IF(ISNUMBER(E21),IF(SUM(E20:E21)>E20,SUM(E20:E21),0),"error correct.(3)") -> 0 | F22: =+IF(E22="error correct.(3)",E22,IF(E19=0,0,IF(F19<>E19*2,"revisar partidas",IF(ISNUMBER(+E22*2),+E22*2,"error correct.(3)")))) -> 0
A23: L04b_TO | D23: TOTAL IMPORTE OFERTADO | E23: =+IF(ISNUMBER(+F19+F22),IF((+E19+E22)>VLOOKUP("L04b_TO",'VE MAXIMO'!$A$1:$E$220,5,FALSE),"total>V.E.Máximo",IF((+E19+E22)*2=(+F19+F22),+E19+E22,"ERROR PARTIDAS")),"ERROR OFERTA") -> 0 | F23: =+IF(OR(E23=0,E23="total>V.E.Máximo"),E23,IF(ISNUMBER(+F19+F22),IF((+E19+E22)*2=(+F19+F22),+F19+F22,"ERROR PARTIDAS"),"ERROR OFERTA")) -> 0
A24: . | B24: AA | C24: .
A25: L04b_Cd | B25: (3) Oferta Correctivo programado >500 €
A26: L04b_Cd | B26: Precio hora de mano de obra ofertado (a) | C26: Horas estimadas | D26: Total mano de obra ofertada | E26: Importe estimado Materiales | F26: Total oferta correctivo >500 €
A27: L04b_Ci | B27: =+IF(LEN('AnxI 4a BALEAR'!B27)=0,"",IF(OR(SUM('AnxI 4a BALEAR'!E7:E16)>0,SUM('AnxI 4b MURC'!E7:E16)>0,SUM('AnxI 4c VALENC'!E7:E16)>0),IF(ISNUMBER('AnxI 4a BALEAR'!$B$27),'AnxI 4a BALEAR'!$B$27,"¿precio?"))) | C27: 68 | D27: =+IF(AND(E19=0,LEN(B27)=0),0,IF(OR(B27<30,B27>37),"precio hora < 30,00 ó > 37,00",+ROUND(TRUNC(B27,2)*C27,2))) -> 0 | E27: 7804 | F27: =+IF(LEN(B27)=0,0,IF(TRUNC(B27,2)<>B27,"¿decimales m.o.?",IF(ISNUMBER(+D27+E27),+D27+E27,"revisar precio hora"))) -> 0
B28: (a) Debe ser el mismo precio para todas las CCAA del lote 4. No será inferior a 30,00 € ni superior a 37,00 €
B29: =+IF(ISNUMBER(B27),IF(TRUNC(B27,2)<>B27,"ERROR: REVISAR DECIMALES PRECIO HORA M.O., MAXIMO 2",""),"")
B30: =+IF(AND(COUNT(E7:E18)>0,COUNT(E7:E18)<10),"Deben presupuestarse todas las partidas (10) de Servicio Fijo","") -> Deben presupuestarse todas las partidas (10) de Servicio Fijo
B31: =+IF(OR(AND(COUNT('AnxI 4a BALEAR'!E7:E18)>0,LEN('AnxI 4a BALEAR'!B27)=0),AND(COUNT('AnxI 4b MURC'!E7:E18)>0,LEN('AnxI 4a BALEAR'!B27)=0),AND(COUNT('AnxI 4c VALENC'!E7:E18)>0,LEN('AnxI 4a BALEAR'!B27)=0)),"Falta importe hora mano de obra en AnxI 4a BALEAR","") -> Falta importe hora mano de obra en AnxI 4a BALEAR
B32: Fdo.:

Sheet AnxI 4c VALENC
A1: ESTA TABLA DESGLOSE PRECIO DE OFERTA SE PRESENTARA FIRMADA EN FORMATO PDF
B2: =+"S-"&MID('Anx I pg 1 oferta'!J7,18,5)&"-"&RIGHT('Anx I pg 1 oferta'!J7,4)&" "&'Anx I pg 1 oferta'!J5&'Anx I pg 1 oferta'!J6 -> S-06048-2024 “Servicio de mantenimiento integral en sedes de CRTVE 2026-2030"
B3: B. Desglose Precio
A5: L04c_00 | B5: LOTE | E5: 1 Anualidad | F5: Importe contrato 2 años
A6: L04c_00 | B6: 4 | C6: VALENCIA
A7: L04c_01 | C7: PREVENTIVO GENERAL+CONDUCTIVO | F7: =IF(ISNUMBER(E7),+E7*2,0) -> 0
A8: L04c_02 | C8: PREVENTIVO PROTECC. CONTRA INCENDIOS | F8: =IF(ISNUMBER(E8),+E8*2,0) -> 0
A9: L04c_03 | C9: PREVENTIVO LEGIONELLA | F9: =IF(ISNUMBER(E9),+E9*2,0) -> 0
A10: L04c_04 | B10: SERVICIO | C10: PREVENTIVO GRUPOS ELECTRÓGENOS | F10: =IF(ISNUMBER(E10),+E10*2,0) -> 0
A11: L04c_05 | B11: FIJO | C11: PREVENTIVO DESBROCES/PODA | F11: =IF(ISNUMBER(E11),+E11*2,0) -> 0
A12: L04c_06 | C12: PREVENTIVO APARATOS ELEVADORES Y LÍNEAS DE VIDA | F12: =IF(ISNUMBER(E12),+E12*2,0) -> 0
A13: L04c_07 | C13: PREVENTIVO PUERTAS Y BARRERAS | F13: =IF(ISNUMBER(E13),+E13*2,0) -> 0
A14: L04c_08 | C14: PREVENTIVO PARARRAYOS | F14: =IF(ISNUMBER(E14),+E14*2,0) -> 0
A15: L04c_09 | C15: MANTENIMIENTO TÉCNICO-LEGAL | F15: =IF(ISNUMBER(E15),+E15*2,0) -> 0
A16: L04c_10 | C16: TERMOGRAFÍAS | F16: =IF(ISNUMBER(E16),+E16*2,0) -> 0
A17: L04c_11 | C17: MANT. CORRECTIVO MATERIALES < 500 € (1) | E17: 15180 | F17: 30360
A18: L04c_12 | C18: PREVENTIVO, CORRECTIVO NO PROGRAMADO (2) | E18: 17690 | F18: =+IF(COUNT(E7:E18)=12,IF(SUM(F7:F17)=SUM(E7:E17)*2,+E18*2,"revisar partidas ofertadas"),) -> 0
A19: L04c_sf | C19: suma servicio fijo | E19: =+IF(COUNTIFS((E7:E16),">0")>0,+IF(SUMPRODUCT(TRUNC(E7:E16))=+SUM(E7:E16),+SUM(E7:E18),"error sobran decimales"),0) -> 0 | F19: =+IF(COUNT(E7:E16)=0,0,IF(COUNT(E7:E16)<10,"hay partidas sin ofertar",IF(+E19*2=SUM(F7:F18),+SUM(F7:F18),"revisar partidas ofertadas"))) -> 0
A20: _ | B20: SERVICIO
A21: L04c_21 | B21: VARIABLE | C21: CORRECTIVO PROGRAMADO >500 € (3) | E21: =+IF(AND(E19=0,LEN(B27)=0),0,IF(AND(E19<>0,LEN(B27)=0),"¿precio hora?",+F27)) -> 0 | F21: =+IF(E19=0,0,IF(F19<>E19*2,"revisar partidas ofertadas",IF(E21="¿precio hora?","¿precio hora?",IF(ISNUMBER(+E21*2),+E21*2,F27)))) -> 0
A22: L04c_sv | C22: suma servicio variable | E22: =+IF(ISNUMBER(E21),IF(SUM(E20:E21)>E20,SUM(E20:E21),0),"error correct.(3)") -> 0 | F22: =+IF(E22="error correct.(3)",E22,IF(E19=0,0,IF(F19<>E19*2,"revisar partidas",IF(ISNUMBER(+E22*2),+E22*2,"error correct.(3)")))) -> 0
A23: L04c_TO | D23: TOTAL IMPORTE OFERTADO | E23: =+IF(ISNUMBER(+F19+F22),IF((+E19+E22)>VLOOKUP("L04c_TO",'VE MAXIMO'!$A$1:$E$220,5,FALSE),"total>V.E.Máximo",IF((+E19+E22)*2=(+F19+F22),+E19+E22,"ERROR PARTIDAS")),"ERROR OFERTA") -> 0 | F23: =+IF(OR(E23=0,E23="total>V.E.Máximo"),E23,IF(ISNUMBER(+F19+F22),IF((+E19+E22)*2=(+F19+F22),+F19+F22,"ERROR PARTIDAS"),"ERROR OFERTA")) -> 0
A24: . | B24: AA | C24: .
A25: L04c_Cd | B25: (3) Oferta Correctivo programado >500 €
A26: L04c_Cd | B26: Precio hora de mano de obra ofertado (a) | C26: Horas estimadas | D26: Total mano de obra ofertada | E26: Importe estimado Materiales | F26: Total oferta correctivo >500 €
A27: L04c_Ci | B27: =+IF(LEN('AnxI 4a BALEAR'!B27)=0,"",IF(OR(SUM('AnxI 4a BALEAR'!E7:E16)>0,SUM('AnxI 4b MURC'!E7:E16)>0,SUM('AnxI 4c VALENC'!E7:E16)>0),IF(ISNUMBER('AnxI 4a BALEAR'!$B$27),'AnxI 4a BALEAR'!$B$27,"¿precio?"))) | C27: 140 | D27: =+IF(AND(E19=0,LEN(B27)=0),0,IF(OR(B27<30,B27>37),"precio hora < 30,00 ó > 37,00",+ROUND(TRUNC(B27,2)*C27,2))) -> 0 | E27: 11390 | F27: =+IF(LEN(B27)=0,0,IF(TRUNC(B27,2)<>B27,"¿decimales m.o.?",IF(ISNUMBER(+D27+E27),+D27+E27,"revisar precio hora"))) -> 0
B28: (a) Debe ser el mismo precio para todas las CCAA del lote 4. No será inferior a 30,00 € ni superior a 37,00 €
B29: =+IF(ISNUMBER(B27),IF(TRUNC(B27,2)<>B27,"ERROR: REVISAR DECIMALES PRECIO HORA M.O., MAXIMO 2",""),"")
B30: =+IF(AND(COUNT(E7:E18)>0,COUNT(E7:E18)<10),"Deben presupuestarse todas las partidas (10) de Servicio Fijo","") -> Deben presupuestarse todas las partidas (10) de Servicio Fijo
B31: =+IF(OR(AND(COUNT('AnxI 4a BALEAR'!E7:E18)>0,LEN('AnxI 4a BALEAR'!B27)=0),AND(COUNT('AnxI 4b MURC'!E7:E18)>0,LEN('AnxI 4a BALEAR'!B27)=0),AND(COUNT('AnxI 4c VALENC'!E7:E18)>0,LEN('AnxI 4a BALEAR'!B27)=0)),"Falta importe hora mano de obra en AnxI 4a BALEAR","") -> Falta importe hora mano de obra en AnxI 4a BALEAR
B32: Fdo.:

Sheet AnxI 5 CANAR
A1: ESTA TABLA DESGLOSE PRECIO DE OFERTA SE PRESENTARA FIRMADA EN FORMATO PDF
B2: =+"S-"&MID('Anx I pg 1 oferta'!J7,18,5)&"-"&RIGHT('Anx I pg 1 oferta'!J7,4)&" "&'Anx I pg 1 oferta'!J5&'Anx I pg 1 oferta'!J6 -> S-06048-2024 “Servicio de mantenimiento integral en sedes de CRTVE 2026-2030"
B3: B. Desglose Precio
A5: L05_00 | B5: LOTE | E5: 1 Anualidad | F5: Importe contrato 2 años
A6: L05_00 | B6: 5 | C6: CANARIAS
A7: L05_01 | C7: PREVENTIVO GENERAL+CONDUCTIVO | F7: =IF(ISNUMBER(E7),+E7*2,0) -> 0
A8: L05_02 | C8: PREVENTIVO PROTECC. CONTRA INCENDIOS | F8: =IF(ISNUMBER(E8),+E8*2,0) -> 0
A9: L05_03 | C9: PREVENTIVO LEGIONELLA | F9: =IF(ISNUMBER(E9),+E9*2,0) -> 0
A10: L05_04 | B10: SERVICIO | C10: PREVENTIVO GRUPOS ELECTRÓGENOS | F10: =IF(ISNUMBER(E10),+E10*2,0) -> 0
A11: L05_05 | B11: FIJO | C11: PREVENTIVO DESBROCES/PODA | F11: =IF(ISNUMBER(E11),+E11*2,0) -> 0
A12: L05_06 | C12: PREVENTIVO APARATOS ELEVADORES Y LÍNEAS DE VIDA | F12: =IF(ISNUMBER(E12),+E12*2,0) -> 0
A13: L05_07 | C13: PREVENTIVO PUERTAS Y BARRERAS | F13: =IF(ISNUMBER(E13),+E13*2,0) -> 0
A14: L05_08 | C14: PREVENTIVO PARARRAYOS | F14: =IF(ISNUMBER(E14),+E14*2,0) -> 0
A15: L05_09 | C15: MANTENIMIENTO TÉCNICO-LEGAL | F15: =IF(ISNUMBER(E15),+E15*2,0) -> 0
A16: L05_10 | C16: TERMOGRAFÍAS | F16: =IF(ISNUMBER(E16),+E16*2,0) -> 0
A17: L05_11 | C17: MANT. CORRECTIVO MATERIALES < 500 € (1) | E17: 20030 | F17: 40060
A18: L05_12 | C18: PREVENTIVO, CORRECTIVO NO PROGRAMADO (2) | E18: 24620 | F18: =+IF(COUNT(E7:E18)=12,IF(SUM(F7:F17)=SUM(E7:E17)*2,+E18*2,"revisar partidas ofertadas"),) -> 0
A19: L05_sf | C19: suma servicio fijo | E19: =+IF(COUNTIFS((E7:E16),">0")>0,+IF(SUMPRODUCT(TRUNC(E7:E16))=+SUM(E7:E16),+SUM(E7:E18),"error sobran decimales"),0) -> 0 | F19: =+IF(COUNT(E7:E16)=0,0,IF(COUNT(E7:E16)<10,"hay partidas sin ofertar",IF(+E19*2=SUM(F7:F18),+SUM(F7:F18),"revisar partidas ofertadas"))) -> 0
A20: _ | B20: SERVICIO
A21: L05_21 | B21: VARIABLE | C21: CORRECTIVO PROGRAMADO >500 € (3) | E21: =+IF(AND(E19=0,LEN(B27)=0),0,IF(AND(E19<>0,LEN(B27)=0),"¿precio hora?",+F27)) -> 0 | F21: =+IF(E19=0,0,IF(F19<>E19*2,"revisar partidas ofertadas",IF(E21="¿precio hora?","¿precio hora?",IF(ISNUMBER(+E21*2),+E21*2,F27)))) -> 0
A22: L05_sv | C22: suma servicio variable | E22: =+IF(ISNUMBER(E21),IF(SUM(E20:E21)>E20,SUM(E20:E21),0),"error correct.(3)") -> 0 | F22: =+IF(E22="error correct.(3)",E22,IF(E19=0,0,IF(F19<>E19*2,"revisar partidas",IF(ISNUMBER(+E22*2),+E22*2,"error correct.(3)")))) -> 0
A23: L05_TO | D23: TOTAL IMPORTE OFERTADO | E23: =+IF(ISNUMBER(+F19+F22),IF((+E19+E22)>VLOOKUP("L05_TO",'VE MAXIMO'!$A$1:$E$220,5,FALSE),"total>V.E.Máximo",IF((+E19+E22)*2=(+F19+F22),+E19+E22,"ERROR PARTIDAS")),"ERROR OFERTA") -> 0 | F23: =+IF(OR(E23=0,E23="total>V.E.Máximo"),E23,IF(ISNUMBER(+F19+F22),IF((+E19+E22)*2=(+F19+F22),+F19+F22,"ERROR PARTIDAS"),"ERROR OFERTA")) -> 0
A24: . | B24: AA | C24: .
A25: L05_Cd | B25: (3) Oferta Correctivo programado >500 €
A26: L05_Cd | B26: Precio hora de mano de obra ofertado (a) | C26: Horas estimadas | D26: Total mano de obra ofertada | E26: Importe estimado Materiales | F26: Total oferta correctivo >500 €
A27: L05_Ci | C27: 159 | D27: =+IF(AND(E19=0,LEN(B27)=0),0,IF(OR(B27<30,B27>37),"precio hora < 30,00 ó > 37,00",+ROUND(TRUNC(B27,2)*C27,2))) -> 0 | E27: 12537 | F27: =+IF(LEN(B27)=0,0,IF(TRUNC(B27,2)<>B27,"¿decimales m.o.?",IF(ISNUMBER(+D27+E27),+D27+E27,"revisar precio hora"))) -> 0
B28: (a) Debe ser el mismo precio para todas las CCAA del lote 1. No será inferior a 30,00 € ni superior a 37,00 €
B29: =+IF(ISNUMBER(B27),IF(TRUNC(B27,2)<>B27,"ERROR: REVISAR DECIMALES PRECIO HORA M.O., MAXIMO 2",""),"")
B30: =+IF(AND(COUNT(E7:E18)>0,COUNT(E7:E18)<10),"Deben presupuestarse todas las partidas (10) de Servicio Fijo","") -> Deben presupuestarse todas las partidas (10) de Servicio Fijo
B32: Fdo.:

Sheet AnxI 6 CLMANC
A1: ESTA TABLA DESGLOSE PRECIO DE OFERTA SE PRESENTARA FIRMADA EN FORMATO PDF
B2: =+"S-"&MID('Anx I pg 1 oferta'!J7,18,5)&"-"&RIGHT('Anx I pg 1 oferta'!J7,4)&" "&'Anx I pg 1 oferta'!J5&'Anx I pg 1 oferta'!J6 -> S-06048-2024 “Servicio de mantenimiento integral en sedes de CRTVE 2026-2030"
B3: B. Desglose Precio
A5: L06_00 | B5: LOTE | E5: 1 Anualidad | F5: Importe contrato 2 años
A6: L06_00 | B6: 6 | C6: CASTILLA LA MANCHA
A7: L06_01 | C7: PREVENTIVO GENERAL+CONDUCTIVO | F7: =IF(ISNUMBER(E7),+E7*2,0) -> 0
A8: L06_02 | C8: PREVENTIVO PROTECC. CONTRA INCENDIOS | F8: =IF(ISNUMBER(E8),+E8*2,0) -> 0
A9: L06_03 | C9: PREVENTIVO LEGIONELLA | F9: =IF(ISNUMBER(E9),+E9*2,0) -> 0
A10: L06_04 | B10: SERVICIO | C10: PREVENTIVO GRUPOS ELECTRÓGENOS | F10: =IF(ISNUMBER(E10),+E10*2,0) -> 0
A11: L06_05 | B11: FIJO | C11: PREVENTIVO DESBROCES/PODA | F11: =IF(ISNUMBER(E11),+E11*2,0) -> 0
A12: L06_06 | C12: PREVENTIVO APARATOS ELEVADORES Y LÍNEAS DE VIDA | F12: =IF(ISNUMBER(E12),+E12*2,0) -> 0
A13: L06_07 | C13: PREVENTIVO PUERTAS Y BARRERAS | F13: =IF(ISNUMBER(E13),+E13*2,0) -> 0
A14: L06_08 | C14: PREVENTIVO PARARRAYOS | F14: =IF(ISNUMBER(E14),+E14*2,0) -> 0
A15: L06_09 | C15: MANTENIMIENTO TÉCNICO-LEGAL | F15: =IF(ISNUMBER(E15),+E15*2,0) -> 0
A16: L06_10 | C16: TERMOGRAFÍAS | F16: =IF(ISNUMBER(E16),+E16*2,0) -> 0
A17: L06_11 | C17: MANT. CORRECTIVO MATERIALES < 500 € (1) | E17: 39690 | F17: 79380
A18: L06_12 | C18: PREVENTIVO, CORRECTIVO NO PROGRAMADO (2) | E18: 38770 | F18: =+IF(COUNT(E7:E18)=12,IF(SUM(F7:F17)=SUM(E7:E17)*2,+E18*2,"revisar partidas ofertadas"),) -> 0
A19: L06_sf | C19: suma servicio fijo | E19: =+IF(COUNTIFS((E7:E16),">0")>0,+IF(SUMPRODUCT(TRUNC(E7:E16))=+SUM(E7:E16),+SUM(E7:E18),"error sobran decimales"),0) -> 0 | F19: =+IF(COUNT(E7:E16)=0,0,IF(COUNT(E7:E16)<10,"hay partidas sin ofertar",IF(+E19*2=SUM(F7:F18),+SUM(F7:F18),"revisar partidas ofertadas"))) -> 0
A20: _ | B20: SERVICIO
A21: L06_21 | B21: VARIABLE | C21: CORRECTIVO PROGRAMADO >500 € (3) | E21: =+IF(AND(E19=0,LEN(B27)=0),0,IF(AND(E19<>0,LEN(B27)=0),"¿precio hora?",+F27)) -> 0 | F21: =+IF(E19=0,0,IF(F19<>E19*2,"revisar partidas ofertadas",IF(E21="¿precio hora?","¿precio hora?",IF(ISNUMBER(+E21*2),+E21*2,F27)))) -> 0
A22: L06_sv | C22: suma servicio variable | E22: =+IF(ISNUMBER(E21),IF(SUM(E20:E21)>E20,SUM(E20:E21),0),"error correct.(3)") -> 0 | F22: =+IF(E22="error correct.(3)",E22,IF(E19=0,0,IF(F19<>E19*2,"revisar partidas",IF(ISNUMBER(+E22*2),+E22*2,"error correct.(3)")))) -> 0
A23: L06_TO | D23: TOTAL IMPORTE OFERTADO | E23: =+IF(ISNUMBER(+F19+F22),IF((+E19+E22)>VLOOKUP("L06_TO",'VE MAXIMO'!$A$1:$E$220,5,FALSE),"total>V.E.Máximo",IF((+E19+E22)*2=(+F19+F22),+E19+E22,"ERROR PARTIDAS")),"ERROR OFERTA") -> 0 | F23: =+IF(OR(E23=0,E23="total>V.E.Máximo"),E23,IF(ISNUMBER(+F19+F22),IF((+E19+E22)*2=(+F19+F22),+F19+F22,"ERROR PARTIDAS"),"ERROR OFERTA")) -> 0
A24: . | B24: AA | C24: .
A25: L06_Cd | B25: (3) Oferta Correctivo programado >500 €
A26: L06_Cd | B26: Precio hora de mano de obra ofertado (a) | C26: Horas estimadas | D26: Total mano de obra ofertada | E26: Importe estimado Materiales | F26: Total oferta correctivo >500 €
A27: L06_Ci | C27: 177 | D27: =+IF(AND(E19=0,LEN(B27)=0),0,IF(OR(B27<30,B27>37),"precio hora < 30,00 ó > 37,00",+ROUND(TRUNC(B27,2)*C27,2))) -> 0 | E27: 13631 | F27: =+IF(LEN(B27)=0,0,IF(TRUNC(B27,2)<>B27,"¿decimales m.o.?",IF(ISNUMBER(+D27+E27),+D27+E27,"revisar precio hora"))) -> 0
B28: (a) Debe ser el mismo precio para todas las CCAA del lote 1. No será inferior a 30,00 € ni superior a 37,00 €
B29: =+IF(ISNUMBER(B27),IF(TRUNC(B27,2)<>B27,"ERROR: REVISAR DECIMALES PRECIO HORA M.O., MAXIMO 2",""),"")
B30: =+IF(AND(COUNT(E7:E18)>0,COUNT(E7:E18)<10),"Deben presupuestarse todas las partidas (10) de Servicio Fijo","") -> Deben presupuestarse todas las partidas (10) de Servicio Fijo
B32: Fdo.:

Sheet AnxI 7 CLEON
