Workbook

Sheet ALTERNATIVA ADJUDICADA
A2: =valoración!A3 -> PROPUESTA DE ADJUDICACIÓN DEL EXPEDIENTE S-01192-2025
A3: =valoración!A4 -> "RENOVACIÓN DEL SISTEMA METEOROLÓGICO DE RTVE"
A4: =valoración!A5 -> RESUMEN PUNTUACIÓN TÉCNICA Y ECONÓMICA
E7: Alternativa 1: ofertas individuales
A8: Lotes | B8: Ofertas | C8: Valor estimado | D8: Puntuación técnica | E8: Importe Oferta | F8: Puntuación económica | G8: Puntuación Total | H8: Oferta seleccionada | I8: Factor de ponderación | J8: Valoración ponderada | K8: % Ahorro s/ licitación
A9: =valoración!A9 -> LOTE 1: RENOVACIÓN SISTEMA METEOROLÓGICO | B9: =valoración!B9 -> CLEARCOM, SL | C9: 210000 | D9: =valoración!D9 -> 6 | E9: 206122.96 | F9: 90 | G9: 96 | H9: 1 | I9: 0.49763033 | J9: 47.772512 | K9: =100-($E9*100/$C9) -> 1.8462095
A10: =valoración!A10 -> LOTE 2: EQUIPAMIENTO | B10: =valoración!B10 -> CLEARCOM, SL | C10: 212000 | D10: =valoración!D10 -> 10 | E10: 211142 | F10: 68.066052 | G10: 78.066052 | I10: 0 | J10: 0 | K10: =100-($E10*100/$C10) -> 0.40471698
B11: =valoración!B11 -> SERVICIOS INTEGRALES UNITECNIC, S.L. | C11: 212000 | D11: =valoración!D11 -> 10 | E11: 159684.47 | F11: 90 | G11: 100 | H11: 1 | I11: 0.50236967 | J11: 50.236967 | K11: =100-($E11*100/$C11) -> 24.677137
B12: Valor estimado total: | C12: =C9+C10 -> 422000 | I12: Puntuación total ponderada | J12: =SUM(J9:J11) -> 98.009479
A15: De conformidad con los criterios de valoración establecidos en el Pliego de Condiciones Generales de Contratación de este Expediente.
A16: Madrid, a 29 de mayo de 2025

Sheet valoración
T1: FÓRMULA PUNTUACIÓN ECONÓMICA: Adaptar a cada lote, estará condicionada por el número de ofertas y por los puntos que se dan a la oferta económica.
T2: Celda contigua: incluir puntuación económica indicada en los pliegos. Si los lotes se valoran con diferente puntuación económica hay que tenerlo en cuenta en la fórmula. | U2: 90
A3: PROPUESTA DE ADJUDICACIÓN DEL EXPEDIENTE S-01192-2025 | T3: Adaptar la tabla al número de lotes y ofertas recibidas, insertando o eliminando filas, tener en cuenta si se desestima una oferta, indicar los motivos..
A4: "RENOVACIÓN DEL SISTEMA METEOROLÓGICO DE RTVE"
A5: RESUMEN PUNTUACIÓN TÉCNICA Y ECONÓMICA
E7: Alternativa 1: ofertas individuales | K7: Alternativa 2: oferta conjunta "A" por los lotes 1 y 2 (5% de descuento)
A8: Lotes | B8: Ofertas | C8: Valor estimado (Sin modificación) | D8: Puntuación técnica | E8: Importe Oferta | F8: Puntuación económica | G8: Puntuación Total | H8: Oferta seleccionada | I8: Factor de ponderación | J8: Valoración ponderada | K8: Baja oferta conjunta | L8: Importe Oferta | M8: Puntuación económica | N8: Total Puntuación | O8: Oferta seleccionada | P8: Factor de ponderación | Q8: Valoración ponderada
A9: LOTE 1: RENOVACIÓN SISTEMA METEOROLÓGICO | B9: CLEARCOM, SL | C9: 210000 | D9: 6 | E9: 206122.96 | F9: =$U$2*(MIN(E$9:E$9)/E9) -> 90 | G9: =D9+F9 -> 96 | H9: 1 | I9: =+$C9/$C$12*H9 -> 0.49763033 | J9: =+G9*I9 -> 47.772512 | K9: 0.05 | L9: =+$E9*(1-K9) -> 195816.81 | M9: =$U$2*(MIN(L$9:L$9)/L9) -> 90 | N9: =$D9+M9 -> 96 | O9: 1 | P9: =+$C9/$C$12*O9 -> 0.49763033 | Q9: =+N9*P9 -> 47.772512
A10: LOTE 2: EQUIPAMIENTO | B10: CLEARCOM, SL | C10: 212000 | D10: 10 | E10: 211142 | F10: =$U$2*(MIN(E$10:E$11)/E10) -> 68.066052 | G10: =D10+F10 -> 78.066052 | I10: =+$C10/$C$12*H10 -> 0 | J10: =+G10*I10 -> 0 | K10: 0.05 | L10: =+$E10*(1-K10) -> 200584.9 | M10: =$U$2*(2-L10/MIN(L$10:L$11)) -> 66.948048 | N10: =$D10+M10 -> 76.948048 | O10: 1 | P10: =+$C10/$C$12*O10 -> 0.50236967 | Q10: =+N10*P10 -> 38.656365
B11: SERVICIOS INTEGRALES UNITECNIC, S.L. | C11: 212000 | D11: 10 | E11: 159684.47 | F11: =$U$2*(MIN(E$10:E$11)/E11) -> 90 | G11: =D11+F11 -> 100 | H11: 1 | I11: =+$C11/$C$12*H11 -> 0.50236967 | J11: =+G11*I11 -> 50.236967 | L11: =+$E11*(1-K11) -> 159684.47 | M11: =$U$2*(2-L11/MIN(L$10:L$11)) -> 90 | N11: =$D11+M11 -> 100 | P11: =+$C11/$C$12*O11 -> 0 | Q11: =+N11*P11 -> 0
B12: Valor estimado total: | C12: =C9+C10 -> 422000 | I12: Puntuación total ponderada | J12: =SUM(J9:J11) -> 98.009479 | P12: Puntuación total ponderada | Q12: =SUM(Q9:Q11) -> 86.428877
