Workbook

Sheet Anexo I pag 1 oferta
I1: “Mantenimiento centros de transformación e instalaciones Alta Tensión en Sedes de CRTVE en España”
I2: Expediente n.º S/01868/2025
A4: ANEXO I: MODELO DE PROPOSICIÓN ECONÓMICA
A6: D./Dª | F6: con D.N.I./NIE número
A7: (Nombre y dos apellidos)
A9: actuando en calidad de apoderado de la empresa
F10: (nombre o razón social)
A12: con NIF | C12: y domicilio social en
A14: conforme acredita con Poder.
A16: Se compromete a prestar el servicio con estricta sujeción a todas las condiciones técnicas y legales que se contienen en las Condiciones Generales de Contratación y de Condiciones Técnicas Particulares que ha examinado y expresamente acepta, señalando como características de su proposición las siguientes:
A18: A. El precio máximo ofertado, expresado sin IVA u otros impuestos indirectos equivalentes, es
A19: de | B19: =+IF(COUNTA('Desglose Centros pags 2y3'!G7:H130)<216,"Pdte.desglose precio "&216-COUNTA('Desglose Centros pags 2y3'!G7:H130)&" items",+'Anexo I pag 1 oferta'!I57) -> Pdte.desglose precio 216 items | D19: € (*).
A21: (*) Este importe debe incluir tres años de contrato más dos años de prórroga.
A23: Las proposiciones económicas incluirán un único precio para cada prestación, aplicable en cada uno de los años de ejecución del contrato, incluyendo los años de posibles prórrogas, en su caso.
A24: Las proposiciones económicas no podrán superar el valor estimado indicado en el Anexo II apartado 3, sin incluir modificaciones.
A26: Será obligatorio cumplimentar todos los campos de los formularios en caso contrario se desestimará oferta.
A28: En caso de discrepancia entre el importe del precio unitario y el importe indicado en las casillas de estimación anual, prevalecerá el importe del precio unitario de cada servicio, y se corregirá el cálculo partiendo del precio unitario indicado.
A30: B. Desglose Precio:
A32: Se completará la siguiente tabla detallando los precios de todos los mantenimientos.
A34: (.a) Importes indicados se obtienen de sumatorio de columna “PRECIO MTTO. PREVENTIVO ANUAL” del cuadro “PRECIOS POR CENTRO ALTA TENSION CRTVE”. Será el mismo importe para los tres años de contrato y los dos años de posibles prórrogas.
A36: (.b) Importes indicados se obtienen de sumatorio “OFERTA MANTENIMIENTO TECNICO LEGAL” de columnas “Precio OCAs año X” y “Precio OCAs Prórroga X” por periodo ofertado en cuadro “PRECIOS POR CENTRO ALTA TENSION CRTVE”.
A38: En cuadro “PRECIOS POR CENTRO ALTA TENSION CRTVE”, cada “Código Identificador” se cumplimentará con el importe individual ofertado en las columnas “Precio Mtto.Preventivo AnualL”, “Precio OCA”, y, en función de la fecha indicada en columna “PROXIMA OCA” se cumplimentarán además las columnas “Precio OCA año X” y “Precio OCA prórroga X” correspondientes. Deben cumplimentarse todos los códigos identificadores (107) para los conceptos “precio mtto.preventivo” y “precio OCA periodo X” correspondientes. No se admiten identificadores sin ofertar o con importe cero. La omisión de cualquier código identificador en oferta económica presentada supondrá la exclusión del licitador por considerar la oferta como “NO VÁLIDA”.
A40: Los importes detallados en “Año 1” y “Posible Prórroga 1” deben ser iguales.
A41: Los importes detallados en “Año 2” y “Posible Prórroga 2” deben ser iguales.
... A48: Todos los importes se ofertarán, preferiblemente, SIN decimales (salvo el precio hora de mano de obra), admitiéndose un máximo de 2 decimales.
B49: Lote | C49: Denominación | D49: Contrato 3 años | G49: Posible prórroga 1 | H49: Posible prórroga 2 | I49: Total : 3 años de contrato + 2 años de prórroga
B50: Único | C50: Mantenimiento centros transformación e instalaciones Alta Tensión Sedes CRTVE | D50: Año 1 | E50: Año 2 | F50: Año 3
B51: SERVICIO FIJO | C51: Mantenimiento preventivo | D51: =+'Desglose Centros pags 2y3'!I134 -> items pdtes.oferta | E51: =+'Desglose Centros pags 2y3'!J134 -> items pdtes.oferta | F51: =+'Desglose Centros pags 2y3'!K134 -> items pdtes.oferta | G51: =+'Desglose Centros pags 2y3'!L134 -> items pdtes.oferta | H51: =+'Desglose Centros pags 2y3'!M134 -> items pdtes.oferta | I51: =+SUM(D51:H51) -> 0
C52: Mantenimiento técnico-legal | D52: =+'Desglose Centros pags 2y3'!I133 -> 0 | E52: =+'Desglose Centros pags 2y3'!J133 -> 0 | F52: =+'Desglose Centros pags 2y3'!K133 -> 0 | G52: =+'Desglose Centros pags 2y3'!L133 -> 0 | H52: =+'Desglose Centros pags 2y3'!M133 -> 0 | I52: =+SUM(D52:H52) -> 0
C53: suma servicio fijo | D53: =SUM(D51:D52) -> 0 | E53: =SUM(E51:E52) -> 0 | F53: =SUM(F51:F52) -> 0 | G53: =SUM(G51:G52) -> 0 | H53: =SUM(H51:H52) -> 0 | I53: =+SUM(D53:H53) -> 0
B54: SERVICIO VARIABLE | C54: Mano de obra mantenimiento correctivo + modificativo | D54: =+$G$61 -> falta ofertar precio m.o. | E54: =+$G$62 -> falta ofertar precio m.o. | F54: =+$G$63 -> falta ofertar precio m.o. | G54: =+$G$61 -> falta ofertar precio m.o. | H54: =+$G$62 -> falta ofertar precio m.o. | I54: =+SUM(D54:H54) -> 0
C55: Materiales Correctivo + Modificativo (.d) | D55: 48000 | E55: 48000 | F55: 48000 | G55: 48000 | H55: 48000 | I55: =+SUM(D55:H55) -> 240000
C56: suma servicio variable | D56: =SUM(D54:D55) -> 48000 | E56: =SUM(E54:E55) -> 48000 | F56: =SUM(F54:F55) -> 48000 | G56: =SUM(G54:G55) -> 48000 | H56: =SUM(H54:H55) -> 48000 | I56: =+SUM(D56:H56) -> 240000
B57: Total oferta | D57: =+IF(SUM(D53:F53)+SUM(D56:F56)=144000,"oferta incompleta",SUM(D53:F53)+SUM(D56:F56)) -> oferta incompleta | G57: =+IF(SUM(G53:H53)+SUM(G56:H56)=96000,"oferta incompleta",SUM(G53:H53)+SUM(G56:H56)) -> oferta incompleta | I57: =+IF(+I53+I56=240000,"incompleta",SUM(D57:H57)) -> incompleta
B59: Oferta Mano obra mantenimiento correctivo
B60: Precio hora de mano de obra estimado (#) | D60: periodos | F60: Horas estimadas (##) | G60: Total mano de obra (€)
D61: año 1 (*) | F61: 700 | G61: =+IF(+$B$61>40,"error, supera 40",IF($B$61=0,"falta ofertar precio m.o.",+ROUND(ROUND($B$61,2)*F61,2))) -> falta ofertar precio m.o.
D62: año 2 (**) | F62: 675 | G62: =+IF(+$B$61>40,"error, supera 40",IF($B$61=0,"falta ofertar precio m.o.",+ROUND(ROUND($B$61,2)*F62,2))) -> falta ofertar precio m.o.
D63: año 3 | F63: 1250 | G63: =+IF(+$B$61>40,"error, supera 40",IF($B$61=0,"falta ofertar precio m.o.",+ROUND(ROUND($B$61,2)*F63,2))) -> falta ofertar precio m.o.
B65: (*) | C65: y posible prórroga 1 (**) y posible prórroga 2
B66: (#) | C66: El “Precio hora Mano de Obra” incluye gastos de desplazamiento.
C67: No podrá superar 40 €/hora y será el mismo para todos los periodos.
B68: (##) | C68: El número de “Horas estimadas” no se puede variar.
B70: Página/s siguiente/s incluye/n desglose ofertado de “PRECIOS POR CENTRO ALTA TENSION CRTVE”
B73: Fdo.:

Sheet Desglose Centros pags 2y3
I2: Empresa : | J2: =IF(LEN('Anexo I pag 1 oferta'!E9)=0,"",'Anexo I pag 1 oferta'!E9)
C3: PRECIOS POR CENTRO ALTA TENSION CRTVE (S-01868-2025)
B5: COD IDENTIF | C5: DENOMINACION | D5: CENTRO CRTVE | E5: Nº. DE TRAFOS, POTENCIA, CARACTERÍSTICAS | F5: PROXIMA OCA | G5: PRECIO MTTO. PREVENTIVO ANUAL (*) | H5: PRECIO OCA (*) | I5: Precio OCAs año 1 | J5: Precio OCAs año 2 | K5: Precio OCAs año 3 | L5: Precio OCAs prorroga 1 | M5: Precio OCAs prorroga 2 | N5: NOTAS (**)
C6: Comunidad Autónoma: Andalucía
B7: 1 | C7: C.T. RTVE | D7: SEVILLA | E7: 2 X 800 KVA 20kv | F7: 46802 | K7: =+IF(H7<>TRUNC(H7,2),"max.2 decim.",+H7) -> 0 | N7: 2
B8: 2 | C8: Línea RNE | D8: LINEA AT SEVILLA | E8: línea subterranea - 0,200Km | F8: 46802 | K8: =+IF(H8<>TRUNC(H8,2),"max.2 decim.",+H8) -> 0 | N8: 2
B9: 3 | C9: Centro Emisor RNE | D9: Roquetas de Mar | E9: 2 x 250KVA 20kv | F9: 46304 | I9: =+IF(H9<>TRUNC(H9,2),"max.2 decim.",+H9) -> 0 | L9: =+IF(H9<>TRUNC(H9,2),"max.2 decim.",+H9) -> 0 | N9: 1
B10: 4 | C10: Centro Emisor RNE | D10: La Línea - Campo Gibraltar | E10: 1 x 100KVA 20kv | F10: 46306 | I10: =+IF(H10<>TRUNC(H10,2),"max.2 decim.",+H10) -> 0 | L10: =+IF(H10<>TRUNC(H10,2),"max.2 decim.",+H10) -> 0 | N10: 1
B11: 5 | C11: Centro Emisor RNE | D11: San Miguel - Las Ermitas - La Soledad | E11: 1 x 100KVA 20kv | F11: 46032 | I11: =+IF(H11<>TRUNC(H11,2),"max.2 decim.",+H11) -> 0 | L11: =+IF(H11<>TRUNC(H11,2),"max.2 decim.",+H11) -> 0 | N11: 1
B12: 6 | C12: Centro Emisor RNE | D12: Cúllar-Vega | E12: 1 x 100KVA 20kv | F12: 46304 | I12: =+IF(H12<>TRUNC(H12,2),"max.2 decim.",+H12) -> 0 | L12: =+IF(H12<>TRUNC(H12,2),"max.2 decim.",+H12) -> 0 | N12: 1
B13: 7 | C13: Centro Emisor RNE | D13: Aljaraque | E13: 1 x 100KVA 15/20kv | F13: 46314 | I13: =+IF(H13<>TRUNC(H13,2),"max.2 decim.",+H13) -> 0 | L13: =+IF(H13<>TRUNC(H13,2),"max.2 decim.",+H13) -> 0 | N13: 1
B14: 8 | C14: Centro Emisor RNE | D14: Las Lagunillas | E14: 1 x 125KVA 20kv | F14: 46032 | I14: =+IF(H14<>TRUNC(H14,2),"max.2 decim.",+H14) -> 0 | L14: =+IF(H14<>TRUNC(H14,2),"max.2 decim.",+H14) -> 0 | N14: 1
B15: 9 | C15: Centro Emisor RNE | D15: Los Montes | E15: 1 x 100KVA 20kv | F15: 46305 | I15: =+IF(H15<>TRUNC(H15,2),"max.2 decim.",+H15) -> 0 | L15: =+IF(H15<>TRUNC(H15,2),"max.2 decim.",+H15) -> 0 | N15: 1
B16: 10 | C16: Centro Emisor RNE | D16: Los Palacios - Dos Hermanas | E16: 3 x 800KVA 15kv | F16: 46040 | I16: =+IF(H16<>TRUNC(H16,2),"max.2 decim.",+H16) -> 0 | L16: =+IF(H16<>TRUNC(H16,2),"max.2 decim.",+H16) -> 0 | N16: 1
B17: 11 | C17: Centro Emisor RNE | D17: La Corchuela | E17: 1 x 160KVA 15/20kv | F17: 46040 | I17: =+IF(H17<>TRUNC(H17,2),"max.2 decim.",+H17) -> 0 | L17: =+IF(H17<>TRUNC(H17,2),"max.2 decim.",+H17) -> 0 | N17: 1
B18: 12 | C18: Centro Emisor RNE | D18: Campo de Golf | E18: 2 x 100KVA 20kv | F18: 46789 | K18: =+IF(H18<>TRUNC(H18,2),"max.2 decim.",+H18) -> 0 | N18: 1
C19: Comunidad Autónoma: Melilla
B20: 13 | C20: Centro Emisor RNE | D20: Huerta Zalama | E20: 1 x 100KVA 10kv | F20: 47086 | K20: =+IF(H20<>TRUNC(H20,2),"max.2 decim.",+H20) -> 0 | N20: 1
C21: Comunidad Autónoma: Aragon
B22: 14 | C22: Centro Emisor RNE | D22: La Muela | E22: 1 x 100KVA 10/20kv | F22: 46164 | I22: =+IF(H22<>TRUNC(H22,2),"max.2 decim.",+H22) -> 0 | L22: =+IF(H22<>TRUNC(H22,2),"max.2 decim.",+H22) -> 0 | N22: 1
B23: 15 | C23: Centro Emisor RNE | D23: Torrero | E23: 2 x 160KVA 10kv | F23: 47018 | K23: =+IF(H23<>TRUNC(H23,2),"max.2 decim.",+H23) -> 0 | N23: 1
C24: Comunidad Autónoma: Asturias
B25: 16 | C25: C.T. TVE | D25: ASTURIAS | E25: 2 X 400 KVA. + 1 X 100 KVA 22kv | F25: 46530 | J25: =+IF(H25<>TRUNC(H25,2),"max.2 decim.",+H25) -> 0 | M25: =+IF(H25<>TRUNC(H25,2),"max.2 decim.",+H25) -> 0 | N25: 2
B26: 17 | C26: Línea RNE | D26: LINEA AT ASTURIAS | E26: línea soterrada - 1 apoyo - 0,105Km | F26: 46530 | J26: =+IF(H26<>TRUNC(H26,2),"max.2 decim.",+H26) -> 0 | M26: =+IF(H26<>TRUNC(H26,2),"max.2 decim.",+H26) -> 0 | N26: 2
B27: 18 | C27: Centro Emisor RNE | D27: Naranco | E27: 1 x 250KVA 22kv | F27: 46356 | I27: =+IF(H27<>TRUNC(H27,2),"max.2 decim.",+H27) -> 0 | L27: =+IF(H27<>TRUNC(H27,2),"max.2 decim.",+H27) -> 0 | N27: 1
C28: Comunidad Autónoma: Canarias
B29: 19 | C29: C.P.P.TVE RNE | D29: LAS PALMAS | E29: 2 X 630 KVA 20kv | F29: 46555 | J29: =+IF(H29<>TRUNC(H29,2),"max.2 decim.",+H29) -> 0 | M29: =+IF(H29<>TRUNC(H29,2),"max.2 decim.",+H29) -> 0 | N29: 4
B30: 20 | C30: C.T. TVE | D30: TENERIFE | E30: 1 X 400 KVA 20kv | F30: 46766 | K30: =+IF(H30<>TRUNC(H30,2),"max.2 decim.",+H30) -> 0 | N30: 3
B31: 21 | C31: Centro Emisor RNE | D31: Las Mesas | E31: 1 x 750KVA + 1 x 250KVA 20kv | F31: 46196 | I31: =+IF(H31<>TRUNC(H31,2),"max.2 decim.",+H31) -> 0 | L31: =+IF(H31<>TRUNC(H31,2),"max.2 decim.",+H31) -> 0 | N31: 1
B32: 22 | C32: Centro Emisor RNE | D32: Montañeta | E32: 1 x 160KVA 20kv | F32: 46280 | I32: =+IF(H32<>TRUNC(H32,2),"max.2 decim.",+H32) -> 0 | L32: =+IF(H32<>TRUNC(H32,2),"max.2 decim.",+H32) -> 0 | N32: 1
C33: Comunidad Autónoma: Cantabria
B34: 23 | C34: C.T. TVE RNE | D34: CANTABRIA | E34: 2 X 315 KVA. + 1 X 75 KVA 12kv | F34: 46646 | J34: =+IF(H34<>TRUNC(H34,2),"max.2 decim.",+H34) -> 0 | M34: =+IF(H34<>TRUNC(H34,2),"max.2 decim.",+H34) -> 0 | N34: 2
B35: 24 | C35: Centro Emisor RNE | D35: Rostrio | E35: 1 x 160KVA 12kv | F35: 46900 | K35: =+IF(H35<>TRUNC(H35,2),"max.2 decim.",+H35) -> 0 | N35: 1
C36: Comunidad Autónoma: Castilla León
B37: 25 | C37: Centro Emisor RNE | D37: Tornadizos | E37: 1 x 75KVA 15kv | F37: 46826 | K37: =+IF(H37<>TRUNC(H37,2),"max.2 decim.",+H37) -> 0 | N37: 1
B38: 26 | C38: Centro Emisor RNE | D38: Fuentesnuevas | E38: 1 x 100KVA 15kv | F38: 46899 | K38: =+IF(H38<>TRUNC(H38,2),"max.2 decim.",+H38) -> 0 | N38: 1
B39: 27 | C39: Línea RNE | D39: LINEA AT Fuentesnuevas | E39: linea aerea- 2 Apoyos- 0,2 Km | F39: 46899 | K39: =+IF(H39<>TRUNC(H39,2),"max.2 decim.",+H39) -> 0 | N39: 1
B40: 28 | C40: Centro Emisor RNE | D40: Monte Viejo | E40: 1 x 100KVA 13/20kv | F40: 46902 | K40: =+IF(H40<>TRUNC(H40,2),"max.2 decim.",+H40) -> 0 | N40: 1
B41: 29 | C41: Línea RNE | D41: LINEA AT Monte Viejo | E41: linea aerea - 13 Apoyos- 1,2 Km | F41: 46902 | K41: =+IF(H41<>TRUNC(H41,2),"max.2 decim.",+H41) -> 0 | N41: 1
B42: 30 | C42: Centro Emisor RNE | D42: Ciudad Rodrigo - Feria del Ganado | E42: 1 x 100KVA 13kv | F42: 46675 | J42: =+IF(H42<>TRUNC(H42,2),"max.2 decim.",+H42) -> 0 | M42: =+IF(H42<>TRUNC(H42,2),"max.2 decim.",+H42) -> 0 | N42: 1
C43: Comunidad Autónoma: Castilla La Mancha
B44: 31 | C44: C.T. TVE | D44: TOLEDO | E44: 2 X 400 KVA 20kv | F44: 46997 | K44: =+IF(H44<>TRUNC(H44,2),"max.2 decim.",+H44) -> 0 | N44: 2
B45: 32 | C45: Centro Emisor RNE | D45: El Palo | E45: 1 x 100KVA 20/11kv | F45: 46844 | K45: =+IF(H45<>TRUNC(H45,2),"max.2 decim.",+H45) -> 0 | N45: 1
B46: 33 | C46: Línea RNE | D46: LINEA AT El Palo | E46: línea soterrada - 1 apoyo - 0,025Km | F46: 46844 | K46: =+IF(H46<>TRUNC(H46,2),"max.2 decim.",+H46) -> 0 | N46: 1
B47: 34 | C47: Centro Emisor RNE | D47: Alcaraz | E47: 1 x 50KVA 20kv | F47: 46844 | K47: =+IF(H47<>TRUNC(H47,2),"max.2 decim.",+H47) -> 0 | N47: 1
B48: 35 | C48: Línea RNE | D48: LINEA AT Alcaraz | E48: línea aerea - 2 apoyos - 0,025Km | F48: 46844 | K48: =+IF(H48<>TRUNC(H48,2),"max.2 decim.",+H48) -> 0 | N48: 1
B49: 36 | C49: Centro Emisor RNE | D49: Hellin | E49: 1 x 50KVA 20kv | F49: 46842 | K49: =+IF(H49<>TRUNC(H49,2),"max.2 decim.",+H49) -> 0 | N49: 1
B50: 37 | C50: Línea RNE | D50: LINEA AT Hellín | E50: línea aerea - 2 apoyos - 0,06 Km | F50: 46842 | K50: =+IF(H50<>TRUNC(H50,2),"max.2 decim.",+H50) -> 0 | N50: 1
B51: 38 | C51: Centro Emisor RNE | D51: Cerro Munera | E51: 1 x 50KVA 20kv | F51: 46842 | K51: =+IF(H51<>TRUNC(H51,2),"max.2 decim.",+H51) -> 0 | N51: 1
B52: 39 | C52: Línea RNE | D52: LINEA AT Cerro Munera | E52: linea aerea - 2 apoyos - 0,027 Km | F52: 46842 | K52: =+IF(H52<>TRUNC(H52,2),"max.2 decim.",+H52) -> 0 | N52: 1
B53: 40 | C53: Centro Emisor RNE | D53: Campillo de Altobuey | E53: 1 x 50KVA 20kv | F53: 46844 | K53: =+IF(H53<>TRUNC(H53,2),"max.2 decim.",+H53) -> 0 | N53: 1
B54: 41 | C54: Línea RNE | D54: LINEA AT Campillo de Altobuey | E54: linea aerea - 2 apoyos - 0,082 Km | F54: 46844 | K54: =+IF(H54<>TRUNC(H54,2),"max.2 decim.",+H54) -> 0 | N54: 1
B55: 42 | C55: Centro Emisor RNE | D55: Noblejas Subestacion intemperie | E55: 7.5MVA x 2 45kv | F55: 46794 | K55: =+IF(H55<>TRUNC(H55,2),"max.2 decim.",+H55) -> 0 | N55: 1
B56: 43 | C56: Centro Emisor RNE | D56: Noblejas | E56: 4 x 500 +7 x 400 15kv | F56: 46214 | I56: =+IF(H56<>TRUNC(H56,2),"max.2 decim.",+H56) -> 0 | L56: =+IF(H56<>TRUNC(H56,2),"max.2 decim.",+H56) -> 0 | N56: 1
C57: Comunidad Autónoma: Cataluña
B58: 44 | C58: C.P.P. TVE | D58: BARCELONA (Sant Cugat del Vallés) | E58: C. Seccionamiento | F58: 46811 | K58: =+IF(H58<>TRUNC(H58,2),"max.2 decim.",+H58) -> 0 | N58: 4
B59: 45 | C59: Línea C.P.P. TVE | D59: LINEA AT BARCELONA (Sant Cugat del Vallés) | E59: 2x línea soterrada - 0,300 Km | F59: 46811 | K59: =+IF(H59<>TRUNC(H59,2),"max.2 decim.",+H59) -> 0 | N59: 4
B60: 46 | C60: C.P.P. TVE | D60: BARCELONA (Sant Cugat del Vallés) | E60: 6 X 1250 KVA | F60: 46811 | K60: =+IF(H60<>TRUNC(H60,2),"max.2 decim.",+H60) -> 0 | N60: 4
B61: 47 | C61: C.P.P. RNE | D61: BARCELONA Roc Boronat | E61: 1 X 630 kVA 25kv | F61: 46810 | K61: =+IF(H61<>TRUNC(H61,2),"max.2 decim.",+H61) -> 0 | N61: 4
B62: 48 | C62: Centro Emisor RNE | D62: Montjuic | E62: 160 KVA + 200 KVA 10kv | F62: 46781 | K62: =+IF(H62<>TRUNC(H62,2),"max.2 decim.",+H62) -> 0 | N62: 1
B63: 49 | C63: Centro Emisor RNE | D63: Palau Plegamans | E63: 2 X 1250 KVA 25 kv | F63: 46781 | K63: =+IF(H63<>TRUNC(H63,2),"max.2 decim.",+H63) -> 0 | N63: 1
C64: Comunidad Autónoma: Extremadura
B65: 50 | C65: C.T. TVE | D65: MERIDA | E65: 2 X 400KVA +1 X 100KVA 15kv | F65: 46517 | J65: =+IF(H65<>TRUNC(H65,2),"max.2 decim.",+H65) -> 0 | M65: =+IF(H65<>TRUNC(H65,2),"max.2 decim.",+H65) -> 0 | N65: 2
B66: 51 | C66: Línea RNE | D66: LINEA AT MERIDA | E66: línea subterranea - 0,300Km | F66: 46517 | J66: =+IF(H66<>TRUNC(H66,2),"max.2 decim.",+H66) -> 0 | M66: =+IF(H66<>TRUNC(H66,2),"max.2 decim.",+H66) -> 0 | N66: 2
B67: 52 | C67: Centro Emisor RNE | D67: Las Arguijuelas | E67: 2 x 400 KVA 13kv | F67: 46684 | J67: =+IF(H67<>TRUNC(H67,2),"max.2 decim.",+H67) -> 0 | M67: =+IF(H67<>TRUNC(H67,2),"max.2 decim.",+H67) -> 0 | N67: 1
C68: Comunidad Autónoma: Galicia
B69: 53 | C69: C.T. TVE | D69: GALICIA | E69: 2 X 400 KVA. + 1 X 100 KVA 20kv | F69: 46440 | J69: =+IF(H69<>TRUNC(H69,2),"max.2 decim.",+H69) -> 0 | M69: =+IF(H69<>TRUNC(H69,2),"max.2 decim.",+H69) -> 0 | N69: 1
B70: 54 | C70: Línea RNE | D70: LINEA AT GALICIA | E70: línea subterranea - 0,300Km | F70: 46440 | J70: =+IF(H70<>TRUNC(H70,2),"max.2 decim.",+H70) -> 0 | M70: =+IF(H70<>TRUNC(H70,2),"max.2 decim.",+H70) -> 0 | N70: 1
B71: 55 | C71: Centro Emisor RNE | D71: Mesón do Vento | E71: 1x800+1x630+1x100+1x125 15kv | F71: 46829 | K71: =+IF(H71<>TRUNC(H71,2),"max.2 decim.",+H71) -> 0 | N71: 2
B72: 56 | C72: Centro Emisor RNE | D72: Pastoriza - La Coruña | E72: 1 x 160KVA 20kv | F72: 46831 | K72: =+IF(H72<>TRUNC(H72,2),"max.2 decim.",+H72) -> 0 | N72: 1
B73: 57 | C73: Línea RNE | D73: LINEA AT Pastoriza - La Coruña | E73: 3 Apoyos-145 m. | F73: 46831 | K73: =+IF(H73<>TRUNC(H73,2),"max.2 decim.",+H73) -> 0 | N73: 1
B74: 58 | C74: Centro Emisor RNE | D74: Arieiras-Fontao | E74: 1 x 200KVA 20kv | F74: 46829 | K74: =+IF(H74<>TRUNC(H74,2),"max.2 decim.",+H74) -> 0 | N74: 1
B75: 59 | C75: Línea RNE | D75: LINEA AT Arieiras-Fontao | E75: 2 Apoyos-126 m. | F75: 46829 | K75: =+IF(H75<>TRUNC(H75,2),"max.2 decim.",+H75) -> 0 | N75: 1
B76: 60 | C76: Centro Emisor RNE | D76: Sabadelle-Pereiro | E76: 2 x 250KVA 20kv | F76: 46830 | K76: =+IF(H76<>TRUNC(H76,2),"max.2 decim.",+H76) -> 0 | N76: 1
B77: 61 | C77: Línea RNE | D77: LINEA AT Sabadelle-Pereiro | E77: 14 Apoyos (3HV+11celosia)980 m | F77: 46830 | K77: =+IF(H77<>TRUNC(H77,2),"max.2 decim.",+H77) -> 0 | N77: 1
B78: 62 | C78: Centro Emisor RNE | D78: Pastoriza-Marin | E78: 2 x 250KVA 20kv | F78: 46832 | K78: =+IF(H78<>TRUNC(H78,2),"max.2 decim.",+H78) -> 0 | N78: 1
C79: Comunidad Autónoma: La Rioja
B80: 63 | C80: C.T. RTVE | D80: LA RIOJA | E80: 2 X 315 KVA 13kv | F80: 46682 | J80: =+IF(H80<>TRUNC(H80,2),"max.2 decim.",+H80) -> 0 | M80: =+IF(H80<>TRUNC(H80,2),"max.2 decim.",+H80) -> 0 | N80: 2
B81: 64 | C81: Línea C.T. RTVE | D81: LINEA AT LA RIOJA | E81: línea soterrada | F81: 46682 | J81: =+IF(H81<>TRUNC(H81,2),"max.2 decim.",+H81) -> 0 | M81: =+IF(H81<>TRUNC(H81,2),"max.2 decim.",+H81) -> 0 | N81: 2
B82: 65 | C82: Centro Emisor RNE | D82: La Plana | E82: 1x20 kva 20kv | F82: 46298 | I82: =+IF(H82<>TRUNC(H82,2),"max.2 decim.",+H82) -> 0 | L82: =+IF(H82<>TRUNC(H82,2),"max.2 decim.",+H82) -> 0 | N82: 1
B83: 66 | C83: Línea RNE | D83: LINEA AT La Plana | E83: 5 Apoyos-430 m +/- | F83: 46298 | I83: =+IF(H83<>TRUNC(H83,2),"max.2 decim.",+H83) -> 0 | L83: =+IF(H83<>TRUNC(H83,2),"max.2 decim.",+H83) -> 0 | N83: 1
B84: 67 | C84: Centro Emisor RNE | D84: La Grajera | E84: 2 X 200 KVA | F84: 46298 | I84: =+IF(H84<>TRUNC(H84,2),"max.2 decim.",+H84) -> 0 | L84: =+IF(H84<>TRUNC(H84,2),"max.2 decim.",+H84) -> 0 | N84: 1
B85: 68 | C85: Línea RNE | D85: LINEA AT La Grajera | E85: línea soterrada 570 m | F85: 46298 | I85: =+IF(H85<>TRUNC(H85,2),"max.2 decim.",+H85) -> 0 | L85: =+IF(H85<>TRUNC(H85,2),"max.2 decim.",+H85) -> 0 | N85: 1
C86: Comunidad Autónoma: Madrid
B87: 69 | C87: C.P.P. RTVE | D87: MADRID (Prado del Rey, CTN5) | E87: 2 trafos de 1250 kVA 20kV/400 V | F87: 46997 | K87: =+IF(H87<>TRUNC(H87,2),"max.2 decim.",+H87) -> 0 | N87: 4
B88: 70 | C88: C.P.P. RTVE | D88: PRADO NCT TVE-SSEE | E88: 7 X 1250 KVA | F88: 46043 | I88: =+IF(H88<>TRUNC(H88,2),"max.2 decim.",+H88) -> 0 | L88: =+IF(H88<>TRUNC(H88,2),"max.2 decim.",+H88) -> 0 | N88: 4
B89: 71 | C89: C.P.P. RTVE | D89: PRADO NNEE | E89: 3x 1250 KVA | F89: 46719 | J89: =+IF(H89<>TRUNC(H89,2),"max.2 decim.",+H89) -> 0 | M89: =+IF(H89<>TRUNC(H89,2),"max.2 decim.",+H89) -> 0 | N89: 4
B90: 72 | C90: C.P.P. RTVE | D90: PRADO EPR | E90: 3 X 1000 KVA | F90: 46043 | I90: =+IF(H90<>TRUNC(H90,2),"max.2 decim.",+H90) -> 0 | L90: =+IF(H90<>TRUNC(H90,2),"max.2 decim.",+H90) -> 0 | N90: 4
B91: 73 | C91: C.P.P. RTVE | D91: PRADO RNE | E91: 4 X 1250 KVA | F91: 46900 | K91: =+IF(H91<>TRUNC(H91,2),"max.2 decim.",+H91) -> 0 | N91: 4
B92: 74 | C92: C.P.P. RTVE | D92: MADRID (Prado del Rey, CEMR) | E92: Solo cabinas | F92: 46997 | K92: =+IF(H92<>TRUNC(H92,2),"max.2 decim.",+H92) -> 0 | N92: 4
B93: 75 | C93: Linea AT | D93: LINEA AT (Prado del Rey, CEMR LINEA PRINCIPAL) | E93: linea subterranea - 0,130 Km | F93: 46997 | K93: =+IF(H93<>TRUNC(H93,2),"max.2 decim.",+H93) -> 0 | N93: 4
B94: 76 | C94: Linea AT | D94: LINEA AT (Prado del Rey, CEMR LINEA SECUNDARIA) | E94: linea subterranea - 0,130 Km | F94: 46997 | K94: =+IF(H94<>TRUNC(H94,2),"max.2 decim.",+H94) -> 0 | N94: 4
B95: 77 | C95: Linea AT | D95: LINEA AT (Prado del Rey, CEMR-NNEE) | E95: linea subterranea - 0,250 Km | F95: 46997 | K95: =+IF(H95<>TRUNC(H95,2),"max.2 decim.",+H95) -> 0 | N95: 4
B96: 78 | C96: Linea AT | D96: LINEA AT (Prado del Rey, NNEE-NCT TVE SSEE) | E96: linea subterranea - 0,130 Km | F96: 46719 | J96: =+IF(H96<>TRUNC(H96,2),"max.2 decim.",+H96) -> 0 | M96: =+IF(H96<>TRUNC(H96,2),"max.2 decim.",+H96) -> 0 | N96: 4
B97: 79 | C97: Linea AT | D97: LINEA AT (Prado del Rey, NCT TVE SSEE-EPR) | E97: linea subterranea - 0,680 Km | F97: 46997 | K97: =+IF(H97<>TRUNC(H97,2),"max.2 decim.",+H97) -> 0 | N97: 4
B98: 80 | C98: Linea AT | D98: LINEA AT (Prado del Rey, EPR-RNE) | E98: linea subterranea - 0,430 Km | F98: 46997 | K98: =+IF(H98<>TRUNC(H98,2),"max.2 decim.",+H98) -> 0 | N98: 4
B99: 81 | C99: Linea AT | D99: LINEA AT (Prado del Rey, RNE-CTN5) | E99: linea subterranea - 0,310 Km | F99: 46997 | K99: =+IF(H99<>TRUNC(H99,2),"max.2 decim.",+H99) -> 0 | N99: 4
B100: 82 | C100: Linea AT | D100: LINEA AT (Prado del Rey, CTN5-CEMR) | E100: atarjea - 0,010 Km | F100: 46997 | K100: =+IF(H100<>TRUNC(H100,2),"max.2 decim.",+H100) -> 0 | N100: 4
B101: 83 | C101: Linea AT | D101: LINEA AT MADRID (Torrespaña) Edif A L. PRINCIPAL | E101: linea subterranea - 0,050 Km | F101: 46894 | K101: =+IF(H101<>TRUNC(H101,2),"max.2 decim.",+H101) -> 0 | N101: 4
B102: 84 | C102: Linea AT | D102: LINEA AT MADRID (Torrespaña) Edif A L. SECUNDARIA | E102: linea subterranea - 0,050 Km | F102: 46894 | K102: =+IF(H102<>TRUNC(H102,2),"max.2 decim.",+H102) -> 0 | N102: 4
...
