Workbook
Name _Hlk192850226: 'L1 ANDA EXTR Ceuta Melilla'!$C$25
Name _Hlk193094503: '% admitidos'!$A$50
Name _Hlk193097860: '% admitidos'!$A$142
Name _Hlk202344527: 'L9 CANAR'!$H$69

Sheet RESUMEN LOTES
C2: NOTA IMPORTANTE: resumen informativo, no válido como oferta
B4: Resumen ofertado por lote
B6: Lote | C6: Detalle CC.AA. Y Ciudades Autonomas | E6: VALOR ESTIMADO MAXIMO | G6: Importe oferta | I6: % descto. ofertado
B7: 1 | C7: CCAA Andalucía y Extremadura, Ciudades Autónomas de Ceuta y Melilla | E7: 40800 | G7: =+TRUNC('L1 ANDA EXTR Ceuta Melilla'!$G$18,2) -> 0 | I7: =+IF(LEN(G7)>0,+(G7-E7)/E7,"") -> -1
B8: 2 | C8: CCAA Aragón, Navarra, La Rioja y el País Vasco. | E8: 28400 | G8: =+TRUNC('L2 ARAG NAVA RIOJ PVASC'!$G$18,2) -> 0 | I8: =+IF(LEN(G8)>0,+(G8-E8)/E8,"") -> -1
B9: 3 | C9: Comunidad de Madrid, sede Prado del Rey | E9: 77100 | G9: =+TRUNC('L3 MADR (Prado Rey)'!$G$18,2) -> 0 | I9: =+IF(LEN(G9)>0,+(G9-E9)/E9,"") -> -1
B10: 4 | C10: Comunidad de Madrid, sede Torrespaña, Dehesa de la Villa (IRTVE), inmuebles sin uso. | E10: 44800 | G10: =+TRUNC('L4 MADR (TorreEspaña y resto)'!$G$18,2) -> 0 | I10: =+IF(LEN(G10)>0,+(G10-E10)/E10,"") -> -1
B11: 5 | C11: CCAA Valencia, Castilla-La Mancha, Illes Balears y Murcia. | E11: 31000 | G11: =+TRUNC('L5 VALE CMAN BALE MURC'!$G$18,2) -> 0 | I11: =+IF(LEN(G11)>0,+(G11-E11)/E11,"") -> -1
B12: 6 | C12: CCAA Cantabria, Castilla-León y Asturias. | E12: 28400 | G12: =+TRUNC('L6 CANT CLEON ASTU'!$G$18,2) -> 0 | I12: =+IF(LEN(G12)>0,+(G12-E12)/E12,"") -> -1
B13: 7 | C13: Comunidad Autónoma de Cataluña. | E13: 50300 | G13: =+TRUNC('L7 CATAL'!$G$18,2) -> 0 | I13: =+IF(LEN(G13)>0,+(G13-E13)/E13,"") -> -1
B14: 8 | C14: Comunidad Autónoma de Galicia. | E14: 25700 | G14: =+TRUNC('L8 GALIC'!$G$18,2) -> 0 | I14: =+IF(LEN(G14)>0,+(G14-E14)/E14,"") -> -1
B15: 9 | C15: Comunidad Autónoma de Canarias. | E15: 10300 | G15: =+TRUNC('L9 CANAR'!$G$18,2) -> 0 | I15: =+IF(LEN(G15)>0,+(G15-E15)/E15,"") -> -1
C17: TOTAL OFERTAS EXPEDIENTE S-01533-2025 | E17: =SUM(E7:E16) -> 336800 | G17: =+SUM(G7:G15) -> 0 | I17: =+IF(LEN(G17)>0,+SUM(I7:I15)/COUNTIFS((G7:G15),">0"),"") -> #DIV/0! | J17: dscto medio

Sheet INSTRUCCIONES
B2: NO SE INTRODUCIRA NINGUN IMPORTE EN "Anx I pg 1 oferta", todos se obtienen por cálculo automático
B4: NO SE INTRODUCIRA NINGUN IMPORTE TABLA "Desglose 3" de cada lote, todos se obtienen por cálculo automático
B13: DEBEN SEGUIRSE 4 PASOS PARA OBTENER LA OFERTA CON ESTE FICHERO EXCEL
A15: 1) | B15: OFERTAR EL IMPORTE TOTAL DEL LOTE SELECCIONADO (Tabla DESGLOSE 1)
A17: 2) | B17: OFERTAR EL DETALLE INDIVIDUAL DE SEDES DEL LOTE (Tabla DESGLOSE 2)
B19: IMPORTANTE: SI SE DESEA OFERTAR MÁS DE UN LOTE SE REPETIRAN PASOS 1) y 2) HASTA HABER OFERTADO TODOS LOS LOTES
A21: 3) | B21: COMPLETAR DATOS (Anx I pg 1 oferta) Y SOBRE TODO EL CAMPO "Fdo."
A23: 4) | B23: IMPRIMIR en pdf (Anx I pg 1 oferta) y TABLAS DESGLOSE 1 + DESGLOSE 2 DE TODOS LOS LOTES OFERTADOS.
B25: PASO 5:
B26: PRESENTAR OFERTA FIRMADA EN EXCEL EN CADA UNO DE LOS LOTES OFERTADOS (pag.1 + desglose precio del lote)
B27: y, OBLIGATORIAMENTE este fichero EXCEL CUMPLIMENTADO
B31: Es imprescindible respetar este orden para obtener los resultados esperados.
B33: GRAFICAMENTE, SE REPASAN LAS FASES (se toma como ejemplo el LOTE 9 - CANARIAS)
A37: 1) | B37: OFERTAR EL IMPORTE TOTAL DEL LOTE SELECCIONADO (Tabla DESGLOSE 1)
A81: 2) | B81: OFERTAR EL DETALLE INDIVIDUAL DE SEDES DEL LOTE (Tabla DESGLOSE 2)
B83: AL OFERTAR UN IMPORTE TOTAL DEL LOTE SE DESPLIEGA UNA LISTA DE OPCIONES DE IMPORTES VÁLIDOS PARA CADA SEDE
B120: Y UNOS MENSAJES DE CHEQUEO A LA DERECHA QUE SE IRAN MODIFICANDO SEGÚN SE COMPLETEN LAS CELDAS EN AMARILLO
B143: El importe de la sede de mayor ponderación en el lote se cumplimenta autómaticamente con el total ofertado por el licitador
B168: La sede de mayor ponderación L09-02 se reajusta automáticamente cada vez que se oferta una sede. A la derecha, el check indica el num. de sedes pendientes de ofertar
B169: Mientras no se completen todos los lotes, la sede L09-02 nos avisará del error, indicando (a la derecha) que el importe máximo admitido son 4.518 € y, hasta el momento los 8.141 €
B170: de la columna "IMPORTE ofertado" no son correctos
B172: Si se oferta un importe por encima o por debajo de los valores propuestos en rojo, el check avisará sobre el importe ofertado y cual es la cantidad mínima o máxima admitida
B173: en CT TVE Tenerife (L09-03) de siguiente ejemplo la cantidad ofertada (2.540 €) es incorrecta por ser inferior a la mínima admitida (2.544 €)
B201: Se admite cualquier valor siempre que esté comprendido entre el mínimo y el máximo detallados debajo de cada sede.
B202: Se admiten 2 decimales pero se sugiere ofertar las sedes sin decimales, solo la de mayor ponderación incluiría decimales
B203: si fueran necesarios para alcanzar el TOTAL OFERTA LOTE de tabla desglose 1.
B205: Una vez ofertadas TODAS las sedes del lote con valores admitidos todas las cantidades se dan por correctas (ok a la derecha)
... B504: UNA VEZ COMPLETADOS TODOS LOS LOTES A OFERTAR CONTINUAMOS EN PASO 3)
A509: 3) | B509: COMPLETAR DATOS (Anx I pg 1 oferta) Y SOBRE TODO EL CAMPO "Fdo."
B511: Cumplimentados los datos del licitador, vemos un AVISO EN ROJO antes de campo "Fdo."
B547: QUE DESAPARECE CUANDO INTRODUCIMOS EL NOMBRE DEL FIRMANTE
B584: tambien han desaparecido los importes maximo - medio - minimo del detalle de sedes en Desglose 2
B631: y podemos obtener la oferta en PDF para su firma
A634: 4) | B634: IMPRIMIR en pdf (Anx I pg 1 oferta) y TABLAS DESGLOSE 1 + DESGLOSE 2 DE TODOS LOS LOTES OFERTADOS.
B636: Las hojas están ya configuradas para su impresión directa,
B638: al seleccionar en barra de tareas
B649: e imprimir
B700: Previsualizamos la pg 1 de la oferta
B745: y después de imprimirla se procede igual en la/s página/s de cada lote ofertado
B789: MUY IMPORTANTE:
...

Sheet Anx I pg 1 oferta
A2: NOTA IMPORTANTE: ESTE ANEXO I Y TABLA/S DESGLOSE DE PRECIO SE PRESENTARAN FIRMADOS EN FORMATO PDF
J5: “A.T. para redacción de auditorías energéticas y certificados energéticos de SEDES CRTVE "
J7: Expediente n.º S/01533/2025
A9: ANEXO I: MODELO DE PROPOSICIÓN ECONÓMICA
A12: D./Dª | F12: con D.N.I./NIE número
A13: (Nombre y dos apellidos)
A15: actuando en calidad de apoderado de la empresa
F16: (nombre o razón social)
A18: con NIF | C18: y domicilio social en
A20: conforme acredita con Poder.
A22: Se compromete a prestar el servicio con estricta sujeción a todas las condiciones técnicas y legales que se contienen en
A23: las Condiciones Generales de Contratación y de Condiciones Técnicas Particulares que ha examinado y expresamente
A24: acepta, señalando como características de su proposición las siguientes:
A26: A. El precio máximo ofertado, expresado sin IVA u otros impuestos indirectos equivalentes, es
A28: de | B28: =+IF(ISNUMBER($H$48),IF($H$48<=336800,$H$48,"ERROR: no debe superar 336.800,00 "),"error, falta importe TOTAL OFERTA") -> 0 | D28: €
A30: Las proposiciones económicas incluirán un único precio para cada prestación, aplicable en cada uno de los años de ejecución del contrato, incluyendo los años de posibles prórrogas, en su caso.
A32: Las proposiciones económicas no podrán superar superar el importe total para cada uno de los lotes del valor estimado indicado en el PCAP cláusula 3ª.
A34: Será obligatorio cumplimentar todos los campos de los formularios en caso contrario se desestimará oferta.
A36: En caso de discrepancia entre el importe del precio unitario y el importe indicado en las casillas de estimación anual, prevalecerá el importe del precio unitario de cada servicio, y se corregirá el cálculo partiendo del precio unitario indicado.
A38: =+$B$18&"T0_cab" -> T0_cab | B38: LOTE | C38: Descripción | G38: Importe oferta
A39: =+$B$18&"T0_L01" -> T0_L01 | B39: 1 | C39: =+IF(OR('L1 ANDA EXTR Ceuta Melilla'!G18=0,LEN('L1 ANDA EXTR Ceuta Melilla'!G18)=0),"CCAA Andalucía y Extremadura, Ciudades Autónomas de Ceuta y Melilla",IF(OR('L1 ANDA EXTR Ceuta Melilla'!G18<0,+'L1 ANDA EXTR Ceuta Melilla'!G18/'L1 ANDA EXTR Ceuta Melilla'!G18<>1,'L1 ANDA EXTR Ceuta Melilla'!G18<>TRUNC('L1 ANDA EXTR Ceuta Melilla'!G18,2)),"REVISE IMPORTES OFERTADOS EN LOTE 1","CCAA Andalucía y Extremadura, Ciudades Autónomas de Ceuta y Melilla")) -> CCAA Andalucía y Extremadura, Ciudades Autónomas de Ceuta y Melilla | H39: =+IF(OR('L1 ANDA EXTR Ceuta Melilla'!G18=0,LEN('L1 ANDA EXTR Ceuta Melilla'!G18)=0),"",IF(OR('L1 ANDA EXTR Ceuta Melilla'!G18<0,+'L1 ANDA EXTR Ceuta Melilla'!G18/'L1 ANDA EXTR Ceuta Melilla'!G18<>1,'L1 ANDA EXTR Ceuta Melilla'!G18<>TRUNC('L1 ANDA EXTR Ceuta Melilla'!G18,2)),"error imp.lote",IF('L1 ANDA EXTR Ceuta Melilla'!G18=SUM('L1 ANDA EXTR Ceuta Melilla'!G13:G17),+'L1 ANDA EXTR Ceuta Melilla'!G18,"")))
A40: =+$B$18&"T0_L02" -> T0_L02 | B40: 2 | C40: =+IF(OR('L2 ARAG NAVA RIOJ PVASC'!G18=0,LEN('L2 ARAG NAVA RIOJ PVASC'!G18)=0),"CCAA Aragón, Navarra, La Rioja y el País Vasco.",IF(OR('L2 ARAG NAVA RIOJ PVASC'!G18<0,+'L2 ARAG NAVA RIOJ PVASC'!G18/'L2 ARAG NAVA RIOJ PVASC'!G18<>1,'L2 ARAG NAVA RIOJ PVASC'!G18<>TRUNC('L2 ARAG NAVA RIOJ PVASC'!G18,2)),"REVISE IMPORTES OFERTADOS EN LOTE 2","CCAA Aragón, Navarra, La Rioja y el País Vasco.")) -> CCAA Aragón, Navarra, La Rioja y el País Vasco. | H40: =+IF(OR('L2 ARAG NAVA RIOJ PVASC'!G18=0,LEN('L2 ARAG NAVA RIOJ PVASC'!G18)=0),"",IF(OR('L2 ARAG NAVA RIOJ PVASC'!G18<0,+'L2 ARAG NAVA RIOJ PVASC'!G18/'L2 ARAG NAVA RIOJ PVASC'!G18<>1,'L2 ARAG NAVA RIOJ PVASC'!G18<>TRUNC('L2 ARAG NAVA RIOJ PVASC'!G18,2)),"error imp.lote",IF('L2 ARAG NAVA RIOJ PVASC'!G18=SUM('L2 ARAG NAVA RIOJ PVASC'!G13:G17),+'L2 ARAG NAVA RIOJ PVASC'!G18,"")))
A41: =+$B$18&"T0_L03" -> T0_L03 | B41: 3 | C41: =+IF(OR('L3 MADR (Prado Rey)'!G18=0,LEN('L3 MADR (Prado Rey)'!G18)=0),"Comunidad de Madrid, sede Prado del Rey",IF(OR('L3 MADR (Prado Rey)'!G18<0,+'L3 MADR (Prado Rey)'!G18/'L3 MADR (Prado Rey)'!G18<>1,'L3 MADR (Prado Rey)'!G18<>TRUNC('L3 MADR (Prado Rey)'!G18,2)),"REVISE IMPORTES OFERTADOS EN LOTE 3","Comunidad de Madrid, sede Prado del Rey")) -> Comunidad de Madrid, sede Prado del Rey | H41: =+IF(OR('L3 MADR (Prado Rey)'!G18=0,LEN('L3 MADR (Prado Rey)'!G18)=0),"",IF(OR('L3 MADR (Prado Rey)'!G18<0,+'L3 MADR (Prado Rey)'!G18/'L3 MADR (Prado Rey)'!G18<>1,'L3 MADR (Prado Rey)'!G18<>TRUNC('L3 MADR (Prado Rey)'!G18,2)),"error imp.lote",IF('L3 MADR (Prado Rey)'!G18=SUM('L3 MADR (Prado Rey)'!G13:G17),+'L3 MADR (Prado Rey)'!G18,"")))
A42: =+$B$18&"T0_L04" -> T0_L04 | B42: 4 | C42: =+IF(OR('L4 MADR (TorreEspaña y resto)'!G18=0,LEN('L4 MADR (TorreEspaña y resto)'!G18)=0),"Comunidad de Madrid, sede Torrespaña, Dehesa de la Villa (IRTVE), inmuebles sin uso.",IF(OR('L4 MADR (TorreEspaña y resto)'!G18<0,+'L4 MADR (TorreEspaña y resto)'!G18/'L4 MADR (TorreEspaña y resto)'!G18<>1,'L4 MADR (TorreEspaña y resto)'!G18<>TRUNC('L4 MADR (TorreEspaña y resto)'!G18,2)),"REVISE IMPORTES OFERTADOS EN LOTE 4","Comunidad de Madrid, sede Torrespaña, Dehesa de la Villa (IRTVE), inmuebles sin uso.")) -> Comunidad de Madrid, sede Torrespaña, Dehesa de la Villa (IRTVE), inmuebles sin uso. | H42: =+IF(OR('L4 MADR (TorreEspaña y resto)'!G18=0,LEN('L4 MADR (TorreEspaña y resto)'!G18)=0),"",IF(OR('L4 MADR (TorreEspaña y resto)'!G18<0,+'L4 MADR (TorreEspaña y resto)'!G18/'L4 MADR (TorreEspaña y resto)'!G18<>1,'L4 MADR (TorreEspaña y resto)'!G18<>TRUNC('L4 MADR (TorreEspaña y resto)'!G18,2)),"error imp.lote",IF('L4 MADR (TorreEspaña y resto)'!G18=SUM('L4 MADR (TorreEspaña y resto)'!G13:G17),+'L4 MADR (TorreEspaña y resto)'!G18,"")))
A43: =+$B$18&"T0_L05" -> T0_L05 | B43: 5 | C43: =+IF(OR('L5 VALE CMAN BALE MURC'!G18=0,LEN('L5 VALE CMAN BALE MURC'!G18)=0),"CCAA Valencia, Castilla-La Mancha, Illes Balears y Murcia.",IF(OR('L5 VALE CMAN BALE MURC'!G18<0,+'L5 VALE CMAN BALE MURC'!G18/'L5 VALE CMAN BALE MURC'!G18<>1,'L5 VALE CMAN BALE MURC'!G18<>TRUNC('L5 VALE CMAN BALE MURC'!G18,2)),"REVISE IMPORTES OFERTADOS EN LOTE 5","CCAA Valencia, Castilla-La Mancha, Illes Balears y Murcia.")) -> CCAA Valencia, Castilla-La Mancha, Illes Balears y Murcia. | H43: =+IF(OR('L5 VALE CMAN BALE MURC'!G18=0,LEN('L5 VALE CMAN BALE MURC'!G18)=0),"",IF(OR('L5 VALE CMAN BALE MURC'!G18<0,+'L5 VALE CMAN BALE MURC'!G18/'L5 VALE CMAN BALE MURC'!G18<>1,'L5 VALE CMAN BALE MURC'!G18<>TRUNC('L5 VALE CMAN BALE MURC'!G18,2)),"error imp.lote",IF('L5 VALE CMAN BALE MURC'!G18=SUM('L5 VALE CMAN BALE MURC'!G13:G17),+'L5 VALE CMAN BALE MURC'!G18,"")))
A44: =+$B$18&"T0_L06" -> T0_L06 | B44: 6 | C44: =+IF(OR('L6 CANT CLEON ASTU'!G18=0,LEN('L6 CANT CLEON ASTU'!G18)=0),"CCAA Cantabria, Castilla-León y Asturias.",IF(OR('L6 CANT CLEON ASTU'!G18<0,+'L6 CANT CLEON ASTU'!G18/'L6 CANT CLEON ASTU'!G18<>1,'L6 CANT CLEON ASTU'!G18<>TRUNC('L6 CANT CLEON ASTU'!G18,2)),"REVISE IMPORTES OFERTADOS EN LOTE 6","CCAA Cantabria, Castilla-León y Asturias.")) -> CCAA Cantabria, Castilla-León y Asturias. | H44: =+IF(OR('L6 CANT CLEON ASTU'!G18=0,LEN('L6 CANT CLEON ASTU'!G18)=0),"",IF(OR('L6 CANT CLEON ASTU'!G18<0,+'L6 CANT CLEON ASTU'!G18/'L6 CANT CLEON ASTU'!G18<>1,'L6 CANT CLEON ASTU'!G18<>TRUNC('L6 CANT CLEON ASTU'!G18,2)),"error imp.lote",IF('L6 CANT CLEON ASTU'!G18=SUM('L6 CANT CLEON ASTU'!G13:G17),+'L6 CANT CLEON ASTU'!G18,"")))
A45: =+$B$18&"T0_L07" -> T0_L07 | B45: 7 | C45: =+IF(OR('L7 CATAL'!G18=0,LEN('L7 CATAL'!G18)=0),"Comunidad Autónoma de Cataluña.",IF(OR('L7 CATAL'!G18<0,+'L7 CATAL'!G18/'L7 CATAL'!G18<>1,'L7 CATAL'!G18<>TRUNC('L7 CATAL'!G18,2)),"REVISE IMPORTES OFERTADOS EN LOTE 7","Comunidad Autónoma de Cataluña.")) -> Comunidad Autónoma de Cataluña. | H45: =+IF(OR('L7 CATAL'!G18=0,LEN('L7 CATAL'!G18)=0),"",IF(OR('L7 CATAL'!G18<0,+'L7 CATAL'!G18/'L7 CATAL'!G18<>1,'L7 CATAL'!G18<>TRUNC('L7 CATAL'!G18,2)),"error imp.lote",IF('L7 CATAL'!G18=SUM('L7 CATAL'!G13:G17),+'L7 CATAL'!G18,"")))
A46: =+$B$18&"T0_L08" -> T0_L08 | B46: 8 | C46: =+IF(OR('L8 GALIC'!G18=0,LEN('L8 GALIC'!G18)=0),"Comunidad Autónoma de Galicia.",IF(OR('L8 GALIC'!G18<0,+'L8 GALIC'!G18/'L8 GALIC'!G18<>1,'L8 GALIC'!G18<>TRUNC('L8 GALIC'!G18,2)),"REVISE IMPORTES OFERTADOS EN LOTE 8","Comunidad Autónoma de Galicia.")) -> Comunidad Autónoma de Galicia. | H46: =+IF(OR('L8 GALIC'!G18=0,LEN('L8 GALIC'!G18)=0),"",IF(OR('L8 GALIC'!G18<0,+'L8 GALIC'!G18/'L8 GALIC'!G18<>1,'L8 GALIC'!G18<>TRUNC('L8 GALIC'!G18,2)),"error imp.lote",IF('L8 GALIC'!G18=SUM('L8 GALIC'!G13:G17),+'L8 GALIC'!G18,"")))
A47: =+$B$18&"T0_L09" -> T0_L09 | B47: 9 | C47: =+IF(OR('L9 CANAR'!G18=0,LEN('L9 CANAR'!G18)=0),"Comunidad Autónoma de Canarias.",IF(OR('L9 CANAR'!G18<0,+'L9 CANAR'!G18/'L9 CANAR'!G18<>1,'L9 CANAR'!G18<>TRUNC('L9 CANAR'!G18,2)),"REVISE IMPORTES OFERTADOS EN LOTE 9","Comunidad Autónoma de Canarias.")) -> Comunidad Autónoma de Canarias. | H47: =+IF(OR('L9 CANAR'!G18=0,LEN('L9 CANAR'!G18)=0),"",IF(OR('L9 CANAR'!G18<0,+'L9 CANAR'!G18/'L9 CANAR'!G18<>1,'L9 CANAR'!G18<>TRUNC('L9 CANAR'!G18,2)),"error imp.lote",IF('L9 CANAR'!G18=SUM('L9 CANAR'!G13:G17),+'L9 CANAR'!G18,"")))
A48: =+$B$18&"T0_TOTOFE" -> T0_TOTOFE | E48: TOTAL OFERTA | H48: =SUM(H39:H47) -> 0
A50: B. Desglose Precio
E52: (tabla/s desglose/s precio por lote se incluye/n en página/s siguiente/s)
A55: =+IF(LEN(C56)=0,"SOLO DEBE COMPLETARSE CAMPO Fdo CUANDO HAYA TERMINADO DE OFERTAR DESGLOSE IMPORTE LOTES/SEDES","") -> SOLO DEBE COMPLETARSE CAMPO Fdo CUANDO HAYA TERMINADO DE OFERTAR DESGLOSE IMPORTE LOTES/SEDES
B56: Fdo.:
A62: Indicar importe anual de los lotes para los que se presenta oferta incluyendo, en cada caso, el desglose de precios del apartado B. Esta información solo puede completarse automáticamente cumplimentando el desglose de precios de las CCAA o Ciudades Autonómas incluidas en el lote a ofertar.

Sheet L1 ANDA EXTR Ceuta Melilla
A1: __0a
A2: __0a | B2: NOTA IMPORTANTE: ESTE DESGLOSE SE PRESENTARA FIRMADO EN FORMATO PDF
A3: __0a
A4: __0a
A5: __0a | H5: “A.T. para redacción de auditorías energéticas
A6: __0a | H6: y certificados energéticos de SEDES CRTVE"
A7: __0a | H7: Expediente n.º S/01533/2025
A8: __0a | B8: ANEXO I: DESGLOSE PRECIO LOTE 1
A9: __0a | B9: Desglose 1
A10: __0a | B10: S-01533-2025 - A.T. para redacción de auditorías energéticas y certificados energéticos de SEDES CRTVE
A11: __0a | B11: =CONCATENATE("Lote ",RIGHT(B8,2)," : ",VLOOKUP(_xlfn.NUMBERVALUE(RIGHT(B8,1)),'RESUMEN LOTES'!B:C,2,FALSE)) -> Lote 1 : CCAA Andalucía y Extremadura, Ciudades Autónomas de Ceuta y Melilla
A12: =+'Anx I pg 1 oferta'!$B$18&"T1_L01_cab" -> T1_L01_cab | B12: ID | C12: ACTUACIONES BÁSICAS | G12: IMPORTE | H12: %
A13: =+'Anx I pg 1 oferta'!$B$18&"T1_L01_DAB1" -> T1_L01_DAB1 | B13: A.B-01 | C13: =+IFERROR(IF(OR($G$18=0,LEN($G$18)=0),"Lote NO ofertado, introduzca TOTAL OFERTA LOTE",IF(OR($G$18<0,+$G$18/$G$18<>1),"Total oferta Lote incorrecto (no numérico o negativo)",IF($G$18<>TRUNC($G$18,2),"ERROR: TOTAL OFERTA LOTE más de 2 decimales",IF(VLOOKUP(1,'RESUMEN LOTES'!B7:E15,4,FALSE)<G18,"Importe ofertado supera max. € "&VLOOKUP(1,'RESUMEN LOTES'!B7:E15,4,FALSE),IF(COUNTIFS($M$29:$M$66,"ok")<>18,"Debe revisar Desglose 2 IMPORTE ofertado POR SEDE","Recopilación de información y toma de datos"))))),"TOTAL OFERTA LOTE incorrecto, no es un dato numérico") -> Lote NO ofertado, introduzca TOTAL OFERTA LOTE | G13: =+IF(OR($G$18=0,LEN($G$18)=0),"¿?",IF(COUNTIFS($M$29:$M$66,"ok")<>18,"¿?",+IF(C13="Debe revisar Desglose 2 IMPORTE ofertado POR SEDE","¿?",+SUMIFS($J$78:$J$169,$H$78:$H$169,C13)))) -> ¿? | H13: 0.15
A14: =+'Anx I pg 1 oferta'!$B$18&"T1_L01_DAB2" -> T1_L01_DAB2 | B14: A.B-02 | C14: =+IFERROR(IF(OR($G$18=0,LEN($G$18)=0),"Lote NO ofertado, introduzca TOTAL OFERTA LOTE",IF(OR($G$18<0,+$G$18/$G$18<>1),"Total oferta Lote incorrecto (no numérico o negativo)",IF($G$18<>TRUNC($G$18,2),"ERROR: TOTAL OFERTA LOTE más de 2 decimales",IF(VLOOKUP(1,'RESUMEN LOTES'!B7:E15,4,FALSE)<G18,"Importe ofertado supera max. € "&VLOOKUP(1,'RESUMEN LOTES'!B7:E15,4,FALSE),IF(COUNTIFS($M$29:$M$66,"ok")<>18,"Debe revisar Desglose 2 IMPORTE ofertado POR SEDE","Análisis y evaluación, determinación del balance de energía"))))),"TOTAL OFERTA LOTE incorrecto, no es un dato numérico") -> Lote NO ofertado, introduzca TOTAL OFERTA LOTE | G14: =+IF(OR($G$18=0,LEN($G$18)=0),"¿?",IF(COUNTIFS($M$29:$M$66,"ok")<>18,"¿?",+IF(C14="Debe revisar Desglose 2 IMPORTE ofertado POR SEDE","¿?",+SUMIFS($J$78:$J$169,$H$78:$H$169,C14)))) -> ¿? | H14: 0.1
A15: =+'Anx I pg 1 oferta'!$B$18&"T1_L01_DAB3" -> T1_L01_DAB3 | B15: A.B-03 | C15: =+IFERROR(IF(OR($G$18=0,LEN($G$18)=0),"Lote NO ofertado, introduzca TOTAL OFERTA LOTE",IF(OR($G$18<0,+$G$18/$G$18<>1),"Total oferta Lote incorrecto (no numérico o negativo)",IF($G$18<>TRUNC($G$18,2),"ERROR: TOTAL OFERTA LOTE más de 2 decimales",IF(VLOOKUP(1,'RESUMEN LOTES'!B7:E15,4,FALSE)<G18,"Importe ofertado supera max. € "&VLOOKUP(1,'RESUMEN LOTES'!B7:E15,4,FALSE),IF(COUNTIFS($M$29:$M$66,"ok")<>18,"Debe revisar Desglose 2 IMPORTE ofertado POR SEDE","Redacción del Informe Final"))))),"TOTAL OFERTA LOTE incorrecto, no es un dato numérico") -> Lote NO ofertado, introduzca TOTAL OFERTA LOTE | G15: =+IF(OR($G$18=0,LEN($G$18)=0),"¿?",IF(COUNTIFS($M$29:$M$66,"ok")<>18,"¿?",+IF(C15="Debe revisar Desglose 2 IMPORTE ofertado POR SEDE","¿?",+SUMIFS($J$78:$J$169,$H$78:$H$169,C15)))) -> ¿? | H15: 0.2
A16: =+'Anx I pg 1 oferta'!$B$18&"T1_L01_DAB4" -> T1_L01_DAB4 | B16: A.B-04 | C16: =+IFERROR(IF(OR($G$18=0,LEN($G$18)=0),"Lote NO ofertado, introduzca TOTAL OFERTA LOTE",IF(OR($G$18<0,+$G$18/$G$18<>1),"Total oferta Lote incorrecto (no numérico o negativo)",IF($G$18<>TRUNC($G$18,2),"ERROR: TOTAL OFERTA LOTE más de 2 decimales",IF(VLOOKUP(1,'RESUMEN LOTES'!B7:E15,4,FALSE)<G18,"Importe ofertado supera max. € "&VLOOKUP(1,'RESUMEN LOTES'!B7:E15,4,FALSE),IF(COUNTIFS($M$29:$M$66,"ok")<>18,"Debe revisar Desglose 2 IMPORTE ofertado POR SEDE","Aportación de ficheros ofimáticos soporte del Informe Final"))))),"TOTAL OFERTA LOTE incorrecto, no es un dato numérico") -> Lote NO ofertado, introduzca TOTAL OFERTA LOTE | G16: =+IF(OR($G$18=0,LEN($G$18)=0),"¿?",IF(COUNTIFS($M$29:$M$66,"ok")<>18,"¿?",+IF(C16="Debe revisar Desglose 2 IMPORTE ofertado POR SEDE","¿?",+SUMIFS($J$78:$J$169,$H$78:$H$169,C16)))) -> ¿? | H16: 0.05
A17: =+'Anx I pg 1 oferta'!$B$18&"T1_L01_DAB5" -> T1_L01_DAB5 | B17: A.B-05 | C17: =+IFERROR(IF(OR($G$18=0,LEN($G$18)=0),"Lote NO ofertado, introduzca TOTAL OFERTA LOTE",IF(OR($G$18<0,+$G$18/$G$18<>1),"Total oferta Lote incorrecto (no numérico o negativo)",IF($G$18<>TRUNC($G$18,2),"ERROR: TOTAL OFERTA LOTE más de 2 decimales",IF(VLOOKUP(1,'RESUMEN LOTES'!B7:E15,4,FALSE)<G18,"Importe ofertado supera max. € "&VLOOKUP(1,'RESUMEN LOTES'!B7:E15,4,FALSE),IF(COUNTIFS($M$29:$M$66,"ok")<>18,"Debe revisar Desglose 2 IMPORTE ofertado POR SEDE","Registro en la Comunidad Autónoma o en el Ministerio para la Transición Ecológica del Informe Final"))))),"TOTAL OFERTA LOTE incorrecto, no es un dato numérico") -> Lote NO ofertado, introduzca TOTAL OFERTA LOTE | G17: =+IF(OR($G$18=0,LEN($G$18)=0),"¿?",IF(COUNTIFS($M$29:$M$66,"ok")<>18,"¿?",+IF(C17="Debe revisar Desglose 2 IMPORTE ofertado POR SEDE","¿?",+SUMIFS($J$78:$J$169,$H$78:$H$169,"Registro en la Comunidad Autónoma o en el MITECO del Informe Final")))) -> ¿? | H17: 0.5 | M17: chck total
A18: =+'Anx I pg 1 oferta'!$B$18&"T1_L01_TOT" -> T1_L01_TOT | B18: . | F18: TOTAL OFERTA LOTE : | G18: 0 | N18: =+SUM(G13:G17) -> 0
A19: __0a
A20: __0a | C20: Fdo.:
A21: __0a
A22: __0a | B22: Desglose 2
A23: __0a
A24: __0a | B24: DESGLOSE DE IMPORTES OFERTADOS POR SEDE
A25: __0a | J25: =+COUNTIFS(M29:M37,"ok") -> 0
A26: =+'Anx I pg 1 oferta'!$B$18&"T2_L01_cab0a" -> T2_L01_cab0a | B26: LOTES | C26: SEDES INMUEBLES | E26: trabajo | F26: RELACIÓN % s/LOTE | G26: % ofertado s/Lote (4 decim.) | H26: IMPORTE ofertado POR SEDE | I26: TOTAL OFERTADO POR LOTE | M26: CHECK DETALLE LOTE POR SEDE
A27: =+'Anx I pg 1 oferta'!$B$18&"T2_L01_cab0b" -> T2_L01_cab0b | B27: LOTE-01 | C27: (plazo de 4 meses) | F27: 1
A28: =+'Anx I pg 1 oferta'!$B$18&"T2_L01_cab1(CA)" -> T2_L01_cab1(CA) | B28: . | C28: ANDALUCÍA | I28: =+G18 -> 0
A29: =+'Anx I pg 1 oferta'!$B$18&"T2_L01_inst_"&B29 -> T2_L01_inst_L01-01 | B29: L01-01 | C29: =+VLOOKUP(B29,'DATOS CENTROS'!B:F,4,FALSE) -> C.E. OM ROQUETAS | E29: =+VLOOKUP(B29,'DATOS CENTROS'!B:F,3,FALSE) -> A + C | F29: =+VLOOKUP(B29,'DATOS CENTROS'!B:F,5,FALSE) -> 0.086 | G29: =+IF(OR($G$18=0,LEN($G$18)=0),"",+ROUND(((H29)/$G$18),6)) | M29: =+IFERROR(IF(N29<>TRUNC(N29,2),".+ de 2 decim.",IF(COUNTA($H$29:$H$66)<18,18-COUNTA($H$29:$H$66)&" Items ptes.ofertar ",IF(AND($G$18>0,$H$39>0,(N29)/(N29)=1),"ok","mal"))),"¿max.min.ofertado?") -> ¿max.min.ofertado? | N29: =+IF(OR($G$18=0,LEN($G$18)=0),"",IF(OR($G$18<0,+$G$18/$G$18<>1),"Total oferta Lote incorrecto (no numérico o negativo)",IF(AND($G$18>0,$H$39>0,H29<=0),"¿importe ofertado?",IF(AND($G$18>0,$H$39<0),"acum.of.oferta sede >oferta lote",IF(AND($G$18>0,$H$39<>0,H29<VLOOKUP(B29,'% admitidos'!A:M,11,FALSE)),+"min."&VLOOKUP(B29,'% admitidos'!A:M,11,FALSE),IF(AND($G$18>0,$H$39>0,H29>VLOOKUP(B29,'% admitidos'!A:M,13,FALSE)),+"max."&VLOOKUP(B29,'% admitidos'!A:M,13,FALSE),+H29))))))
A30: __0b | B30: . | C30: =+IF(LEN('Anx I pg 1 oferta'!$C$56)>0,"","min. "&VLOOKUP(B29,'% admitidos'!A:M,11,FALSE)&" - med. "&VLOOKUP(B29,'% admitidos'!A:M,12,FALSE)&" - max. "&VLOOKUP(B29,'% admitidos'!A:M,13,FALSE)) -> min. 0 - med. 0 - max. 0
A31: =+'Anx I pg 1 oferta'!$B$18&"T2_L01_inst_"&B31 -> T2_L01_inst_L01-02 | B31: L01-02 | C31: =+VLOOKUP(B31,'DATOS CENTROS'!B:F,4,FALSE) -> C.E. OM CAMPANILLAS | E31: =+VLOOKUP(B31,'DATOS CENTROS'!B:F,3,FALSE) -> A + C | F31: =+VLOOKUP(B31,'DATOS CENTROS'!B:F,5,FALSE) -> 0.071 | G31: =+IF(OR($G$18=0,LEN($G$18)=0),"",+ROUND(((H31)/$G$18),6)) | M31: =+IFERROR(IF(N31<>TRUNC(N31,2),".+ de 2 decim.",IF(COUNTA($H$29:$H$66)<18,18-COUNTA($H$29:$H$66)&" Items ptes.ofertar ",IF(AND($G$18>0,$H$39>0,(N31)/(N31)=1),"ok","mal"))),"¿max.min.ofertado?") -> ¿max.min.ofertado? | N31: =+IF(OR($G$18=0,LEN($G$18)=0),"",IF(OR($G$18<0,+$G$18/$G$18<>1),"Total oferta Lote incorrecto (no numérico o negativo)",IF(AND($G$18>0,$H$39>0,H31<=0),"¿importe ofertado?",IF(AND($G$18>0,$H$39<0),"acum.of.oferta sede >oferta lote",IF(AND($G$18>0,$H$39>0,H31<VLOOKUP(B31,'% admitidos'!A:M,11,FALSE)),+"min."&VLOOKUP(B31,'% admitidos'!A:M,11,FALSE),IF(AND($G$18>0,$H$39>0,H31>VLOOKUP(B31,'% admitidos'!A:M,13,FALSE)),+"max."&VLOOKUP(B31,'% admitidos'!A:M,13,FALSE),+H31))))))
A32: __0b | B32: . | C32: =+IF(LEN('Anx I pg 1 oferta'!$C$56)>0,"","min. "&VLOOKUP(B31,'% admitidos'!A:M,11,FALSE)&" - med. "&VLOOKUP(B31,'% admitidos'!A:M,12,FALSE)&" - max. "&VLOOKUP(B31,'% admitidos'!A:M,13,FALSE)) -> min. 0 - med. 0 - max. 0
A33: =+'Anx I pg 1 oferta'!$B$18&"T2_L01_inst_"&B33 -> T2_L01_inst_L01-03 | B33: L01-03 | C33: =+VLOOKUP(B33,'DATOS CENTROS'!B:F,4,FALSE) -> U.I. RTVE Málaga | E33: =+VLOOKUP(B33,'DATOS CENTROS'!B:F,3,FALSE) -> A + C | F33: =+VLOOKUP(B33,'DATOS CENTROS'!B:F,5,FALSE) -> 0.051 | G33: =+IF(OR($G$18=0,LEN($G$18)=0),"",+ROUND(((H33)/$G$18),6)) | M33: =+IFERROR(IF(N33<>TRUNC(N33,2),".+ de 2 decim.",IF(COUNTA($H$29:$H$66)<18,18-COUNTA($H$29:$H$66)&" Items ptes.ofertar ",IF(AND($G$18>0,$H$39>0,(N33)/(N33)=1),"ok","mal"))),"¿max.min.ofertado?") -> ¿max.min.ofertado? | N33: =+IF(OR($G$18=0,LEN($G$18)=0),"",IF(OR($G$18<0,+$G$18/$G$18<>1),"Total oferta Lote incorrecto (no numérico o negativo)",IF(AND($G$18>0,$H$39>0,H33<=0),"¿importe ofertado?",IF(AND($G$18>0,$H$39<0),"acum.of.oferta sede >oferta lote",IF(AND($G$18>0,$H$39>0,H33<VLOOKUP(B33,'% admitidos'!A:M,11,FALSE)),+"min."&VLOOKUP(B33,'% admitidos'!A:M,11,FALSE),IF(AND($G$18>0,$H$39>0,H33>VLOOKUP(B33,'% admitidos'!A:M,13,FALSE)),+"max."&VLOOKUP(B33,'% admitidos'!A:M,13,FALSE),+H33))))))
A34: __0b | B34: . | C34: =+IF(LEN('Anx I pg 1 oferta'!$C$56)>0,"","min. "&VLOOKUP(B33,'% admitidos'!A:M,11,FALSE)&" - med. "&VLOOKUP(B33,'% admitidos'!A:M,12,FALSE)&" - max. "&VLOOKUP(B33,'% admitidos'!A:M,13,FALSE)) -> min. 0 - med. 0 - max. 0
A35: =+'Anx I pg 1 oferta'!$B$18&"T2_L01_inst_"&B35 -> T2_L01_inst_L01-04 | B35: L01-04 | C35: =+VLOOKUP(B35,'DATOS CENTROS'!B:F,4,FALSE) -> C.E. OM LA CORCHUELA | E35: =+VLOOKUP(B35,'DATOS CENTROS'!B:F,3,FALSE) -> A + C | F35: =+VLOOKUP(B35,'DATOS CENTROS'!B:F,5,FALSE) -> 0.061 | G35: =+IF(OR($G$18=0,LEN($G$18)=0),"",+ROUND(((H35)/$G$18),6)) | M35: =+IFERROR(IF(N35<>TRUNC(N35,2),".+ de 2 decim.",IF(COUNTA($H$29:$H$66)<18,18-COUNTA($H$29:$H$66)&" Items ptes.ofertar ",IF(AND($G$18>0,$H$39>0,(N35)/(N35)=1),"ok","mal"))),"¿max.min.ofertado?") -> ¿max.min.ofertado? | N35: =+IF(OR($G$18=0,LEN($G$18)=0),"",IF(OR($G$18<0,+$G$18/$G$18<>1),"Total oferta Lote incorrecto (no numérico o negativo)",IF(AND($G$18>0,$H$39>0,H35<=0),"¿importe ofertado?",IF(AND($G$18>0,$H$39<0),"acum.of.oferta sede >oferta lote",IF(AND($G$18>0,$H$39>0,H35<VLOOKUP(B35,'% admitidos'!A:M,11,FALSE)),+"min."&VLOOKUP(B35,'% admitidos'!A:M,11,FALSE),IF(AND($G$18>0,$H$39>0,H35>VLOOKUP(B35,'% admitidos'!A:M,13,FALSE)),+"max."&VLOOKUP(B35,'% admitidos'!A:M,13,FALSE),+H35))))))
A36: __0b | B36: . | C36: =+IF(LEN('Anx I pg 1 oferta'!$C$56)>0,"","min. "&VLOOKUP(B35,'% admitidos'!A:M,11,FALSE)&" - med. "&VLOOKUP(B35,'% admitidos'!A:M,12,FALSE)&" - max. "&VLOOKUP(B35,'% admitidos'!A:M,13,FALSE)) -> min. 0 - med. 0 - max. 0
A37: =+'Anx I pg 1 oferta'!$B$18&"T2_L01_inst_"&B37 -> T2_L01_inst_L01-05 | B37: L01-05 | C37: =+VLOOKUP(B37,'DATOS CENTROS'!B:F,4,FALSE) -> C.E. OM LOS PALACIOS / DOS HERMANAS | E37: =+VLOOKUP(B37,'DATOS CENTROS'!B:F,3,FALSE) -> A + C | F37: =+VLOOKUP(B37,'DATOS CENTROS'!B:F,5,FALSE) -> 0.132 | G37: =+IF(OR($G$18=0,LEN($G$18)=0),"",+ROUND(((H37)/$G$18),6)) | M37: =+IFERROR(IF(N37<>TRUNC(N37,2),".+ de 2 decim.",IF(COUNTA($H$29:$H$66)<18,18-COUNTA($H$29:$H$66)&" Items ptes.ofertar ",IF(AND($G$18>0,$H$39>0,(N37)/(N37)=1),"ok","mal"))),"¿max.min.ofertado?") -> ¿max.min.ofertado? | N37: =+IF(OR($G$18=0,LEN($G$18)=0),"",IF(OR($G$18<0,+$G$18/$G$18<>1),"Total oferta Lote incorrecto (no numérico o negativo)",IF(AND($G$18>0,$H$39>0,H37<=0),"¿importe ofertado?",IF(AND($G$18>0,$H$39<0),"acum.of.oferta sede >oferta lote",IF(AND($G$18>0,$H$39>0,H37<VLOOKUP(B37,'% admitidos'!A:M,11,FALSE)),+"min."&VLOOKUP(B37,'% admitidos'!A:M,11,FALSE),IF(AND($G$18>0,$H$39>0,H37>VLOOKUP(B37,'% admitidos'!A:M,13,FALSE)),+"max."&+ROUND(VLOOKUP(B37,'% admitidos'!A:M,13,FALSE),4),+H37))))))
A38: __0b | B38: . | C38: =+IF(LEN('Anx I pg 1 oferta'!$C$56)>0,"","min. "&VLOOKUP(B37,'% admitidos'!A:M,11,FALSE)&" - med. "&VLOOKUP(B37,'% admitidos'!A:M,12,FALSE)&" - max. "&+ROUND(VLOOKUP(B37,'% admitidos'!A:M,13,FALSE),6)) -> min. 0 - med. 0 - max. 0
A39: =+'Anx I pg 1 oferta'!$B$18&"T2_L01_inst_"&B39 -> T2_L01_inst_L01-06 | B39: L01-06 | C39: =+VLOOKUP(B39,'DATOS CENTROS'!B:F,4,FALSE) -> C.T. RTVE Andalucía (Sevilla) | E39: =+VLOOKUP(B39,'DATOS CENTROS'!B:F,3,FALSE) -> A + C | F39: =+VLOOKUP(B39,'DATOS CENTROS'!B:F,5,FALSE) -> 0.17 | G39: =+IF(OR($G$18=0,LEN($G$18)=0),"",1-SUM(G29:G38)-SUM(G41:G66)) | H39: =+IF(OR($G$18=0,+LEN($G$18)=0),"",+$G$18-SUM(H29:H38)-SUM(H41:H66)) | M39: =+IFERROR(IF(COUNTA($H$29:$H$66)<18,18-COUNTA($H$29:$H$66)&" Items ptes.ofertar ",IF(AND($G$18>0,$H$37>0,(N39)/(N39)=1),"ok","mal")),"¿max.min.ofertado?") -> 17 Items ptes.ofertar | N39: =+IF(OR($G$18=0,LEN($G$18)=0),"",IF(OR($G$18<0,+$G$18/$G$18<>1),"Total oferta Lote incorrecto (no numérico o negativo)",IF(AND($G$18>0,$H$39>0,H39<=0),"¿importe ofertado?",IF(AND($G$18>0,$H$39<0),"acum.of.oferta sede >oferta lote",IF(AND($G$18>0,$H$39<>0,H39<VLOOKUP(B39,'% admitidos'!A:M,13,FALSE)),+"MIN."&VLOOKUP(B39,'% admitidos'!A:M,13,FALSE),IF(AND($G$18>0,$H$39>0,H39>VLOOKUP(B39,'% admitidos'!A:M,11,FALSE)),+"MAX."&VLOOKUP(B39,'% admitidos'!A:M,11,FALSE),+H39))))))
A40: __0b | B40: . | C40: =+IF(LEN('Anx I pg 1 oferta'!$C$56)>0,"","MAX. "&VLOOKUP(B39,'% admitidos'!A:M,11,FALSE)&" - med. "&VLOOKUP(B39,'% admitidos'!A:M,12,FALSE)&" - MIN. "&VLOOKUP(B39,'% admitidos'!A:M,13,FALSE)) -> MAX. 0 - med. 0 - MIN. 0
...

Sheet L2 ARAG NAVA RIOJ PVASC
A1: __0a
A2: __0a | B2: NOTA IMPORTANTE: ESTE DESGLOSE SE PRESENTARA FIRMADO EN FORMATO PDF
A3: __0a
A4: __0a
A5: __0a | H5: “A.T. para redacción de auditorías energéticas
A6: __0a | H6: y certificados energéticos de SEDES CRTVE"
A7: __0a | H7: Expediente n.º S/01533/2025
A8: __0a | B8: ANEXO I: DESGLOSE PRECIO LOTE 2
A9: __0a | B9: Desglose 1
A10: __0a | B10: S-01533-2025 - A.T. para redacción de auditorías energéticas y certificados energéticos de SEDES CRTVE
A11: __0a | B11: =CONCATENATE("Lote ",RIGHT(B8,2)," : ",VLOOKUP(_xlfn.NUMBERVALUE(RIGHT(B8,1)),'RESUMEN LOTES'!B:C,2,FALSE)) -> Lote 2 : CCAA Aragón, Navarra, La Rioja y el País Vasco.
A12: =+'Anx I pg 1 oferta'!$B$18&"T1_L02_cab" -> T1_L02_cab | B12: ID | C12: ACTUACIONES BÁSICAS | G12: IMPORTE | H12: %
A13: =+'Anx I pg 1 oferta'!$B$18&"T1_L02_DAB1" -> T1_L02_DAB1 | B13: A.B-01 | C13: =+IFERROR(IF(OR($G$18=0,LEN($G$18)=0),"Lote NO ofertado, introduzca TOTAL OFERTA LOTE",IF(OR($G$18<0,+$G$18/$G$18<>1),"Total oferta Lote incorrecto (no numérico o negativo)",IF($G$18<>TRUNC($G$18,2),"ERROR: TOTAL OFERTA LOTE más de 2 decimales",IF(VLOOKUP(2,'RESUMEN LOTES'!B7:E15,4,FALSE)<G18,"Importe ofertado supera max. € "&VLOOKUP(2,'RESUMEN LOTES'!B7:E15,4,FALSE),IF(COUNTIFS($M$29:$M$67,"ok")<>15,"Debe revisar Desglose 2 IMPORTE ofertado POR SEDE","Recopilación de información y toma de datos"))))),"TOTAL OFERTA LOTE incorrecto, no es un dato numérico") -> Lote NO ofertado, introduzca TOTAL OFERTA LOTE | G13: =+IF(OR($G$18=0,LEN($G$18)=0),"¿?",IF(COUNTIFS($M$29:$M$67,"ok")<>15,"¿?",+IF(C13="Debe revisar Desglose 2 IMPORTE ofertado POR SEDE","¿?",+SUMIFS($J$79:$J$171,$H$79:$H$171,C13)))) -> ¿? | H13: 0.15
A14: =+'Anx I pg 1 oferta'!$B$18&"T1_L02_DAB2" -> T1_L02_DAB2 | B14: A.B-02 | C14: =+IFERROR(IF(OR($G$18=0,LEN($G$18)=0),"Lote NO ofertado, introduzca TOTAL OFERTA LOTE",IF(OR($G$18<0,+$G$18/$G$18<>1),"Total oferta Lote incorrecto (no numérico o negativo)",IF($G$18<>TRUNC($G$18,2),"ERROR: TOTAL OFERTA LOTE más de 2 decimales",IF(VLOOKUP(2,'RESUMEN LOTES'!B7:E15,4,FALSE)<G18,"Importe ofertado supera max. € "&VLOOKUP(2,'RESUMEN LOTES'!B7:E15,4,FALSE),IF(COUNTIFS($M$29:$M$67,"ok")<>15,"Debe revisar Desglose 2 IMPORTE ofertado POR SEDE","Análisis y evaluación, determinación del balance de energía"))))),"TOTAL OFERTA LOTE incorrecto, no es un dato numérico") -> Lote NO ofertado, introduzca TOTAL OFERTA LOTE | G14: =+IF(OR($G$18=0,LEN($G$18)=0),"¿?",IF(COUNTIFS($M$29:$M$67,"ok")<>15,"¿?",+IF(C14="Debe revisar Desglose 2 IMPORTE ofertado POR SEDE","¿?",+SUMIFS($J$79:$J$171,$H$79:$H$171,C14)))) -> ¿? | H14: 0.1
A15: =+'Anx I pg 1 oferta'!$B$18&"T1_L02_DAB3" -> T1_L02_DAB3 | B15: A.B-03 | C15: =+IFERROR(IF(OR($G$18=0,LEN($G$18)=0),"Lote NO ofertado, introduzca TOTAL OFERTA LOTE",IF(OR($G$18<0,+$G$18/$G$18<>1),"Total oferta Lote incorrecto (no numérico o negativo)",IF($G$18<>TRUNC($G$18,2),"ERROR: TOTAL OFERTA LOTE más de 2 decimales",IF(VLOOKUP(2,'RESUMEN LOTES'!B7:E15,4,FALSE)<G18,"Importe ofertado supera max. € "&VLOOKUP(2,'RESUMEN LOTES'!B7:E15,4,FALSE),IF(COUNTIFS($M$29:$M$67,"ok")<>15,"Debe revisar Desglose 2 IMPORTE ofertado POR SEDE","Redacción del Informe Final"))))),"TOTAL OFERTA LOTE incorrecto, no es un dato numérico") -> Lote NO ofertado, introduzca TOTAL OFERTA LOTE | G15: =+IF(OR($G$18=0,LEN($G$18)=0),"¿?",IF(COUNTIFS($M$29:$M$67,"ok")<>15,"¿?",+IF(C15="Debe revisar Desglose 2 IMPORTE ofertado POR SEDE","¿?",+SUMIFS($J$79:$J$171,$H$79:$H$171,C15)))) -> ¿? | H15: 0.2
A16: =+'Anx I pg 1 oferta'!$B$18&"T1_L02_DAB4" -> T1_L02_DAB4 | B16: A.B-04 | C16: =+IFERROR(IF(OR($G$18=0,LEN($G$18)=0),"Lote NO ofertado, introduzca TOTAL OFERTA LOTE",IF(OR($G$18<0,+$G$18/$G$18<>1),"Total oferta Lote incorrecto (no numérico o negativo)",IF($G$18<>TRUNC($G$18,2),"ERROR: TOTAL OFERTA LOTE más de 2 decimales",IF(VLOOKUP(2,'RESUMEN LOTES'!B7:E15,4,FALSE)<G18,"Importe ofertado supera max. € "&VLOOKUP(2,'RESUMEN LOTES'!B7:E15,4,FALSE),IF(COUNTIFS($M$29:$M$67,"ok")<>15,"Debe revisar Desglose 2 IMPORTE ofertado POR SEDE","Aportación de ficheros ofimáticos soporte del Informe Final"))))),"TOTAL OFERTA LOTE incorrecto, no es un dato numérico") -> Lote NO ofertado, introduzca TOTAL OFERTA LOTE | G16: =+IF(OR($G$18=0,LEN($G$18)=0),"¿?",IF(COUNTIFS($M$29:$M$67,"ok")<>15,"¿?",+IF(C16="Debe revisar Desglose 2 IMPORTE ofertado POR SEDE","¿?",+SUMIFS($J$79:$J$171,$H$79:$H$171,C16)))) -> ¿? | H16: 0.05
A17: =+'Anx I pg 1 oferta'!$B$18&"T1_L02_DAB5" -> T1_L02_DAB5 | B17: A.B-05 | C17: =+IFERROR(IF(OR($G$18=0,LEN($G$18)=0),"Lote NO ofertado, introduzca TOTAL OFERTA LOTE",IF(OR($G$18<0,+$G$18/$G$18<>1),"Total oferta Lote incorrecto (no numérico o negativo)",IF($G$18<>TRUNC($G$18,2),"ERROR: TOTAL OFERTA LOTE más de 2 decimales",IF(VLOOKUP(2,'RESUMEN LOTES'!B7:E15,4,FALSE)<G18,"Importe ofertado supera max. € "&VLOOKUP(2,'RESUMEN LOTES'!B7:E15,4,FALSE),IF(COUNTIFS($M$29:$M$67,"ok")<>15,"Debe revisar Desglose 2 IMPORTE ofertado POR SEDE","Registro en la Comunidad Autónoma o en el Ministerio para la Transición Ecológica del Informe Final"))))),"TOTAL OFERTA LOTE incorrecto, no es un dato numérico") -> Lote NO ofertado, introduzca TOTAL OFERTA LOTE | G17: =+IF(OR($G$18=0,LEN($G$18)=0),"¿?",IF(COUNTIFS($M$29:$M$67,"ok")<>15,"¿?",+IF(C17="Debe revisar Desglose 2 IMPORTE ofertado POR SEDE","¿?",+SUMIFS($J$79:$J$171,$H$79:$H$171,"Registro en la Comunidad Autónoma o en el MITECO del Informe Final")))) -> ¿? | H17: 0.5 | M17: chck total
A18: =+'Anx I pg 1 oferta'!$B$18&"T1_L02_TOT" -> T1_L02_TOT | F18: TOTAL OFERTA LOTE : | G18: 0 | N18: =+SUM(G13:G17) -> 0
A19: __0a
A20: __0a | C20: Fdo.:
A21: __0a
A22: __0a | B22: Desglose 2
A23: __0a
A24: __0a | B24: DESGLOSE DE IMPORTES OFERTADOS POR SEDE
A25: __0a | J25: =+COUNTIFS(M29:M37,"ok") -> 0
A26: =+'Anx I pg 1 oferta'!$B$18&"T2_L02_cab0a" -> T2_L02_cab0a | B26: LOTES | C26: SEDES INMUEBLES | E26: trabajo | F26: RELACIÓN % s/LOTE | G26: % ofertado s/Lote (4 decim.) | H26: IMPORTE ofertado POR SEDE | I26: TOTAL OFERTADO POR LOTE | M26: CHECK DETALLE LOTE POR SEDE
A27: =+'Anx I pg 1 oferta'!$B$18&"T2_L02_cab0b" -> T2_L02_cab0b | B27: LOTE-02 | C27: (plazo de 2 meses) | F27: 1
A28: =+'Anx I pg 1 oferta'!$B$18&"T2_L02_cab1(CA)" -> T2_L02_cab1(CA) | B28: . | C28: ARAGON | I28: =+G18 -> 0
A29: =+'Anx I pg 1 oferta'!$B$18&"T2_L02_inst_"&B29 -> T2_L02_inst_L02-01 | B29: L02-01 | C29: =+VLOOKUP(B29,'DATOS CENTROS'!B:F,4,FALSE) -> C.E. FM y OM LA MUELA (TERUEL) | E29: =+VLOOKUP(B29,'DATOS CENTROS'!B:F,3,FALSE) -> A + C | F29: =+VLOOKUP(B29,'DATOS CENTROS'!B:F,5,FALSE) -> 0.077 | G29: =+IF(OR($G$18=0,LEN($G$18)=0),"",+ROUND(((H29)/$G$18),6)) | M29: =+IFERROR(IF(N29<>TRUNC(N29,2),".+ de 2 decim.",IF(COUNTA($H$29:$H$67)<15,15-COUNTA($H$29:$H$67)&" Items ptes.ofertar ",IF(AND($G$18>0,$H$56>0,(N29)/(N29)=1),"ok","mal"))),"¿max.min.ofertado?") -> ¿max.min.ofertado? | N29: =+IF(OR($G$18=0,LEN($G$18)=0),"",IF(OR($G$18<0,+$G$18/$G$18<>1),"Total oferta Lote incorrecto (no numérico o negativo)",IF(AND($G$18>0,$H$56>0,H29<=0),"¿importe ofertado?",IF(AND($G$18>0,$H$56<0),"acum.of.oferta sede >oferta lote",IF(AND($G$18>0,$H$56<>0,H29<VLOOKUP(B29,'% admitidos'!A:M,11,FALSE)),+"min."&VLOOKUP(B29,'% admitidos'!A:M,11,FALSE),IF(AND($G$18>0,$H$56>0,H29>VLOOKUP(B29,'% admitidos'!A:M,13,FALSE)),+"max."&VLOOKUP(B29,'% admitidos'!A:M,13,FALSE),+H29))))))
A30: __0b | B30: . | C30: =+IF(LEN('Anx I pg 1 oferta'!$C$56)>0,"","min. "&VLOOKUP(B29,'% admitidos'!A:M,11,FALSE)&" - med. "&VLOOKUP(B29,'% admitidos'!A:M,12,FALSE)&" - max. "&VLOOKUP(B29,'% admitidos'!A:M,13,FALSE)) -> min. 0 - med. 0 - max. 0
A31: =+'Anx I pg 1 oferta'!$B$18&"T2_L02_inst_"&B31 -> T2_L02_inst_L02-02 | B31: L02-02 | C31: =+VLOOKUP(B31,'DATOS CENTROS'!B:F,4,FALSE) -> C.E. FM y OM TORRERO | E31: =+VLOOKUP(B31,'DATOS CENTROS'!B:F,3,FALSE) -> A + C | F31: =+VLOOKUP(B31,'DATOS CENTROS'!B:F,5,FALSE) -> 0.113 | G31: =+IF(OR($G$18=0,LEN($G$18)=0),"",+ROUND(((H31)/$G$18),6)) | M31: =+IFERROR(IF(N31<>TRUNC(N31,2),".+ de 2 decim.",IF(COUNTA($H$29:$H$67)<15,15-COUNTA($H$29:$H$67)&" Items ptes.ofertar ",IF(AND($G$18>0,$H$56>0,(N31)/(N31)=1),"ok","mal"))),"¿max.min.ofertado?") -> ¿max.min.ofertado? | N31: =+IF(OR($G$18=0,LEN($G$18)=0),"",IF(OR($G$18<0,+$G$18/$G$18<>1),"Total oferta Lote incorrecto (no numérico o negativo)",IF(AND($G$18>0,$H$56>0,H31<=0),"¿importe ofertado?",IF(AND($G$18>0,$H$56<0),"acum.of.oferta sede >oferta lote",IF(AND($G$18>0,$H$56>0,H31<VLOOKUP(B31,'% admitidos'!A:M,11,FALSE)),+"min."&VLOOKUP(B31,'% admitidos'!A:M,11,FALSE),IF(AND($G$18>0,$H$56>0,H31>VLOOKUP(B31,'% admitidos'!A:M,13,FALSE)),+"max."&VLOOKUP(B31,'% admitidos'!A:M,13,FALSE),+H31))))))
A32: __0b | B32: . | C32: =+IF(LEN('Anx I pg 1 oferta'!$C$56)>0,"","min. "&VLOOKUP(B31,'% admitidos'!A:M,11,FALSE)&" - med. "&VLOOKUP(B31,'% admitidos'!A:M,12,FALSE)&" - max. "&VLOOKUP(B31,'% admitidos'!A:M,13,FALSE)) -> min. 0 - med. 0 - max. 0
A33: =+'Anx I pg 1 oferta'!$B$18&"T2_L02_inst_"&B33 -> T2_L02_inst_L02-03 | B33: L02-03 | C33: =+VLOOKUP(B33,'DATOS CENTROS'!B:F,4,FALSE) -> C.T. RTVE Aragón (Zaragoza) | E33: =+VLOOKUP(B33,'DATOS CENTROS'!B:F,3,FALSE) -> A + C | F33: =+VLOOKUP(B33,'DATOS CENTROS'!B:F,5,FALSE) -> 0.13 | G33: =+IF(OR($G$18=0,LEN($G$18)=0),"",+ROUND(((H33)/$G$18),6)) | M33: =+IFERROR(IF(N33<>TRUNC(N33,2),".+ de 2 decim.",IF(COUNTA($H$29:$H$67)<15,15-COUNTA($H$29:$H$67)&" Items ptes.ofertar ",IF(AND($G$18>0,$H$56>0,(N33)/(N33)=1),"ok","mal"))),"¿max.min.ofertado?") -> ¿max.min.ofertado? | N33: =+IF(OR($G$18=0,LEN($G$18)=0),"",IF(OR($G$18<0,+$G$18/$G$18<>1),"Total oferta Lote incorrecto (no numérico o negativo)",IF(AND($G$18>0,$H$56>0,H33<=0),"¿importe ofertado?",IF(AND($G$18>0,$H$56<0),"acum.of.oferta sede >oferta lote",IF(AND($G$18>0,$H$56>0,H33<VLOOKUP(B33,'% admitidos'!A:M,11,FALSE)),+"min."&VLOOKUP(B33,'% admitidos'!A:M,11,FALSE),IF(AND($G$18>0,$H$56>0,H33>VLOOKUP(B33,'% admitidos'!A:M,13,FALSE)),+"max."&VLOOKUP(B33,'% admitidos'!A:M,13,FALSE),+H33))))))
A34: __0b | B34: . | C34: =+IF(LEN('Anx I pg 1 oferta'!$C$56)>0,"","min. "&VLOOKUP(B33,'% admitidos'!A:M,11,FALSE)&" - med. "&VLOOKUP(B33,'% admitidos'!A:M,12,FALSE)&" - max. "&VLOOKUP(B33,'% admitidos'!A:M,13,FALSE)) -> min. 0 - med. 0 - max. 0
A35: =+'Anx I pg 1 oferta'!$B$18&"T2_L02_inst_"&B35 -> T2_L02_inst_L02-04 | B35: L02-04 | C35: =+VLOOKUP(B35,'DATOS CENTROS'!B:F,4,FALSE) -> S.U. Zaragoza | E35: =+VLOOKUP(B35,'DATOS CENTROS'!B:F,3,FALSE) -> C | F35: =+VLOOKUP(B35,'DATOS CENTROS'!B:F,5,FALSE) -> 0.035 | G35: =+IF(OR($G$18=0,LEN($G$18)=0),"",+ROUND(((H35)/$G$18),6)) | M35: =+IFERROR(IF(N35<>TRUNC(N35,2),".+ de 2 decim.",IF(COUNTA($H$29:$H$67)<15,15-COUNTA($H$29:$H$67)&" Items ptes.ofertar ",IF(AND($G$18>0,$H$56>0,(N35)/(N35)=1),"ok","mal"))),"¿max.min.ofertado?") -> ¿max.min.ofertado? | N35: =+IF(OR($G$18=0,LEN($G$18)=0),"",IF(OR($G$18<0,+$G$18/$G$18<>1),"Total oferta Lote incorrecto (no numérico o negativo)",IF(AND($G$18>0,$H$56>0,H35<=0),"¿importe ofertado?",IF(AND($G$18>0,$H$56<0),"acum.of.oferta sede >oferta lote",IF(AND($G$18>0,$H$56>0,H35<VLOOKUP(B35,'% admitidos'!A:M,11,FALSE)),+"min."&VLOOKUP(B35,'% admitidos'!A:M,11,FALSE),IF(AND($G$18>0,$H$56>0,H35>VLOOKUP(B35,'% admitidos'!A:M,13,FALSE)),+"max."&VLOOKUP(B35,'% admitidos'!A:M,13,FALSE),+H35))))))
A36: __0b | B36: . | C36: =+IF(LEN('Anx I pg 1 oferta'!$C$56)>0,"","min. "&VLOOKUP(B35,'% admitidos'!A:M,11,FALSE)&" - med. "&VLOOKUP(B35,'% admitidos'!A:M,12,FALSE)&" - max. "&VLOOKUP(B35,'% admitidos'!A:M,13,FALSE)) -> min. 0 - med. 0 - max. 0
A37: =+'Anx I pg 1 oferta'!$B$18&"T2_L02_inst_"&B37 -> T2_L02_inst_L02-05 | B37: L02-05 | C37: =+VLOOKUP(B37,'DATOS CENTROS'!B:F,4,FALSE) -> U.I. RTVE Huesca | E37: =+VLOOKUP(B37,'DATOS CENTROS'!B:F,3,FALSE) -> C | F37: =+VLOOKUP(B37,'DATOS CENTROS'!B:F,5,FALSE) -> 0.025 | G37: =+IF(OR($G$18=0,LEN($G$18)=0),"",+ROUND(((H37)/$G$18),6)) | M37: =+IFERROR(IF(N37<>TRUNC(N37,2),".+ de 2 decim.",IF(COUNTA($H$29:$H$67)<15,15-COUNTA($H$29:$H$67)&" Items ptes.ofertar ",IF(AND($G$18>0,$H$56>0,(N37)/(N37)=1),"ok","mal"))),"¿max.min.ofertado?") -> ¿max.min.ofertado? | N37: =+IF(OR($G$18=0,LEN($G$18)=0),"",IF(OR($G$18<0,+$G$18/$G$18<>1),"Total oferta Lote incorrecto (no numérico o negativo)",IF(AND($G$18>0,$H$56>0,H37<=0),"¿importe ofertado?",IF(AND($G$18>0,$H$56<0),"acum.of.oferta sede >oferta lote",IF(AND($G$18>0,$H$56>0,H37<VLOOKUP(B37,'% admitidos'!A:M,11,FALSE)),+"min."&VLOOKUP(B37,'% admitidos'!A:M,11,FALSE),IF(AND($G$18>0,$H$56>0,H37>VLOOKUP(B37,'% admitidos'!A:M,13,FALSE)),+"max."&+ROUND(VLOOKUP(B37,'% admitidos'!A:M,13,FALSE),4),+H37))))))
A38: __0b | B38: . | C38: =+IF(LEN('Anx I pg 1 oferta'!$C$56)>0,"","min. "&VLOOKUP(B37,'% admitidos'!A:M,11,FALSE)&" - med. "&VLOOKUP(B37,'% admitidos'!A:M,12,FALSE)&" - max. "&+ROUND(VLOOKUP(B37,'% admitidos'!A:M,13,FALSE),6)) -> min. 0 - med. 0 - max. 0
A39: =+'Anx I pg 1 oferta'!$B$18&"T2_L02_inst_"&B39 -> T2_L02_inst_L02-06 | B39: L02-06 | C39: =+VLOOKUP(B39,'DATOS CENTROS'!B:F,4,FALSE) -> U.I. RTVE Teruel | E39: =+VLOOKUP(B39,'DATOS CENTROS'!B:F,3,FALSE) -> C | F39: =+VLOOKUP(B39,'DATOS CENTROS'!B:F,5,FALSE) -> 0.021 | G39: =+IF(OR($G$18=0,LEN($G$18)=0),"",+ROUND(((H39)/$G$18),6)) | M39: =+IFERROR(IF(N39<>TRUNC(N39,2),".+ de 2 decim.",IF(COUNTA($H$29:$H$67)<15,15-COUNTA($H$29:$H$67)&" Items ptes.ofertar ",IF(AND($G$18>0,$H$56>0,(N39)/(N39)=1),"ok","mal"))),"¿max.min.ofertado?") -> ¿max.min.ofertado? | N39: =+IF(OR($G$18=0,LEN($G$18)=0),"",IF(OR($G$18<0,+$G$18/$G$18<>1),"Total oferta Lote incorrecto (no numérico o negativo)",IF(AND($G$18>0,$H$56>0,H39<=0),"¿importe ofertado?",IF(AND($G$18>0,$H$56<0),"acum.of.oferta sede >oferta lote",IF(AND($G$18>0,$H$56>0,H39<VLOOKUP(B39,'% admitidos'!A:M,11,FALSE)),+"min."&VLOOKUP(B39,'% admitidos'!A:M,11,FALSE),IF(AND($G$18>0,$H$56>0,H39>VLOOKUP(B39,'% admitidos'!A:M,13,FALSE)),+"max."&VLOOKUP(B39,'% admitidos'!A:M,13,FALSE),+H39))))))
A40: __0b | B40: . | C40: =+IF(LEN('Anx I pg 1 oferta'!$C$56)>0,"","min. "&VLOOKUP(B39,'% admitidos'!A:M,11,FALSE)&" - med. "&VLOOKUP(B39,'% admitidos'!A:M,12,FALSE)&" - max. "&VLOOKUP(B39,'% admitidos'!A:M,13,FALSE)) -> min. 0 - med. 0 - max. 0
...

Sheet L3 MADR (Prado Rey)
A1: __0a
A2: __0a | B2: NOTA IMPORTANTE: ESTE DESGLOSE SE PRESENTARA FIRMADO EN FORMATO PDF
A3: __0a
A4: __0a
A5: __0a | H5: “A.T. para redacción de auditorías energéticas
A6: __0a | H6: y certificados energéticos de SEDES CRTVE"
A7: __0a | H7: Expediente n.º S/01533/2025
A8: __0a | B8: ANEXO I: DESGLOSE PRECIO LOTE 3
A9: __0a | B9: Desglose 1
A10: __0a | B10: S-01533-2025 - A.T. para redacción de auditorías energéticas y certificados energéticos de SEDES CRTVE
A11: __0a | B11: =CONCATENATE("Lote ",RIGHT(B8,2)," : ",VLOOKUP(_xlfn.NUMBERVALUE(RIGHT(B8,1)),'RESUMEN LOTES'!B:C,2,FALSE)) -> Lote 3 : Comunidad de Madrid, sede Prado del Rey
A12: =+'Anx I pg 1 oferta'!$B$18&"T1_L03_cab" -> T1_L03_cab | B12: ID | C12: ACTUACIONES BÁSICAS | G12: IMPORTE | H12: %
A13: =+'Anx I pg 1 oferta'!$B$18&"T1_L03_DAB1" -> T1_L03_DAB1 | B13: A.B-01 | C13: =+IFERROR(IF(OR($G$18=0,LEN($G$18)=0),"Lote NO ofertado, introduzca TOTAL OFERTA LOTE",IF(OR($G$18<0,+$G$18/$G$18<>1),"Total oferta Lote incorrecto (no numérico o negativo)",IF($G$18<>TRUNC($G$18,2),"ERROR: TOTAL OFERTA LOTE más de 2 decimales",IF(VLOOKUP(3,'RESUMEN LOTES'!B7:E15,4,FALSE)<G18,"Importe ofertado supera max. € "&VLOOKUP(3,'RESUMEN LOTES'!B7:E15,4,FALSE),IF(COUNTIFS($M$29:$M$64,"ok")<>9,"Debe revisar Desglose 2 IMPORTE ofertado POR SEDE","Recopilación de información y toma de datos"))))),"TOTAL OFERTA LOTE incorrecto, no es un dato numérico") -> Lote NO ofertado, introduzca TOTAL OFERTA LOTE | G13: =+IF(OR($G$18=0,LEN($G$18)=0),"¿?",IF(COUNTIFS($M$29:$M$64,"ok")<>9,"¿?",+IF(C13="Debe revisar Desglose 2 IMPORTE ofertado POR SEDE","¿?",+SUMIFS($J$76:$J$165,$H$76:$H$165,C13)))) -> ¿? | H13: 0.15
A14: =+'Anx I pg 1 oferta'!$B$18&"T1_L03_DAB2" -> T1_L03_DAB2 | B14: A.B-02 | C14: =+IFERROR(IF(OR($G$18=0,LEN($G$18)=0),"Lote NO ofertado, introduzca TOTAL OFERTA LOTE",IF(OR($G$18<0,+$G$18/$G$18<>1),"Total oferta Lote incorrecto (no numérico o negativo)",IF($G$18<>TRUNC($G$18,2),"ERROR: TOTAL OFERTA LOTE más de 2 decimales",IF(VLOOKUP(3,'RESUMEN LOTES'!B7:E15,4,FALSE)<G18,"Importe ofertado supera max. € "&VLOOKUP(3,'RESUMEN LOTES'!B7:E15,4,FALSE),IF(COUNTIFS($M$29:$M$64,"ok")<>9,"Debe revisar Desglose 2 IMPORTE ofertado POR SEDE","Análisis y evaluación, determinación del balance de energía"))))),"TOTAL OFERTA LOTE incorrecto, no es un dato numérico") -> Lote NO ofertado, introduzca TOTAL OFERTA LOTE | G14: =+IF(OR($G$18=0,LEN($G$18)=0),"¿?",IF(COUNTIFS($M$29:$M$64,"ok")<>9,"¿?",+IF(C14="Debe revisar Desglose 2 IMPORTE ofertado POR SEDE","¿?",+SUMIFS($J$76:$J$165,$H$76:$H$165,C14)))) -> ¿? | H14: 0.1
A15: =+'Anx I pg 1 oferta'!$B$18&"T1_L03_DAB3" -> T1_L03_DAB3 | B15: A.B-03 | C15: =+IFERROR(IF(OR($G$18=0,LEN($G$18)=0),"Lote NO ofertado, introduzca TOTAL OFERTA LOTE",IF(OR($G$18<0,+$G$18/$G$18<>1),"Total oferta Lote incorrecto (no numérico o negativo)",IF($G$18<>TRUNC($G$18,2),"ERROR: TOTAL OFERTA LOTE más de 2 decimales",IF(VLOOKUP(3,'RESUMEN LOTES'!B7:E15,4,FALSE)<G18,"Importe ofertado supera max. € "&VLOOKUP(3,'RESUMEN LOTES'!B7:E15,4,FALSE),IF(COUNTIFS($M$29:$M$64,"ok")<>9,"Debe revisar Desglose 2 IMPORTE ofertado POR SEDE","Redacción del Informe Final"))))),"TOTAL OFERTA LOTE incorrecto, no es un dato numérico") -> Lote NO ofertado, introduzca TOTAL OFERTA LOTE | G15: =+IF(OR($G$18=0,LEN($G$18)=0),"¿?",IF(COUNTIFS($M$29:$M$64,"ok")<>9,"¿?",+IF(C15="Debe revisar Desglose 2 IMPORTE ofertado POR SEDE","¿?",+SUMIFS($J$76:$J$165,$H$76:$H$165,C15)))) -> ¿? | H15: 0.2
A16: =+'Anx I pg 1 oferta'!$B$18&"T1_L03_DAB4" -> T1_L03_DAB4 | B16: A.B-04 | C16: =+IFERROR(IF(OR($G$18=0,LEN($G$18)=0),"Lote NO ofertado, introduzca TOTAL OFERTA LOTE",IF(OR($G$18<0,+$G$18/$G$18<>1),"Total oferta Lote incorrecto (no numérico o negativo)",IF($G$18<>TRUNC($G$18,2),"ERROR: TOTAL OFERTA LOTE más de 2 decimales",IF(VLOOKUP(3,'RESUMEN LOTES'!B7:E15,4,FALSE)<G18,"Importe ofertado supera max. € "&VLOOKUP(3,'RESUMEN LOTES'!B7:E15,4,FALSE),IF(COUNTIFS($M$29:$M$64,"ok")<>9,"Debe revisar Desglose 2 IMPORTE ofertado POR SEDE","Aportación de ficheros ofimáticos soporte del Informe Final"))))),"TOTAL OFERTA LOTE incorrecto, no es un dato numérico") -> Lote NO ofertado, introduzca TOTAL OFERTA LOTE | G16: =+IF(OR($G$18=0,LEN($G$18)=0),"¿?",IF(COUNTIFS($M$29:$M$64,"ok")<>9,"¿?",+IF(C16="Debe revisar Desglose 2 IMPORTE ofertado POR SEDE","¿?",+SUMIFS($J$76:$J$165,$H$76:$H$165,C16)))) -> ¿? | H16: 0.05
A17: =+'Anx I pg 1 oferta'!$B$18&"T1_L03_DAB5" -> T1_L03_DAB5 | B17: A.B-05 | C17: =+IFERROR(IF(OR($G$18=0,LEN($G$18)=0),"Lote NO ofertado, introduzca TOTAL OFERTA LOTE",IF(OR($G$18<0,+$G$18/$G$18<>1),"Total oferta Lote incorrecto (no numérico o negativo)",IF($G$18<>TRUNC($G$18,2),"ERROR: TOTAL OFERTA LOTE más de 2 decimales",IF(VLOOKUP(3,'RESUMEN LOTES'!B7:E15,4,FALSE)<G18,"Importe ofertado supera max. € "&VLOOKUP(3,'RESUMEN LOTES'!B7:E15,4,FALSE),IF(COUNTIFS($M$29:$M$64,"ok")<>9,"Debe revisar Desglose 2 IMPORTE ofertado POR SEDE","Registro en la Comunidad Autónoma o en el Ministerio para la Transición Ecológica del Informe Final"))))),"TOTAL OFERTA LOTE incorrecto, no es un dato numérico") -> Lote NO ofertado, introduzca TOTAL OFERTA LOTE | G17: =+IF(OR($G$18=0,LEN($G$18)=0),"¿?",IF(COUNTIFS($M$29:$M$64,"ok")<>9,"¿?",+IF(C17="Debe revisar Desglose 2 IMPORTE ofertado POR SEDE","¿?",+SUMIFS($J$76:$J$165,$H$76:$H$165,"Registro en la Comunidad Autónoma o en el MITECO del Informe Final")))) -> ¿? | H17: 0.5 | M17: chck total
A18: =+'Anx I pg 1 oferta'!$B$18&"T1_L03_TOT" -> T1_L03_TOT | F18: TOTAL OFERTA LOTE : | G18: 0 | N18: =+SUM(G13:G17) -> 0
A19: __0a
A20: __0a | C20: Fdo.:
A21: __0a
A22: __0a | B22: Desglose 2
A23: __0a
A24: __0a | B24: DESGLOSE DE IMPORTES OFERTADOS POR SEDE
A25: __0a | J25: =+COUNTIFS(M29:M37,"ok") -> 0
A26: =+'Anx I pg 1 oferta'!$B$18&"T2_L03_cab0a" -> T2_L03_cab0a | B26: LOTES | C26: SEDES INMUEBLES | E26: trabajo | F26: RELACIÓN % s/LOTE | G26: % ofertado s/Lote (4 decim.) | H26: IMPORTE ofertado POR SEDE | I26: TOTAL OFERTADO POR LOTE | M26: CHECK DETALLE LOTE POR SEDE
A27: =+'Anx I pg 1 oferta'!$B$18&"T2_L03_cab0b" -> T2_L03_cab0b | B27: LOTE-03 | C27: (plazo de 3 meses) | F27: 1
A28: =+'Anx I pg 1 oferta'!$B$18&"T2_L03_cab1(CA)" -> T2_L03_cab1(CA) | B28: . | C28: MADRID | I28: =+G18 -> 0
A29: =+'Anx I pg 1 oferta'!$B$18&"T2_L03_inst_"&B29 -> T2_L03_inst_L03-01 | B29: L03-01 | C29: =+VLOOKUP(B29,'DATOS CENTROS'!B:F,4,FALSE) -> TRANSFORMACIÓN FONDOS DIGITALES | E29: =+VLOOKUP(B29,'DATOS CENTROS'!B:F,3,FALSE) -> A + C | F29: =+VLOOKUP(B29,'DATOS CENTROS'!B:F,5,FALSE) -> 0.038 | G29: =+IF(OR($G$18=0,LEN($G$18)=0),"",+ROUND(((H29)/$G$18),6)) | M29: =+IFERROR(IF(N29<>TRUNC(N29,2),".+ de 2 decim.",IF(COUNTA($H$29:$H$64)<9,9-COUNTA($H$29:$H$64)&" Items ptes.ofertar ",IF(AND($G$18>0,$H$33>0,(N29)/(N29)=1),"ok","mal"))),"¿max.min.ofertado?") -> ¿max.min.ofertado? | N29: =+IF(OR($G$18=0,LEN($G$18)=0),"",IF(OR($G$18<0,+$G$18/$G$18<>1),"Total oferta Lote incorrecto (no numérico o negativo)",IF(AND($G$18>0,$H$33>0,H29<=0),"¿importe ofertado?",IF(AND($G$18>0,$H$33<0),"acum.of.oferta sede >oferta lote",IF(AND($G$18>0,$H$33<>0,H29<VLOOKUP(B29,'% admitidos'!A:M,11,FALSE)),+"min."&VLOOKUP(B29,'% admitidos'!A:M,11,FALSE),IF(AND($G$18>0,$H$33>0,H29>VLOOKUP(B29,'% admitidos'!A:M,13,FALSE)),+"max."&VLOOKUP(B29,'% admitidos'!A:M,13,FALSE),+H29))))))
A30: __0b | B30: . | C30: =+IF(LEN('Anx I pg 1 oferta'!$C$56)>0,"","min. "&VLOOKUP(B29,'% admitidos'!A:M,11,FALSE)&" - med. "&VLOOKUP(B29,'% admitidos'!A:M,12,FALSE)&" - max. "&VLOOKUP(B29,'% admitidos'!A:M,13,FALSE)) -> min. 0 - med. 0 - max. 0
A31: =+'Anx I pg 1 oferta'!$B$18&"T2_L03_inst_"&B31 -> T2_L03_inst_L03-02 | B31: L03-02 | C31: =+VLOOKUP(B31,'DATOS CENTROS'!B:F,4,FALSE) -> DIGITALIZACIÓN | E31: =+VLOOKUP(B31,'DATOS CENTROS'!B:F,3,FALSE) -> A + C | F31: =+VLOOKUP(B31,'DATOS CENTROS'!B:F,5,FALSE) -> 0.044 | G31: =+IF(OR($G$18=0,LEN($G$18)=0),"",+ROUND(((H31)/$G$18),6)) | M31: =+IFERROR(IF(N31<>TRUNC(N31,2),".+ de 2 decim.",IF(COUNTA($H$29:$H$64)<9,9-COUNTA($H$29:$H$64)&" Items ptes.ofertar ",IF(AND($G$18>0,$H$33>0,(N31)/(N31)=1),"ok","mal"))),"¿max.min.ofertado?") -> ¿max.min.ofertado? | N31: =+IF(OR($G$18=0,LEN($G$18)=0),"",IF(OR($G$18<0,+$G$18/$G$18<>1),"Total oferta Lote incorrecto (no numérico o negativo)",IF(AND($G$18>0,$H$33>0,H31<=0),"¿importe ofertado?",IF(AND($G$18>0,$H$33<0),"acum.of.oferta sede >oferta lote",IF(AND($G$18>0,$H$33>0,H31<VLOOKUP(B31,'% admitidos'!A:M,11,FALSE)),+"min."&VLOOKUP(B31,'% admitidos'!A:M,11,FALSE),IF(AND($G$18>0,$H$33>0,H31>VLOOKUP(B31,'% admitidos'!A:M,13,FALSE)),+"max."&VLOOKUP(B31,'% admitidos'!A:M,13,FALSE),+H31))))))
A32: __0b | B32: . | C32: =+IF(LEN('Anx I pg 1 oferta'!$C$56)>0,"","min. "&VLOOKUP(B31,'% admitidos'!A:M,11,FALSE)&" - med. "&VLOOKUP(B31,'% admitidos'!A:M,12,FALSE)&" - max. "&VLOOKUP(B31,'% admitidos'!A:M,13,FALSE)) -> min. 0 - med. 0 - max. 0
A33: =+'Anx I pg 1 oferta'!$B$18&"T2_L03_inst_"&B33 -> T2_L03_inst_L03-03 | B33: L03-03 | C33: =+VLOOKUP(B33,'DATOS CENTROS'!B:F,4,FALSE) -> CASA DE LA RADIO | E33: =+VLOOKUP(B33,'DATOS CENTROS'!B:F,3,FALSE) -> A + C | F33: =+VLOOKUP(B33,'DATOS CENTROS'!B:F,5,FALSE) -> 0.235 | G33: =+IF(OR($G$18=0,LEN($G$18)=0),"",1-SUM(G29:G32)-SUM(G35:G64)) | H33: =+IF(OR($G$18=0,+LEN($G$18)=0),"",+$G$18-SUM(H29:H32)-SUM(H35:H64)) | M33: =+IFERROR(IF(COUNTA($H$29:$H$64)<9,9-COUNTA($H$29:$H$64)&" Items ptes.ofertar ",IF(AND($G$18>0,$H$37>0,(N33)/(N33)=1),"ok","mal")),"¿max.min.ofertado?") -> 8 Items ptes.ofertar | N33: =+IF(OR($G$18=0,LEN($G$18)=0),"",IF(OR($G$18<0,+$G$18/$G$18<>1),"Total oferta Lote incorrecto (no numérico o negativo)",IF(AND($G$18>0,$H$33>0,H33<=0),"¿importe ofertado?",IF(AND($G$18>0,$H$33<0),"acum.of.oferta sede >oferta lote",IF(AND($G$18>0,$H$33<>0,H33<VLOOKUP(B33,'% admitidos'!A:M,13,FALSE)),+"MIN."&VLOOKUP(B33,'% admitidos'!A:M,13,FALSE),IF(AND($G$18>0,$H$33>0,H33>VLOOKUP(B33,'% admitidos'!A:M,11,FALSE)),+"MAX."&VLOOKUP(B33,'% admitidos'!A:M,11,FALSE),+H33))))))
A34: __0b | B34: . | C34: =+IF(LEN('Anx I pg 1 oferta'!$C$56)>0,"","MAX. "&VLOOKUP(B33,'% admitidos'!A:M,11,FALSE)&" - med. "&VLOOKUP(B33,'% admitidos'!A:M,12,FALSE)&" - MIN. "&VLOOKUP(B33,'% admitidos'!A:M,13,FALSE)) -> MAX. 0 - med. 0 - MIN. 0
A35: =+'Anx I pg 1 oferta'!$B$18&"T2_L03_inst_"&B35 -> T2_L03_inst_L03-04 | B35: L03-04 | C35: =+VLOOKUP(B35,'DATOS CENTROS'!B:F,4,FALSE) -> EE.4-5-6 Y CONTROL CENTRAL | E35: =+VLOOKUP(B35,'DATOS CENTROS'!B:F,3,FALSE) -> A + C | F35: =+VLOOKUP(B35,'DATOS CENTROS'!B:F,5,FALSE) -> 0.066 | G35: =+IF(OR($G$18=0,LEN($G$18)=0),"",+ROUND(((H35)/$G$18),6)) | M35: =+IFERROR(IF(N35<>TRUNC(N35,2),".+ de 2 decim.",IF(COUNTA($H$29:$H$64)<9,9-COUNTA($H$29:$H$64)&" Items ptes.ofertar ",IF(AND($G$18>0,$H$33>0,(N35)/(N35)=1),"ok","mal"))),"¿max.min.ofertado?") -> ¿max.min.ofertado? | N35: =+IF(OR($G$18=0,LEN($G$18)=0),"",IF(OR($G$18<0,+$G$18/$G$18<>1),"Total oferta Lote incorrecto (no numérico o negativo)",IF(AND($G$18>0,$H$33>0,H35<=0),"¿importe ofertado?",IF(AND($G$18>0,$H$33<0),"acum.of.oferta sede >oferta lote",IF(AND($G$18>0,$H$33>0,H35<VLOOKUP(B35,'% admitidos'!A:M,11,FALSE)),+"min."&VLOOKUP(B35,'% admitidos'!A:M,11,FALSE),IF(AND($G$18>0,$H$33>0,H35>VLOOKUP(B35,'% admitidos'!A:M,13,FALSE)),+"max."&VLOOKUP(B35,'% admitidos'!A:M,13,FALSE),+H35))))))
A36: __0b | B36: . | C36: =+IF(LEN('Anx I pg 1 oferta'!$C$56)>0,"","min. "&VLOOKUP(B35,'% admitidos'!A:M,11,FALSE)&" - med. "&VLOOKUP(B35,'% admitidos'!A:M,12,FALSE)&" - max. "&VLOOKUP(B35,'% admitidos'!A:M,13,FALSE)) -> min. 0 - med. 0 - max. 0
A37: =+'Anx I pg 1 oferta'!$B$18&"T2_L03_inst_"&B37 -> T2_L03_inst_L03-05 | B37: L03-05 | C37: =+VLOOKUP(B37,'DATOS CENTROS'!B:F,4,FALSE) -> EDIFICIO TVE EE.1-2-3 Y CORONA | E37: =+VLOOKUP(B37,'DATOS CENTROS'!B:F,3,FALSE) -> A + C | F37: =+VLOOKUP(B37,'DATOS CENTROS'!B:F,5,FALSE) -> 0.22 | G37: =+IF(OR($G$18=0,LEN($G$18)=0),"",+ROUND(((H37)/$G$18),6)) | M37: =+IFERROR(IF(N37<>TRUNC(N37,2),".+ de 2 decim.",IF(COUNTA($H$29:$H$64)<9,9-COUNTA($H$29:$H$64)&" Items ptes.ofertar ",IF(AND($G$18>0,$H$33>0,(N37)/(N37)=1),"ok","mal"))),"¿max.min.ofertado?") -> ¿max.min.ofertado? | N37: =+IF(OR($G$18=0,LEN($G$18)=0),"",IF(OR($G$18<0,+$G$18/$G$18<>1),"Total oferta Lote incorrecto (no numérico o negativo)",IF(AND($G$18>0,$H$33>0,H37<=0),"¿importe ofertado?",IF(AND($G$18>0,$H$33<0),"acum.of.oferta sede >oferta lote",IF(AND($G$18>0,$H$33>0,H37<VLOOKUP(B37,'% admitidos'!A:M,11,FALSE)),+"min."&VLOOKUP(B37,'% admitidos'!A:M,11,FALSE),IF(AND($G$18>0,$H$33>0,H37>VLOOKUP(B37,'% admitidos'!A:M,13,FALSE)),+"max."&+ROUND(VLOOKUP(B37,'% admitidos'!A:M,13,FALSE),4),+H37))))))
A38: __0b | B38: . | C38: =+IF(LEN('Anx I pg 1 oferta'!$C$56)>0,"","min. "&VLOOKUP(B37,'% admitidos'!A:M,11,FALSE)&" - med. "&VLOOKUP(B37,'% admitidos'!A:M,12,FALSE)&" - max. "&+ROUND(VLOOKUP(B37,'% admitidos'!A:M,13,FALSE),6)) -> min. 0 - med. 0 - max. 0
A39: =+'Anx I pg 1 oferta'!$B$18&"T2_L03_inst_"&B39 -> T2_L03_inst_L03-06 | B39: L03-06 | C39: =+VLOOKUP(B39,'DATOS CENTROS'!B:F,4,FALSE) -> CONTROL ACCESOS | E39: =+VLOOKUP(B39,'DATOS CENTROS'!B:F,3,FALSE) -> A + C | F39: =+VLOOKUP(B39,'DATOS CENTROS'!B:F,5,FALSE) -> 0.027 | G39: =+IF(OR($G$18=0,LEN($G$18)=0),"",+ROUND(((H39)/$G$18),6)) | M39: =+IFERROR(IF(N39<>TRUNC(N39,2),".+ de 2 decim.",IF(COUNTA($H$29:$H$64)<9,9-COUNTA($H$29:$H$64)&" Items ptes.ofertar ",IF(AND($G$18>0,$H$33>0,(N39)/(N39)=1),"ok","mal"))),"¿max.min.ofertado?") -> ¿max.min.ofertado? | N39: =+IF(OR($G$18=0,LEN($G$18)=0),"",IF(OR($G$18<0,+$G$18/$G$18<>1),"Total oferta Lote incorrecto (no numérico o negativo)",IF(AND($G$18>0,$H$33>0,H39<=0),"¿importe ofertado?",IF(AND($G$18>0,$H$33<0),"acum.of.oferta sede >oferta lote",IF(AND($G$18>0,$H$33>0,H39<VLOOKUP(B39,'% admitidos'!A:M,11,FALSE)),+"min."&VLOOKUP(B39,'% admitidos'!A:M,11,FALSE),IF(AND($G$18>0,$H$33>0,H39>VLOOKUP(B39,'% admitidos'!A:M,13,FALSE)),+"max."&+ROUND(VLOOKUP(B39,'% admitidos'!A:M,13,FALSE),4),+H39))))))
A40: __0b | B40: . | C40: =+IF(LEN('Anx I pg 1 oferta'!$C$56)>0,"","min. "&VLOOKUP(B39,'% admitidos'!A:M,11,FALSE)&" - med. "&VLOOKUP(B39,'% admitidos'!A:M,12,FALSE)&" - max. "&+ROUND(VLOOKUP(B39,'% admitidos'!A:M,13,FALSE),6)) -> min. 0 - med. 0 - max. 0
...

Sheet L4 MADR (TorreEspaña y resto)
A1: __0a
A2: __0a | B2: NOTA IMPORTANTE: ESTE DESGLOSE SE PRESENTARA FIRMADO EN FORMATO PDF
A3: __0a
A4: __0a
A5: __0a | H5: “A.T. para redacción de auditorías energéticas
A6: __0a | H6: y certificados energéticos de SEDES CRTVE"
A7: __0a | H7: Expediente n.º S/01533/2025
A8: __0a | B8: ANEXO I: DESGLOSE PRECIO LOTE 4
A9: __0a | B9: Desglose 1
A10: __0a | B10: S-01533-2025 - A.T. para redacción de auditorías energéticas y certificados energéticos de SEDES CRTVE
A11: __0a | B11: =CONCATENATE("Lote ",RIGHT(B8,2)," : ",VLOOKUP(_xlfn.NUMBERVALUE(RIGHT(B8,1)),'RESUMEN LOTES'!B:C,2,FALSE)) -> Lote 4 : Comunidad de Madrid, sede Torrespaña, Dehesa de la Villa (IRTVE), inmuebles sin uso.
A12: =+'Anx I pg 1 oferta'!$B$18&"T1_L04_cab" -> T1_L04_cab | B12: ID | C12: ACTUACIONES BÁSICAS | G12: IMPORTE | H12: %
A13: =+'Anx I pg 1 oferta'!$B$18&"T1_L04_DAB1" -> T1_L04_DAB1 | B13: A.B-01 | C13: =+IFERROR(IF(OR($G$18=0,LEN($G$18)=0),"Lote NO ofertado, introduzca TOTAL OFERTA LOTE",IF(OR($G$18<0,+$G$18/$G$18<>1),"Total oferta Lote incorrecto (no numérico o negativo)",IF($G$18<>TRUNC($G$18,2),"ERROR: TOTAL OFERTA LOTE más de 2 decimales",IF(VLOOKUP(4,'RESUMEN LOTES'!B7:E15,4,FALSE)<G18,"Importe ofertado supera max. € "&VLOOKUP(4,'RESUMEN LOTES'!B7:E15,4,FALSE),IF(COUNTIFS($M$29:$M$64,"ok")<>8,"Debe revisar Desglose 2 IMPORTE ofertado POR SEDE","Recopilación de información y toma de datos"))))),"TOTAL OFERTA LOTE incorrecto, no es un dato numérico") -> Lote NO ofertado, introduzca TOTAL OFERTA LOTE | G13: =+IF(OR($G$18=0,LEN($G$18)=0),"¿?",IF(COUNTIFS($M$29:$M$64,"ok")<>8,"¿?",+IF(C13="Debe revisar Desglose 2 IMPORTE ofertado POR SEDE","¿?",+SUMIFS($J$76:$J$165,$H$76:$H$165,C13)))) -> ¿? | H13: 0.15
