Workbook

Sheet RESUMEN
B2: LICITADOR | C2: ANS | D2: EQUIPO TRABAJO | E2: TOTAL
C3: Max. 4 puntos | D3: Max. 5 puntos
B4: AYESA | C4: =+ANS!M12 -> 1.47625 | D4: =+'Equipo de trabajo'!E32 -> 2.1035714 | E4: =+C4+D4 -> 3.5798214
B5: INFOREIN | C5: =+ANS!N12 -> 4 | D5: =+'Equipo de trabajo'!H32 -> 4.7883929 | E5: =+C5+D5 -> 8.7883929
B6: INFOSER | C6: =ANS!O12 -> 3.01 | D6: ='Equipo de trabajo'!K32 -> 5 | E6: =+C6+D6 -> 8.01
B7: TELEFONICA | C7: =ANS!P12 -> 1.9475 | D7: ='Equipo de trabajo'!N32 -> 0.20357143 | E7: =+C7+D7 -> 2.1510714

Sheet ANS
B1: PUNTOS MAXIMOS | C1: OFERTADO | G1: VALOR OBJETIVO | H1: MEJORA | L1: MAYOR PORCENTAJE | M1: PUNTUACION
C2: AYESA | D2: INFOREIN | E2: INFOSER | F2: TELEFONICA | H2: AYESA | I2: INFOREIN | J2: INFOSER | K2: TELEFONICA | M2: AYESA | N2: INFOREIN | O2: INFOSER | P2: TELEFONICA
A3: Porcentaje mínimo de incidencias resultas en CAU N1 | B3: 0.45 | C3: 65 | D3: 70 | E3: 70 | F3: 70 | G3: 60 | H3: =+(C3 - $G3)/$G3 -> 0.083333333 | I3: =+(D3 - $G3)/$G3 -> 0.16666667 | J3: =+(E3 - $G3)/$G3 -> 0.16666667 | K3: =+(F3 - $G3)/$G3 -> 0.16666667 | L3: =MAX(H3:K3) -> 0.16666667 | M3: =+$B3*H3/$L3 -> 0.225 | N3: =+$B3*I3/$L3 -> 0.45 | O3: =+$B3*J3/$L3 -> 0.45 | P3: =+$B3*K3/$L3 -> 0.45
A4: Tiempo medio de espera de llamadas | B4: 0.45 | C4: 9.5 | D4: 6 | E4: 8 | F4: 8 | G4: 10 | H4: =+($G4-C4)/$G4 -> 0.05 | I4: =+($G4-D4)/$G4 -> 0.4 | J4: =+($G4-E4)/$G4 -> 0.2 | K4: =+($G4-F4)/$G4 -> 0.2 | L4: =MAX(H4:K4) -> 0.4 | M4: =+$B4*H4/$L4 -> 0.05625 | N4: =+$B4*I4/$L4 -> 0.45 | O4: =+$B4*J4/$L4 -> 0.225 | P4: =+$B4*K4/$L4 -> 0.225
A5: Porcentaje máximo de llamadas perdidas 12x5 | B5: 0.45 | C5: 3 | D5: 1.5 | E5: 2 | F5: 3 | G5: 4 | H5: =+($G5-C5)/$G5 -> 0.25 | I5: =+($G5-D5)/$G5 -> 0.625 | J5: =+($G5-E5)/$G5 -> 0.5 | K5: =+($G5-F5)/$G5 -> 0.25 | L5: =MAX(H5:K5) -> 0.625 | M5: =+$B5*H5/$L5 -> 0.18 | N5: =+$B5*I5/$L5 -> 0.45 | O5: =+$B5*J5/$L5 -> 0.36 | P5: =+$B5*K5/$L5 -> 0.18
A6: Porcentaje máximo de llamadas perdidas 24X7 | B6: 0.45 | C6: 3.5 | D6: 1 | E6: 2 | F6: 3 | G6: 4 | H6: =+($G6-C6)/$G6 -> 0.125 | I6: =+($G6-D6)/$G6 -> 0.75 | J6: =+($G6-E6)/$G6 -> 0.5 | K6: =+($G6-F6)/$G6 -> 0.25 | L6: =MAX(H6:K6) -> 0.75 | M6: =+$B6*H6/$L6 -> 0.075 | N6: =+$B6*I6/$L6 -> 0.45 | O6: =+$B6*J6/$L6 -> 0.3 | P6: =+$B6*K6/$L6 -> 0.15
A7: Tiempo medio de atención de incidencias vía Web/mail/chat | B7: 0.45 | C7: 9 | D7: 5 | E7: 5 | F7: 8 | G7: 10 | H7: =+($G7-C7)/$G7 -> 0.1 | I7: =+($G7-D7)/$G7 -> 0.5 | J7: =+($G7-E7)/$G7 -> 0.5 | K7: =+($G7-F7)/$G7 -> 0.2 | L7: =MAX(H7:K7) -> 0.5 | M7: =+$B7*H7/$L7 -> 0.09 | N7: =+$B7*I7/$L7 -> 0.45 | O7: =+$B7*J7/$L7 -> 0.45 | P7: =+$B7*K7/$L7 -> 0.18
A8: Tiempo medio de resolución de incidencias | B8: 0.45 | C8: 20 | D8: 15 | E8: 20 | F8: 25 | G8: 30 | H8: =+($G8-C8)/$G8 -> 0.33333333 | I8: =+($G8-D8)/$G8 -> 0.5 | J8: =+($G8-E8)/$G8 -> 0.33333333 | K8: =+($G8-F8)/$G8 -> 0.16666667 | L8: =MAX(H8:K8) -> 0.5 | M8: =+$B8*H8/$L8 -> 0.3 | N8: =+$B8*I8/$L8 -> 0.45 | O8: =+$B8*J8/$L8 -> 0.3 | P8: =+$B8*K8/$L8 -> 0.15
A9: Tiempo medio de resolución de averías en Madrid y Barcelona | B9: 0.45 | C9: 105 | D9: 75 | E9: 90 | F9: 90 | G9: 120 | H9: =+($G9-C9)/$G9 -> 0.125 | I9: =+($G9-D9)/$G9 -> 0.375 | J9: =+($G9-E9)/$G9 -> 0.25 | K9: =+($G9-F9)/$G9 -> 0.25 | L9: =MAX(H9:K9) -> 0.375 | M9: =+$B9*H9/$L9 -> 0.15 | N9: =+$B9*I9/$L9 -> 0.45 | O9: =+$B9*J9/$L9 -> 0.3 | P9: =+$B9*K9/$L9 -> 0.3
A10: Tiempo medio de resolución de averías en el resto de Comunidades | B10: 0.45 | C10: 300 | D10: 180 | E10: 240 | F10: 270 | G10: 300 | H10: =+($G10-C10)/$G10 -> 0 | I10: =+($G10-D10)/$G10 -> 0.4 | J10: =+($G10-E10)/$G10 -> 0.2 | K10: =+($G10-F10)/$G10 -> 0.1 | L10: =MAX(H10:K10) -> 0.4 | M10: =+$B10*H10/$L10 -> 0 | N10: =+$B10*I10/$L10 -> 0.45 | O10: =+$B10*J10/$L10 -> 0.225 | P10: =+$B10*K10/$L10 -> 0.1125
A11: Otros | B11: 0.4 | C11: 2 | D11: 2 | E11: 2 | F11: 1 | G11: 0 | H11: 2 | I11: 2 | J11: 2 | K11: 1 | L11: 2 | M11: =+$B11*H11/$L11 -> 0.4 | N11: =+$B11*I11/$L11 -> 0.4 | O11: =+$B11*J11/$L11 -> 0.4 | P11: =+$B11*K11/$L11 -> 0.2
A12: PUNTOS | B12: =SUM(B3:B11) -> 4 | M12: =SUM(M3:M11) -> 1.47625 | N12: =SUM(N3:N11) -> 4 | O12: =SUM(O3:O11) -> 3.01 | P12: =SUM(P3:P11) -> 1.9475

Sheet Equipo de trabajo
C1: AYESA | F1: INFOREIN | I1: INFOSER | L1: TELEFONICA
A2: SERVICIOS | B2: Recurso | C2: Certificados | D2: Experiencia | E2: Total | F2: Certificados | G2: Experiencia | H2: Total | I2: Certificados | J2: Experiencia | K2: Total | L2: Certificados | M2: Experiencia | N2: Total
A3: OPERACIÓN CAU | B3: 1 | C3: 4 | D3: 2 | E3: =MIN(C3*0.25,2)+MIN(D3*0.3,3) -> 1.6 | F3: 10 | G3: 12 | H3: =MIN(F3*0.25,2)+MIN(G3*0.3,3) -> 5 | I3: 9 | J3: 17.84 | K3: =MIN(I3*0.25,2)+MIN(J3*0.3,3) -> 5 | L3: 2 | M3: 0 | N3: =MIN(L3*0.25,2)+MIN(M3*0.3,3) -> 0.5
B4: 2 | C4: 6 | D4: 2 | E4: =MIN(C4*0.25,2)+MIN(D4*0.3,3) -> 2.1 | F4: 8 | G4: 7 | H4: =MIN(F4*0.25,2)+MIN(G4*0.3,3) -> 4.1 | I4: 8 | J4: 33.02 | K4: =MIN(I4*0.25,2)+MIN(J4*0.3,3) -> 5 | L4: 2 | M4: 0 | N4: =MIN(L4*0.25,2)+MIN(M4*0.3,3) -> 0.5
B5: 3 | C5: 5 | D5: 3 | E5: =MIN(C5*0.25,2)+MIN(D5*0.3,3) -> 2.15 | F5: 8 | G5: 21 | H5: =MIN(F5*0.25,2)+MIN(G5*0.3,3) -> 5 | I5: 8 | J5: 13.32 | K5: =MIN(I5*0.25,2)+MIN(J5*0.3,3) -> 5 | L5: 0 | M5: 0 | N5: =MIN(L5*0.25,2)+MIN(M5*0.3,3) -> 0
B6: 4 | C6: 4 | D6: 2 | E6: =MIN(C6*0.25,2)+MIN(D6*0.3,3) -> 1.6 | F6: 9 | G6: 12 | H6: =MIN(F6*0.25,2)+MIN(G6*0.3,3) -> 5 | I6: 8 | J6: 24.17 | K6: =MIN(I6*0.25,2)+MIN(J6*0.3,3) -> 5 | L6: 0 | M6: 0 | N6: =MIN(L6*0.25,2)+MIN(M6*0.3,3) -> 0
B7: 5 | C7: 5 | D7: 3 | E7: =MIN(C7*0.25,2)+MIN(D7*0.3,3) -> 2.15 | F7: 8 | G7: 11 | H7: =MIN(F7*0.25,2)+MIN(G7*0.3,3) -> 5 | I7: 8 | J7: 18.01 | K7: =MIN(I7*0.25,2)+MIN(J7*0.3,3) -> 5 | L7: 0 | M7: 0 | N7: =MIN(L7*0.25,2)+MIN(M7*0.3,3) -> 0
B8: 6 | C8: 4 | D8: 2 | E8: =MIN(C8*0.25,2)+MIN(D8*0.3,3) -> 1.6 | F8: 8 | G8: 21 | H8: =MIN(F8*0.25,2)+MIN(G8*0.3,3) -> 5 | I8: 8 | J8: 14.68 | K8: =MIN(I8*0.25,2)+MIN(J8*0.3,3) -> 5 | L8: 0 | M8: 0 | N8: =MIN(L8*0.25,2)+MIN(M8*0.3,3) -> 0
B9: 7 | C9: 6 | D9: 3 | E9: =MIN(C9*0.25,2)+MIN(D9*0.3,3) -> 2.4 | F9: 17 | G9: 10.5 | H9: =MIN(F9*0.25,2)+MIN(G9*0.3,3) -> 5 | I9: 8 | J9: 14.1 | K9: =MIN(I9*0.25,2)+MIN(J9*0.3,3) -> 5 | L9: 0 | M9: 0 | N9: =MIN(L9*0.25,2)+MIN(M9*0.3,3) -> 0
B10: 8 | C10: 5 | D10: 2 | E10: =MIN(C10*0.25,2)+MIN(D10*0.3,3) -> 1.85 | F10: 8 | G10: 19 | H10: =MIN(F10*0.25,2)+MIN(G10*0.3,3) -> 5 | I10: 8 | J10: 15.59 | K10: =MIN(I10*0.25,2)+MIN(J10*0.3,3) -> 5 | L10: 0 | M10: 0 | N10: =MIN(L10*0.25,2)+MIN(M10*0.3,3) -> 0
A11: MANTENIMIENTO HARDWARE Y SOFTWARE | B11: 1 | C11: 5 | D11: 3 | E11: =MIN(C11*0.25,2)+MIN(D11*0.3,3) -> 2.15 | F11: 8 | G11: 24 | H11: =MIN(F11*0.25,2)+MIN(G11*0.3,3) -> 5 | I11: 8 | J11: 13.17 | K11: =MIN(I11*0.25,2)+MIN(J11*0.3,3) -> 5 | L11: 0 | M11: 1 | N11: =MIN(L11*0.25,2)+MIN(M11*0.3,3) -> 0.3
B12: 2 | C12: 5 | D12: 2 | E12: =MIN(C12*0.25,2)+MIN(D12*0.3,3) -> 1.85 | F12: 9 | G12: 21 | H12: =MIN(F12*0.25,2)+MIN(G12*0.3,3) -> 5 | I12: 8 | J12: 17.01 | K12: =MIN(I12*0.25,2)+MIN(J12*0.3,3) -> 5 | L12: 0 | M12: 1 | N12: =MIN(L12*0.25,2)+MIN(M12*0.3,3) -> 0.3
B13: 3 | C13: 2 | D13: 3 | E13: =MIN(C13*0.25,2)+MIN(D13*0.3,3) -> 1.4 | F13: 10 | G13: 12 | H13: =MIN(F13*0.25,2)+MIN(G13*0.3,3) -> 5 | I13: 8 | J13: 13.59 | K13: =MIN(I13*0.25,2)+MIN(J13*0.3,3) -> 5 | L13: 0 | M13: 0 | N13: =MIN(L13*0.25,2)+MIN(M13*0.3,3) -> 0
B14: 4 | C14: 4 | D14: 3 | E14: =MIN(C14*0.25,2)+MIN(D14*0.3,3) -> 1.9 | F14: 8 | G14: 15 | H14: =MIN(F14*0.25,2)+MIN(G14*0.3,3) -> 5 | I14: 8 | J14: 14.34 | K14: =MIN(I14*0.25,2)+MIN(J14*0.3,3) -> 5 | L14: 0 | M14: 1 | N14: =MIN(L14*0.25,2)+MIN(M14*0.3,3) -> 0.3
B15: 5 | C15: 2 | D15: 2 | E15: =MIN(C15*0.25,2)+MIN(D15*0.3,3) -> 1.1 | F15: 9 | G15: 6.41 | H15: =MIN(F15*0.25,2)+MIN(G15*0.3,3) -> 3.923 | I15: 8 | J15: 13.59 | K15: =MIN(I15*0.25,2)+MIN(J15*0.3,3) -> 5 | L15: 0 | M15: 1 | N15: =MIN(L15*0.25,2)+MIN(M15*0.3,3) -> 0.3
B16: 6 | C16: 4 | D16: 3 | E16: =MIN(C16*0.25,2)+MIN(D16*0.3,3) -> 1.9 | F16: 9 | G16: 20 | H16: =MIN(F16*0.25,2)+MIN(G16*0.3,3) -> 5 | I16: 8 | J16: 17.26 | K16: =MIN(I16*0.25,2)+MIN(J16*0.3,3) -> 5 | L16: 0 | M16: 0 | N16: =MIN(L16*0.25,2)+MIN(M16*0.3,3) -> 0
A17: INSTALACIONES | B17: 1 | C17: 6 | D17: 3 | E17: =MIN(C17*0.25,2)+MIN(D17*0.3,3) -> 2.4 | F17: 10 | G17: 20 | H17: =MIN(F17*0.25,2)+MIN(G17*0.3,3) -> 5 | I17: 8 | J17: 17.1 | K17: =MIN(I17*0.25,2)+MIN(J17*0.3,3) -> 5 | L17: 0 | M17: 1 | N17: =MIN(L17*0.25,2)+MIN(M17*0.3,3) -> 0.3
B18: 2 | C18: 5 | D18: 4 | E18: =MIN(C18*0.25,2)+MIN(D18*0.3,3) -> 2.45 | F18: 9 | G18: 3.34 | H18: =MIN(F18*0.25,2)+MIN(G18*0.3,3) -> 3.002 | I18: 8 | J18: 13.26 | K18: =MIN(I18*0.25,2)+MIN(J18*0.3,3) -> 5 | L18: 0 | M18: 1 | N18: =MIN(L18*0.25,2)+MIN(M18*0.3,3) -> 0.3
B19: 3 | C19: 0 | D19: 3 | E19: =MIN(C19*0.25,2)+MIN(D19*0.3,3) -> 0.9 | F19: 9 | G19: 30.84 | H19: =MIN(F19*0.25,2)+MIN(G19*0.3,3) -> 5 | I19: 8 | J19: 13.26 | K19: =MIN(I19*0.25,2)+MIN(J19*0.3,3) -> 5 | L19: 0 | M19: 1 | N19: =MIN(L19*0.25,2)+MIN(M19*0.3,3) -> 0.3
B20: 4 | C20: 2 | D20: 3 | E20: =MIN(C20*0.25,2)+MIN(D20*0.3,3) -> 1.4 | F20: 8 | G20: 16 | H20: =MIN(F20*0.25,2)+MIN(G20*0.3,3) -> 5 | I20: 8 | J20: 13.25 | K20: =MIN(I20*0.25,2)+MIN(J20*0.3,3) -> 5 | L20: 0 | M20: 0 | N20: =MIN(L20*0.25,2)+MIN(M20*0.3,3) -> 0
B21: 5 | C21: 5 | D21: 4 | E21: =MIN(C21*0.25,2)+MIN(D21*0.3,3) -> 2.45 | F21: 9 | G21: 23.5 | H21: =MIN(F21*0.25,2)+MIN(G21*0.3,3) -> 5 | I21: 8 | J21: 13.59 | K21: =MIN(I21*0.25,2)+MIN(J21*0.3,3) -> 5 | L21: 0 | M21: 0 | N21: =MIN(L21*0.25,2)+MIN(M21*0.3,3) -> 0
B22: 6 | C22: 0 | D22: 3 | E22: =MIN(C22*0.25,2)+MIN(D22*0.3,3) -> 0.9 | F22: 9 | G22: 19 | H22: =MIN(F22*0.25,2)+MIN(G22*0.3,3) -> 5 | I22: 8 | J22: 13.51 | K22: =MIN(I22*0.25,2)+MIN(J22*0.3,3) -> 5 | L22: 0 | M22: 1 | N22: =MIN(L22*0.25,2)+MIN(M22*0.3,3) -> 0.3
B23: 7 | C23: 0 | D23: 3 | E23: =MIN(C23*0.25,2)+MIN(D23*0.3,3) -> 0.9 | F23: 11 | G23: 3.5 | H23: =MIN(F23*0.25,2)+MIN(G23*0.3,3) -> 3.05 | I23: 8 | J23: 14.01 | K23: =MIN(I23*0.25,2)+MIN(J23*0.3,3) -> 5 | L23: 0 | M23: 1 | N23: =MIN(L23*0.25,2)+MIN(M23*0.3,3) -> 0.3
A24: COMUNICACIONES | B24: 1 | C24: 8 | D24: 5 | E24: =MIN(C24*0.25,2)+MIN(D24*0.3,3) -> 3.5 | F24: 9 | G24: 18 | H24: =MIN(F24*0.25,2)+MIN(G24*0.3,3) -> 5 | I24: 9 | J24: 13.67 | K24: =MIN(I24*0.25,2)+MIN(J24*0.3,3) -> 5 | L24: 2 | M24: 0 | N24: =MIN(L24*0.25,2)+MIN(M24*0.3,3) -> 0.5
B25: 2 | C25: 8 | D25: 7 | E25: =MIN(C25*0.25,2)+MIN(D25*0.3,3) -> 4.1 | F25: 8 | G25: 16 | H25: =MIN(F25*0.25,2)+MIN(G25*0.3,3) -> 5 | I25: 9 | J25: 13.59 | K25: =MIN(I25*0.25,2)+MIN(J25*0.3,3) -> 5 | L25: 2 | M25: 0 | N25: =MIN(L25*0.25,2)+MIN(M25*0.3,3) -> 0.5
A26: DISTR. SOFTW., SOPORTE EXPERTO Y CIBERS. | B26: 1 | C26: 8 | D26: 7 | E26: =MIN(C26*0.25,2)+MIN(D26*0.3,3) -> 4.1 | F26: 16 | G26: 25 | H26: =MIN(F26*0.25,2)+MIN(G26*0.3,3) -> 5 | I26: 8 | J26: 15.26 | K26: =MIN(I26*0.25,2)+MIN(J26*0.3,3) -> 5 | L26: 2 | M26: 0 | N26: =MIN(L26*0.25,2)+MIN(M26*0.3,3) -> 0.5
B27: 2 | C27: 8 | D27: 5 | E27: =MIN(C27*0.25,2)+MIN(D27*0.3,3) -> 3.5 | F27: 9 | G27: 10.5 | H27: =MIN(F27*0.25,2)+MIN(G27*0.3,3) -> 5 | I27: 8 | J27: 13.26 | K27: =MIN(I27*0.25,2)+MIN(J27*0.3,3) -> 5 | L27: 2 | M27: 0 | N27: =MIN(L27*0.25,2)+MIN(M27*0.3,3) -> 0.5
A28: AUXILIARES | B28: 1 | C28: 4 | D28: 3 | E28: =MIN(C28*0.25,2)+MIN(D28*0.3,3) -> 1.9 | F28: 8 | G28: 14 | H28: =MIN(F28*0.25,2)+MIN(G28*0.3,3) -> 5 | I28: 9 | J28: 13.21 | K28: =MIN(I28*0.25,2)+MIN(J28*0.3,3) -> 5 | L28: 0 | M28: 0 | N28: =MIN(L28*0.25,2)+MIN(M28*0.3,3) -> 0
B29: 2 | C29: 5 | D29: 4 | E29: =MIN(C29*0.25,2)+MIN(D29*0.3,3) -> 2.45 | F29: 8 | G29: 13 | H29: =MIN(F29*0.25,2)+MIN(G29*0.3,3) -> 5 | I29: 9 | J29: 13.17 | K29: =MIN(I29*0.25,2)+MIN(J29*0.3,3) -> 5 | L29: 0 | M29: 0 | N29: =MIN(L29*0.25,2)+MIN(M29*0.3,3) -> 0
A30: INVENTARIO | B30: 1 | C30: 4 | D30: 4 | E30: =MIN(C30*0.25,2)+MIN(D30*0.3,3) -> 2.2 | F30: 8 | G30: 15 | H30: =MIN(F30*0.25,2)+MIN(G30*0.3,3) -> 5 | I30: 10 | J30: 13.26 | K30: =MIN(I30*0.25,2)+MIN(J30*0.3,3) -> 5 | L30: 0 | M30: 0 | N30: =MIN(L30*0.25,2)+MIN(M30*0.3,3) -> 0
A31: TOTAL SUMA | E31: =SUM(E3:E30) -> 58.9 | H31: =SUM(H3:H30) -> 134.075 | K31: =SUM(K3:K30) -> 140 | N31: =SUM(N3:N30) -> 5.7
A32: PUNTOS EQUIPO TRABAJO | E32: =+E31/28 -> 2.1035714 | H32: =+H31/28 -> 4.7883929 | K32: =+K31/28 -> 5 | N32: =+N31/28 -> 0.20357143
