Workbook

Sheet Valor ofertado total
B2: VALOR OFERTADO TOTAL
B5: DESCRIPCIÓN | C5: CONTRATO | D5: PRÓRROGA | E5: VALOR ESTIMADO
C6: año 1 | D6: año 2
B7: LOTE 1: MAT. OFICINA Y PAPEL FOTOCOPIADORA PARA PENÍNSULA E ISLAS BALEARES | C7: ='Lote 1'!P9 -> 0 | D7: =C7 -> 0 | E7: =C7+D7 -> 0
B8: LOTE 2: MAT. OFICINA Y PAPEL FOTOCOPIADORA ISLAS CANARIAS | C8: ='Lote 2'!F71 -> 0 | D8: ='Lote 2'!F71 -> 0 | E8: =C8+D8 -> 0
B9: LOTE 3: MAT. OFICINA Y PAPEL FOTOCOPIADORA CEUTA | C9: ='Lote 3'!F56 -> 0 | D9: ='Lote 3'!F56 -> 0 | E9: =C9+D9 -> 0
B10: LOTE 4: MAT. OFICINA Y PAPEL FOTOCOPIADORA MELILLA | C10: ='Lote 4'!F28 -> 0 | D10: ='Lote 4'!F28 -> 0 | E10: =C10+D10 -> 0
B13: TOTALES | E13: =E7+E8+E9+E10 -> 0

Sheet Lote 1
B2: LOTE 1: MATERIAL DE OFICINA Y PAPEL FOTOCOPIADORA PARA PENÍNSULA E ISLAS BALEARES
B4: ART. | C4: PRODUCTO | D4: UNIDADES | E4: IMPORTE UNITARIO | F4: IMPORTE TOTAL
B5: 1 | C5: ABRECARTAS METALICO | D5: 12 | F5: =D5*E5 -> 0 | I5: TRANSPORTE URGENTE 24h Material oficina y papel fotocopiadora | J5: Unidades estimadas | K5: Importe Unitario | L5: Oferta anual | O5: Lote 1 MATERIAL OFICINA Y PAPEL PARA PENÍNSULA E ISLAS BALEARES | P5: OFERTA TOTAL ANUAL
B6: 2 | C6: ALFOMBRILLA RATON CON GEL | D6: 173 | F6: =D6*E6 -> 0
B7: 3 | C7: ALMOHADILLA PARA SELLO 11X7CM AZUL | D7: 9 | F7: =D7*E7 -> 0 | I7: MATERIAL DE OFICINA | O7: Importe anual artículos de material de oficina y papel Fotocopiadora | P7: =F198 -> 0
B8: 4 | C8: ALMOHADILLA PARA SELLO 11X7CM NEGRO | D8: 4 | F8: =D8*E8 -> 0 | I8: Pedidos de menos de 5kg | J8: 10 | L8: =J8*K8 -> 0 | O8: Importe anual transporte urgente 24 h | P8: =L14 -> 0
B9: 5 | C9: ARCHIVADOR AZ FOLIO CON CAJA | D9: 51 | F9: =D9*E9 -> 0 | I9: Pedidos entre 5kg y 30kg | J9: 1 | L9: =J9*K9 -> 0 | O9: TOTAL OFERTA ANUAL | P9: =P7+P8 -> 0
B10: 6 | C10: BARRA PEGAMENTO 21 GRS. | D10: 226 | F10: =D10*E10 -> 0 | I10: 10 kilogramos adicionales | J10: 10 | L10: =J10*K10 -> 0
B11: 7 | C11: BLOC DE PIZARRA LISO | D11: 15 | F11: =D11*E11 -> 0 | I11: PAPEL FOTOCOPIADORA
B12: 8 | C12: BOLÍGRAFO CRISTAL AZUL SIMILAR BIC | D12: 6091 | F12: =D12*E12 -> 0 | I12: pedidos de menos de 100kg | J12: 100 | L12: =J12*K12 -> 0
B13: 9 | C13: BOLÍGRAFO CRISTAL NEGRO SIMILAR BIC | D13: 2621 | F13: =D13*E13 -> 0 | I13: pedidos entre 100kg y 250kg | J13: 10 | L13: =J13*K13 -> 0
B14: 10 | C14: BOLÍGRAFO CRISTAL ROJO SIMILAR BIC | D14: 809 | F14: =D14*E14 -> 0 | I14: TOTAL OFERTA ANUAL | L14: =L8+L9+L10+L12+L13 -> 0
B15: 11 | C15: BOLÍGRAFO ROLLER GEL AZUL SIMILAR PILOT | D15: 3070 | F15: =D15*E15 -> 0
B16: 12 | C16: BOLÍGRAFO ROLLER GEL NEGRO SIMILAR PILOT | D16: 1821 | F16: =D16*E16 -> 0
B17: 13 | C17: BOLÍGRAFO ROLLER GEL ROJO SIMILAR PILOT | D17: 777 | F17: =D17*E17 -> 0
B18: 14 | C18: BOLSA ACOLCHADA BURBUJAS KRAFT 115X215 EMBALAJE Ap.sup | D18: 30 | F18: =D18*E18 -> 0
B19: 15 | C19: BOLSA ACOLCHADA BURBUJAS KRAFT 150X210 EMBALAJE Ap.sup | D19: 700 | F19: =D19*E19 -> 0
B20: 16 | C20: BOLSA ACOLCHADA BURBUJAS KRAFT 180X265 EMBALAJE Ap.sup | D20: 1100 | F20: =D20*E20 -> 0
B21: 17 | C21: BOLSA ACOLCHADA BURBUJAS KRAFT 215X265 EMBALAJE Ap.sup | D21: 1000 | F21: =D21*E21 -> 0
B22: 18 | C22: BOLSA ACOLCHADA BURBUJAS KRAFT 220X340 EMBALAJE Ap.sup | D22: 650 | F22: =D22*E22 -> 0
B23: 19 | C23: BOLSA ACOLCHADA BURBUJAS KRAFT 270X360 EMBALAJE Ap.sup | D23: 1050 | F23: =D23*E23 -> 0
B24: 20 | C24: BOLSA ACOLCHADA BURBUJAS KRAFT 370X480 EMBALAJE Ap.sup | D24: 950 | F24: =D24*E24 -> 0
B25: 21 | C25: BOLSA KRAFT MARRON FUELLE 245X345X30 MM.EMBALAJE Ap.sup | D25: 800 | F25: =D25*E25 -> 0
B26: 22 | C26: BOLSA KRAFT MARRON FUELLE 325X430X60 MM.EMBALAJE Ap.sup | D26: 300 | F26: =D26*E26 -> 0
... B197: 193 | C197: PAPEL DIN-A3 80 GRS. BLANCO (paq 500) | D197: 50 | F197: =D197*E197 -> 0
B198: TOTAL OFERTA ANUAL | F198: =SUM(F5:F197) -> 0
B201: Las proposiciones económicas no podrán incluir precios unitarios superiores a los indicados en el PCAP cláusula 3ª, que tendrán la condición de máximos.

Sheet Lote 2
B2: LOTE 2: MATERIAL DE OFICINA Y PAPEL FOTOCOPIADORA ISLAS CANARIAS
B4: ART. | C4: PRODUCTO | D4: UNIDADES | E4: IMPORTE UNITARIO | F4: IMPORTE TOTAL
B5: 1 | C5: ALFOMBRILLA RATON CON GEL | D5: 1 | F5: =D5*E5 -> 0
B6: 2 | C6: ALMOHADILLA PARA SELLO 11X7CM AZUL | D6: 1 | F6: =D6*E6 -> 0
B7: 3 | C7: ALMOHADILLA PARA SELLO 11X7CM NEGRO | D7: 1 | F7: =D7*E7 -> 0
B8: 4 | C8: ARCHIVADOR AZ FOLIO CON CAJA | D8: 1 | F8: =D8*E8 -> 0
B9: 5 | C9: BARRA PEGAMENTO 21 GRS. | D9: 2 | F9: =D9*E9 -> 0
B10: 6 | C10: BOLÍGRAFO CRISTAL AZUL SIMILAR BIC | D10: 1 | F10: =D10*E10 -> 0
B11: 7 | C11: BOLÍGRAFO CRISTAL NEGRO SIMILAR BIC | D11: 2 | F11: =D11*E11 -> 0
B12: 8 | C12: BOLÍGRAFO CRISTAL ROJO SIMILAR BIC | D12: 1 | F12: =D12*E12 -> 0
B13: 9 | C13: BOLÍGRAFO ROLLER GEL AZUL SIMILAR PILOT | D13: 1 | F13: =D13*E13 -> 0
B14: 10 | C14: BOLÍGRAFO ROLLER GEL NEGRO SIMILAR PILOT | D14: 1 | F14: =D14*E14 -> 0
B15: 11 | C15: BOLÍGRAFO ROLLER GEL ROJO SIMILAR PILOT | D15: 1 | F15: =D15*E15 -> 0
B16: 12 | C16: BOLSA SOBRE BLANCO AUTOPEGADO 184x261 MM | D16: 1 | F16: =D16*E16 -> 0
... B70: 66 | C70: PAPEL DIN-A3 80 GRS. BLANCO (paq 500) | D70: 1 | F70: =D70*E70 -> 0
B71: TOTAL OFERTA ANUAL | F71: =SUM(F5:F70) -> 0
B74: Las proposiciones económicas no podrán incluir precios unitarios superiores a los indicados en el PCAP cláusula 3ª, que tendrán la condición de máximos.

Sheet Lote 3
B2: LOTE 3: MATERIAL OFICINA Y PAPEL FOTOCOPIADORA CEUTA
B4: ART. | C4: PRODUCTO | D4: UNIDADES | E4: IMPORTE UNITARIO | F4: IMPORTE TOTAL
B5: 1 | C5: ALFOMBRILLA RATON CON GEL | D5: 5 | F5: =D5*E5 -> 0
B6: 2 | C6: ALMOHADILLA PARA SELLO 11X7CM AZUL | D6: 1 | F6: =D6*E6 -> 0
B7: 3 | C7: ALMOHADILLA PARA SELLO 11X7CM NEGRO | D7: 1 | F7: =D7*E7 -> 0
B8: 4 | C8: BOLÍGRAFO CRISTAL AZUL SIMILAR BIC | D8: 15 | F8: =D8*E8 -> 0
B9: 5 | C9: BOLÍGRAFO CRISTAL NEGRO SIMILAR BIC | D9: 15 | F9: =D9*E9 -> 0
B10: 6 | C10: BOLÍGRAFO CRISTAL ROJO SIMILAR BIC | D10: 5 | F10: =D10*E10 -> 0
B11: 7 | C11: BOLÍGRAFO ROLLER GEL AZUL SIMILAR PILOT | D11: 10 | F11: =D11*E11 -> 0
B12: 8 | C12: BOLÍGRAFO ROLLER GEL NEGRO SIMILAR PILOT | D12: 10 | F12: =D12*E12 -> 0
B13: 9 | C13: BOLÍGRAFO ROLLER GEL ROJO SIMILAR PILOT | D13: 5 | F13: =D13*E13 -> 0
B14: 10 | C14: BOLSA SOBRE BLANCO AUTOPEGADO 184x261 MM | D14: 30 | F14: =D14*E14 -> 0
B15: 11 | C15: CELO INVISIBLE 19MMX33M | D15: 20 | F15: =D15*E15 -> 0
B16: 12 | C16: CELO TRANSPARENTE 19MMX33M | D16: 20 | F16: =D16*E16 -> 0
... B55: 51 | C55: PAPEL DIN-A3 80 GRS. BLANCO (paq 500) | D55: 1 | F55: =D55*E55 -> 0
B56: TOTAL OFERTA ANUAL | F56: =SUM(F5:F55) -> 0
B59: Las proposiciones económicas no podrán incluir precios unitarios superiores a los indicados en el PCAP cláusula 3ª, que tendrán la condición de máximos.

Sheet Lote 4
B2: LOTE 4: MATERIAL OFICINA Y PAPEL FOTOCOPIADORA MELILLA
B4: ART. | C4: PRODUCTO | D4: UNIDADES | E4: IMPORTE UNITARIO | F4: IMPORTE TOTAL
B5: 1 | C5: ALFOMBRILLA RATON CON GEL | D5: 8 | F5: =D5*E5 -> 0
B6: 2 | C6: BOLÍGRAFO CRISTAL AZUL SIMILAR BIC | D6: 60 | F6: =D6*E6 -> 0
B7: 3 | C7: CARPETA PLASTICO GOMA FOLIO SOLAPAS | D7: 20 | F7: =D7*E7 -> 0
B8: 4 | C8: CELO/PRECINTO MARRON EMBALAJE 50MMX66M. | D8: 20 | F8: =D8*E8 -> 0
B9: 5 | C9: CLIPS Nº 1 PEQUEÑO (CAJA 100 UNIDADES) | D9: 2 | F9: =D9*E9 -> 0
B10: 6 | C10: CORRECTOR CINTA SIMILAR TIPPEX | D10: 4 | F10: =D10*E10 -> 0
B11: 7 | C11: CUADERNO ESPIRAL CUARTILLA CUADRICULADO NATURAL (A5) | D11: 15 | F11: =D11*E11 -> 0
B12: 8 | C12: CUADERNO ESPIRAL CUARTILLA LISO NATURAL (A4) | D12: 15 | F12: =D12*E12 -> 0
B13: 9 | C13: FUNDA PLASTICO CRISTAL PORTAFOLIO (MENU) 90 M (100 UNIDADES) | D13: 1 | F13: =D13*E13 -> 0
B14: 10 | C14: GOMA DE BORRAR | D14: 10 | F14: =D14*E14 -> 0
B15: 11 | C15: LAPICERO GRAFITO Nº 2 HB | D15: 50 | F15: =D15*E15 -> 0
B16: 12 | C16: NOTAS ADHESIVAS CUADRADO 76X76 MM SIMILAR POST-IT UNIDAD | D16: 20 | F16: =D16*E16 -> 0
... B27: 23 | C27: PAPEL DIN-A3 80 GRS. BLANCO (paq 500) | D27: 1 | F27: =D27*E27 -> 0
B28: TOTAL OFERTA ANUAL | F28: =SUM(F5:F27) -> 0
B31: Las proposiciones económicas no podrán incluir precios unitarios superiores a los indicados en el PCAP cláusula 3ª, que tendrán la condición de máximos.
