Workbook

Sheet Instrucciones
B2: INSTRUCCIONES PARA LA PREPARACION DE ANEXO I PROPOSICIÓN ECONÓMICA
A4: 1) | B4: ESTE FICHERO EXCEL DEBE EMPLEARSE OBLIGATORIAMENTE PARA LA PREPARACION DE LA OFERTA ECONOMICA (Anexo I PCAP)
B5: EL EXCEL CUMPLIMENTADO SE PRESENTARA JUNTO CON LA OFERTA FIRMADA EN PDF (presentar en sobre C un fichero ZIP que incluya oferta en PDF firmada + EXCEL cumplimentado)
A7: 2) | B7: DEBEN PRESENTARSE LOS SIGUIENTES DOCUMENTOS EN CADA LOTE
B9: Anx I pg 1 oferta
B10: Desglose de precio por Comunidad Autónoma ofertada (exclusivamente el de la Comunidad Autonóma correspondiente al lote ofertado)
A14: 3) | B14: En "Anx I pg 1 oferta" solo se cumplimentarán datos de licitador y pie de firma (TODOS los importes ofertados se obtienen desde pestañas de Desglose de precio de cada Comunidad Autónoma ofertada)
B15: No se puede rectificar ningún ERROR en importes ofertados desde esta pestaña, debe corregirse en la comunidad autónoma de cada lote ofertado
A18: 4) | B18: El Desglose de precios por Comunidad incluye avisos para evitar errores en la cumplimentación.
A20: - | B20: SERVICIO FIJO :
C21: Solo se ofertarán importes SIN decimales (error si se introducen importes con decimales)
A24: - | B24: Si no se presupuestan TODAS las partidas de servicio de la comunidad autónoma, las sumas de la columna "3 años" darán ERROR
A26: - | B26: Las partidas en AZUL son fijas e invariables, no se pueden modificar y forman parte de la oferta ("MANT. CORRECTIVO MATERIALES < 500 € " y "PREVENTIVO, CORRECTIVO NO PROGRAMADO (2)")
A28: - | B28: El "importe hora mano de obra" no superará 37,00 eur, se introducirá con un máximo de 2 decimales (sin redondeos), cualquier importe no comprendido entre ambas cifras o que supere 2 decimales
B29: dará ERROR en los cálculos y se mostrarán avisos en el desglose de Precio que tenga errores.
A31: - | B31: IMPORTE OFERTADO MAXIMO: no superara EN NINGUN CASO el Valor estimado total de cada Comunidad Autónoma ofertada
A34: 5) | B34: VE MAXIMO : | C34: En esta pestaña se incluye detalle de total anualidad por Comunidad Autónoma y desglose de servicio variable incluidos en "PCAP 3ª Valor estimado.Precios máximos" (pgs.7-8 PCAP)

Sheet Anx I pg 1 oferta
A2: NOTA IMPORTANTE: ESTE ANEXO I Y TABLA/S DESGLOSE DE PRECIO SE PRESENTARAN FIRMADOS EN FORMATO PDF
J5: “Mantenimiento integral en distintas sedes de CRTVE MADRID y CATALUÑA"
J7: Expediente n.º S/04850/2025
A9: ANEXO I: MODELO DE PROPOSICIÓN ECONÓMICA
A12: D./Dª | F12: con D.N.I./NIE número
A13: (Nombre y dos apellidos)
A15: actuando en calidad de apoderado de la empresa
F16: (nombre o razón social)
A18: con NIF | C18: y domicilio social en
A20: conforme acredita con Poder.
A22: Se compromete a prestar el servicio con estricta sujeción a todas las condiciones técnicas y legales que se contienen en
A23: las Condiciones Generales de Contratación y de Condiciones Técnicas Particulares que ha examinado y expresamente
A24: acepta, señalando como características de su proposición las siguientes:
A26: A. El precio máximo ofertado, expresado sin IVA u otros impuestos indirectos equivalentes, es
A28: de | B28: =+IF(ISNUMBER($G$43),IF($G$43<=12029070,$G$43,"ERROR: no debe superar 12.029.070,00"),"error, falta importe TOTAL OFERTA") -> 0 | D28: € | G28: €
A30: Las proposiciones económicas incluirán un único precio para cada prestación, aplicable en cada uno de los años de ejecución del contrato, incluyendo los años de posibles prórrogas, en su caso.
A32: Las proposiciones económicas no podrán superar superar el importe total para cada uno de los lotes del valor estimado indicado en el PCAP cláusula 3ª.
A34: Será obligatorio cumplimentar todos los campos de los formularios en caso contrario se desestimará oferta.
A36: En caso de discrepancia entre el importe del precio unitario y el importe indicado en las casillas de estimación anual, prevalecerá el importe del precio unitario de cada servicio, y se corregirá el cálculo partiendo del precio unitario indicado.
B38: LOTE | C38: COMUNIDAD AUTONOMA | E38: Importe anual | G38: Importe oferta contrato (3 años)
B39: 1 | C39: Madrid | E39: =+IF(OR('AnxI 1 MADRID'!$E$23="",'AnxI 1 MADRID'!$E$23=0),"",IF('AnxI 1 MADRID'!$F$23="total>V.E.Máximo","error: oferta anual supera "&VLOOKUP("L01_TO",'VE MAXIMO'!$A$1:$F$32,5,FALSE),IF(ISNUMBER('AnxI 1 MADRID'!$E$23),'AnxI 1 MADRID'!$E$23,"error: revisar importes ofertados"))) | G39: =+IF(OR(E39=0,E39=""),0,IF('AnxI 1 MADRID'!$F$23="",0,IF('AnxI 1 MADRID'!$F$23="total>V.E.Máximo","supera Máximo 3 años ( "&2*VLOOKUP("L01_TO",'VE MAXIMO'!A3:F44,5,FALSE)&" )",IF('AnxI 1 MADRID'!$F$23>0,'AnxI 1 MADRID'!$F$23,"error: revisar importes ofertados")))) -> 0
E40: Total Lote 1 | G40: =+IF(ISNUMBER(+G39),+G39,"ERROR REVISAR OFERTA") -> 0
B41: 2 | C41: Cataluña
E42: Total Lote 2
E43: TOTAL OFERTA | G43: =+IF(ISNUMBER(+G39+G41),+G39+G41,"ERROR REVISAR OFERTA") -> 0
B46: Fdo.:
A52: Indicar importe anual de cada Comunidad Autónoma ofertada y las columnas “total de contrato (2 años)” de los lotes para los que se presenta oferta incluyendo, en cada caso, el desglose de precios del apartado B. Esta información solo puede completarse automáticamente cumplimentando el desglose de precios de la CCAA incluida en el lote a ofertar.

Sheet AnxI 1 MADRID
A1: ESTA TABLA DESGLOSE PRECIO DE OFERTA SE PRESENTARA FIRMADA EN FORMATO PDF
B2: =+"S-"&MID('Anx I pg 1 oferta'!J7,18,5)&"-"&RIGHT('Anx I pg 1 oferta'!J7,4)&" "&'Anx I pg 1 oferta'!J5&'Anx I pg 1 oferta'!J6 -> S-04850-2025 “Mantenimiento integral en distintas sedes de CRTVE MADRID y CATALUÑA"
B3: B. Desglose Precio
A5: L01_00 | B5: LOTE | E5: 1 Anualidad | F5: Importe contrato 3 años
A6: L01_00 | B6: 1 | C6: M A D R I D
A7: L01_01 | C7: PREVENTIVO GENERAL+CONDUCTIVO | F7: =IF(ISNUMBER(E7),+E7*3,0) -> 0
A8: L01_02 | C8: PREVENTIVO PROTECC. CONTRA INCENDIOS | F8: =IF(ISNUMBER(E8),+E8*3,0) -> 0
A9: L01_03 | C9: PREVENTIVO LEGIONELLA | F9: =IF(ISNUMBER(E9),+E9*3,0) -> 0
A10: L01_04 | B10: SERVICIO | C10: PREVENTIVO GRUPOS ELECTRÓGENOS | F10: =IF(ISNUMBER(E10),+E10*3,0) -> 0
A11: L01_05 | B11: FIJO | C11: PREVENTIVO DESBROCES/PODA | F11: =IF(ISNUMBER(E11),+E11*3,0) -> 0
A12: L01_06 | C12: PREVENTIVO APARATOS ELEVADORES Y LÍNEAS DE VIDA | F12: =IF(ISNUMBER(E12),+E12*3,0) -> 0
A13: L01_07 | C13: PREVENTIVO PUERTAS Y BARRERAS | F13: =IF(ISNUMBER(E13),+E13*3,0) -> 0
A14: L01_08 | C14: PREVENTIVO PARARRAYOS | F14: =IF(ISNUMBER(E14),+E14*3,0) -> 0
A15: L01_09 | C15: MANTENIMIENTO TÉCNICO-LEGAL | F15: =IF(ISNUMBER(E15),+E15*3,0) -> 0
A16: L01_10 | C16: TERMOGRAFÍAS | F16: =IF(ISNUMBER(E16),+E16*3,0) -> 0
A17: L01_11 | C17: MANT. CORRECTIVO MATERIALES < 500 € (1) | E17: 463680 | F17: =+E17*3 -> 1391040
A18: L01_12 | C18: PREVENTIVO, CORRECTIVO NO PROGRAMADO (2) | E18: 547120 | F18: =+E18*3 -> 1641360
A19: L01_sf | C19: suma servicio fijo | E19: =+IF(COUNTIFS((E7:E16),">0")>0,+IF(SUMPRODUCT(TRUNC(E7:E16))=+SUM(E7:E16),+SUM(E7:E18),"error sobran decimales"),0) -> 0 | F19: =+IF(COUNT(E7:E16)=0,0,IF(COUNT(E7:E16)<10,"hay partidas sin ofertar",IF(+E19*3=SUM(F7:F18),+SUM(F7:F18),"revisar decim.partidas ofertadas"))) -> 0
A20: _ | B20: SERVICIO
A21: L01_21 | B21: VARIABLE | C21: CORRECTIVO PROGRAMADO >500 € (3) | E21: =+IF(AND(E19=0,LEN(B27)=0),0,IF(AND(E19<>0,LEN(B27)=0),"¿precio hora?",+F27)) -> 0 | F21: =+IF(E19=0,0,IF(F19<>E19*3,"revisar partidas ofertadas",IF(E21="¿precio hora?","¿precio hora?",IF(ISNUMBER(+E21*3),+E21*3,F27)))) -> 0
A22: L01_sv | C22: suma servicio variable | E22: =+IF(ISNUMBER(E21),IF(SUM(E20:E21)>E20,SUM(E20:E21),0),"error correct.(3)") -> 0 | F22: =+IF(E22="error correct.(3)",E22,IF(E19=0,0,IF(F19<>E19*3,"revisar partidas",IF(ISNUMBER(+E22*3),+E22*3,"error correct.(3)")))) -> 0
A23: L01_TO | D23: TOTAL IMPORTE OFERTADO | E23: =+IF(ISNUMBER(+F19+F22),IF((+E19+E22)>VLOOKUP("L01_TO",'VE MAXIMO'!$A$1:$E$32,5,FALSE),"total>V.E.Máximo",IF((+E19+E22)*3=(+F19+F22),+E19+E22,"ERROR PARTIDAS")),"ERROR OFERTA") -> 0 | F23: =+IF(OR(E23=0,E23="total>V.E.Máximo"),E23,IF(ISNUMBER(+F19+F22),IF((+E19+E22)*3=(+F19+F22),+F19+F22,"ERROR PARTIDAS"),"ERROR OFERTA")) -> 0
A24: . | B24: AA | C24: .
A25: L01_Cd | B25: (3) Oferta Correctivo programado >500 €
A26: L01_Cd | B26: Precio hora de mano de obra ofertado (a) | C26: Horas estimadas | D26: Total mano de obra ofertada | E26: Importe estimado Materiales | F26: Total oferta correctivo >500 €
A27: L01_Ci | C27: 10350 | D27: =+IF(AND(E19=0,LEN(B27)=0),0,IF(B27>37,"precio hora > 37,00",+ROUND(TRUNC(B27,2)*C27,2))) -> 0 | E27: 227570 | F27: =+IF(LEN(B27)=0,0,IF(TRUNC(B27,2)<>B27,"¿decimales m.o.?",IF(ISNUMBER(+D27+E27),+D27+E27,"revisar precio hora"))) -> 0
B28: (a) No será superior a 37,00 € (máximo 2 decimales).
B29: =+IF(ISNUMBER(B27),IF(TRUNC(B27,2)<>B27,"ERROR: REVISAR DECIMALES PRECIO HORA M.O., MAXIMO 2",""),"")
B30: =+IF(AND(COUNT(E7:E18)>0,COUNT(E7:E18)<10),"ERROR: Deben presupuestarse todas las partidas (10) de Servicio Fijo","") -> ERROR: Deben presupuestarse todas las partidas (10) de Servicio Fijo
B32: Fdo.:

Sheet AnxI 2 CATALUÑA
A1: OFERTA PARA CATALUÑA DEBERA CUMPLIMENTARSE EN EXCEL SOLO PARA LOTE 2 (fichero excel "Mod Anexo I Lote 2.xlsx")
B2: =+"S-"&MID('Anx I pg 1 oferta'!J7,18,5)&"-"&RIGHT('Anx I pg 1 oferta'!J7,4)&" "&'Anx I pg 1 oferta'!J5&'Anx I pg 1 oferta'!J6 -> S-04850-2025 “Mantenimiento integral en distintas sedes de CRTVE MADRID y CATALUÑA"
B3: B. Desglose Precio
A5: L02_00 | B5: LOTE | E5: 1 Anualidad | F5: Importe contrato 3 años
A6: L02_00 | B6: 2 | C6: C A T A L U Ñ A
A7: L02_01 | C7: PREVENTIVO GENERAL+CONDUCTIVO | F7: =IF(ISNUMBER(E7),+E7*3,0) -> 0
A8: L02_02 | C8: PREVENTIVO PROTECC. CONTRA INCENDIOS | F8: =IF(ISNUMBER(E8),+E8*3,0) -> 0
A9: L02_03 | C9: PREVENTIVO LEGIONELLA | F9: =IF(ISNUMBER(E9),+E9*3,0) -> 0
A10: L02_04 | B10: SERVICIO | C10: PREVENTIVO GRUPOS ELECTRÓGENOS | F10: =IF(ISNUMBER(E10),+E10*3,0) -> 0
A11: L02_05 | B11: FIJO | C11: PREVENTIVO DESBROCES/PODA | F11: =IF(ISNUMBER(E11),+E11*3,0) -> 0
A12: L02_06 | C12: PREVENTIVO APARATOS ELEVADORES Y LÍNEAS DE VIDA | F12: =IF(ISNUMBER(E12),+E12*3,0) -> 0
A13: L02_07 | C13: PREVENTIVO PUERTAS Y BARRERAS | F13: =IF(ISNUMBER(E13),+E13*3,0) -> 0
A14: L02_08 | C14: PREVENTIVO PARARRAYOS | F14: =IF(ISNUMBER(E14),+E14*3,0) -> 0
A15: L02_09 | C15: MANTENIMIENTO TÉCNICO-LEGAL | F15: =IF(ISNUMBER(E15),+E15*3,0) -> 0
A16: L02_10 | C16: TERMOGRAFÍAS | F16: =IF(ISNUMBER(E16),+E16*3,0) -> 0
A17: L02_11 | C17: MANT. CORRECTIVO MATERIALES < 500 € (1) | E17: 169200 | F17: =+E17*3 -> 507600
A18: L02_12 | C18: PREVENTIVO, CORRECTIVO NO PROGRAMADO (2) | E18: 217700 | F18: =+E18*3 -> 653100
A19: L02_sf | C19: suma servicio fijo | E19: =+IF(COUNTIFS((E7:E16),">0")>0,+IF(SUMPRODUCT(TRUNC(E7:E16))=+SUM(E7:E16),+SUM(E7:E18),"error sobran decimales"),0) -> 0 | F19: =+IF(COUNT(E7:E16)=0,0,IF(COUNT(E7:E16)<10,"hay partidas sin ofertar",IF(+E19*3=SUM(F7:F18),+SUM(F7:F18),"revisar decim.partidas ofertadas"))) -> 0
A20: _ | B20: SERVICIO
A21: L02_21 | B21: VARIABLE | C21: CORRECTIVO PROGRAMADO >500 € (3) | F21: =+IF(E19=0,0,IF(F19<>E19*3,"revisar partidas ofertadas",IF(E21="¿precio hora?","¿precio hora?",IF(ISNUMBER(+E21*3),+E21*3,F27)))) -> 0
A22: L02_sv | C22: suma servicio variable | E22: =+IF(ISNUMBER(E21),IF(SUM(E20:E21)>E20,SUM(E20:E21),0),"error correct.(3)") -> error correct.(3) | F22: =+IF(E22="error correct.(3)",E22,IF(E19=0,0,IF(F19<>E19*3,"revisar partidas",IF(ISNUMBER(+E22*3),+E22*3,"error correct.(3)")))) -> error correct.(3)
A23: L02_TO | D23: TOTAL IMPORTE OFERTADO | E23: =+IF(ISNUMBER(+F19+F22),IF((+E19+E22)>VLOOKUP("L02_TO",'VE MAXIMO'!$A$1:$E$32,5,FALSE),"total>V.E.Máximo",IF((+E19+E22)*3=(+F19+F22),+E19+E22,"ERROR PARTIDAS")),"ERROR OFERTA") -> ERROR OFERTA | F23: =+IF(OR(E23=0,E23="total>V.E.Máximo"),E23,IF(ISNUMBER(+F19+F22),IF((+E19+E22)*3=(+F19+F22),+F19+F22,"ERROR PARTIDAS"),"ERROR OFERTA")) -> ERROR OFERTA
A24: . | B24: AA | C24: .
A25: L02_Cd | B25: (3) Oferta Correctivo programado >500 €
A26: L02_Cd | B26: Precio hora de mano de obra ofertado (a) | C26: Horas estimadas | D26: Total mano de obra ofertada | E26: Importe estimado Materiales | F26: Total oferta correctivo >500 €
A27: L02_Ci | C27: 3400 | D27: =+IF(AND(E19=0,LEN(B27)=0),0,IF(B27>37,"precio hora > 37,00",+ROUND(TRUNC(B27,2)*C27,2))) -> 0 | E27: 126200 | F27: =+IF(LEN(B27)=0,0,IF(TRUNC(B27,2)<>B27,"¿decimales m.o.?",IF(ISNUMBER(+D27+E27),+D27+E27,"revisar precio hora"))) -> 0
B28: (a) No será superior a 37,00 € (máximo 2 decimales).
B29: =+IF(ISNUMBER(B27),IF(TRUNC(B27,2)<>B27,"ERROR: REVISAR DECIMALES PRECIO HORA M.O., MAXIMO 2",""),"")
B30: =+IF(AND(COUNT(E7:E18)>0,COUNT(E7:E18)<10),"ERROR: Deben presupuestarse todas las partidas (10) de Servicio Fijo","") -> ERROR: Deben presupuestarse todas las partidas (10) de Servicio Fijo
B32: Fdo.:

Sheet VE MAXIMO
A1: . | B1: VALOR ESTIMADO MAXIMO POR COMUNIDAD AUTONOMA y CONCEPTO
A2: .
A3: L01_00 | B3: LOTE | E3: Importe Valor Estimado Anual
A4: L01_00
A5: L01_00 | B5: 1 | C5: MADRID
A6: L01_TO | D6: TOTAL IMPORTE | E6: 4009690
A7: . | B7: AA
A8: L01_Cd | B8: (3) Oferta Correctivo programado >500 €
A9: L01_Cd | B9: Importe estimado hora de mano de obra | C9: Horas estimadas | D9: Total mano de obra estimada | E9: Importe estimado Materiales | F9: Total oferta correctivo >500 €
A10: L01_Ci | B10: 37 | C10: 10350 | D10: =+B10*C10 -> 382950 | E10: 227570 | F10: =+D10+E10 -> 610520
A11: .
A12: .
A13: .
A14: .
A15: .
A16: .
A17: .
A18: L02_00 | B18: LOTE | E18: Importe Valor Estimado Anual
A19: L02_00
A20: L02_00 | B20: 2 | C20: CATALUÑA
A21: L02_TO | D21: TOTAL IMPORTE | E21: 1400460
A22: . | B22: AA
A23: L02_Cd | B23: (3) Oferta Correctivo programado >500 €
A24: L02_Cd | B24: Importe estimado hora de mano de obra | C24: Horas estimadas | D24: Total mano de obra estimada | E24: Importe estimado Materiales | F24: Total oferta correctivo >500 €
A25: L02_Ci | B25: 37 | C25: 3400 | D25: =+B25*C25 -> 125800 | E25: 126200 | F25: =+D25+E25 -> 252000
A26: .
A27: .
A28: .
A29: .
A30: .
A31: .
A32: .
